{"text_format":"1","workbook":"xlsx","n_sheets":19,"sheets":["Olimpíadas","lista_alunos","campeonato","classif-individual","CLASSIFICAÇÃO","Classif-grupos-1ºp","classif-grupos-2ºp","classif-grupos-3ºp","CLASSIF-FINAL-GRUPOS","outubro","novembro","dezembro","janeio","feverei","março","abril","maio","junho","CLASSIF-PERÍODOS"],"not_rendered":{"charts":3,"images":3,"macros":1,"external_links":0,"defined_names":1,"comments":0,"pivot_tables":0},"unopened":[],"bounds":{"document_bytes":16777216,"sheet_cells":100000,"rows_first":2000,"rows_last":500,"rows_between":2000,"halvings":0,"cell_chars":16384,"cell_head_chars":4096},"cells_cut":0,"cells_raw":0,"read":"whole","date_system":"1900"}

{"sheet":"Olimpíadas","index":0,"n_rows":19,"n_cols":9,"rows_kept":19,"cut":false,"hidden":false,"merged":[[42,1,43,10],[36,1,37,3],[38,1,39,3],[24,1,25,3],[26,1,27,3],[28,1,29,3],[30,1,31,3],[32,1,33,3],[34,1,35,3],[23,8,24,10],[25,8,26,10],[29,5,29,6],[30,5,30,6],[31,5,31,6],[32,5,32,6],[27,5,27,6],[5,1,8,12],[11,5,12,6],[13,5,14,6],[15,5,16,6],[17,5,18,6],[28,5,28,6],[23,5,24,6],[25,5,26,6],[21,8,22,10],[18,1,19,3],[18,8,19,10],[20,1,21,3],[22,1,23,3],[19,5,20,6],[21,5,22,6]]}
[]
[]
[]
[]
[]
[null,"Olimpíadas da Ortografia"]
[]
[]
[]
[]
[]
[]
[]
[]
[]
[]
[]
[]
[null,"CLASSIF MENSAL E ORDEM",null,null,null,null,null,null,"CLASSIF POR GRUPOS"]

{"sheet":"lista_alunos","index":1,"n_rows":35,"n_cols":8,"rows_kept":35,"cut":false,"hidden":false,"merged":[[8,11,8,13],[9,1,9,2],[3,1,3,8],[5,4,5,9],[6,1,6,3],[7,1,7,3]]}
[]
[]
[]
[null," Olimpíadas da Ortografia"]
[]
[null,null,null,null,"LISTA DE ALUNOS"]
[null,"DATA E HORA"]
[null,{"$f":"NOW()","v":"2022-03-07T21:12:40.540"}]
[null,null,null,null,null,null,"N.º","Nome Aluno(a)"]
[null,null,null,null,null,null,1,"a"]
[null,null,null,null,null,null,2,"B"]
[null,null,null,null,null,null,3,"C"]
[null,null,null,null,null,null,4,"D"]
[null,null,null,null,null,null,5,"E"]
[null,null,null,null,null,null,6,"F"]
[null,null,null,null,null,null,7,"G"]
[null,null,null,null,null,null,8,"H"]
[null,null,null,null,null,null,9,"I"]
[null,null,null,null,null,null,10,"J"]
[null,null,null,null,null,null,11,"L"]
[null,null,null,null,null,null,12,"M"]
[null,null,null,null,null,null,13,"N"]
[null,null,null,null,null,null,14,"O"]
[null,null,null,null,null,null,15,"P"]
[null,null,null,null,null,null,16]
[null,null,null,null,null,null,17]
[null,null,null,null,null,null,18]
[null,null,null,null,null,null,19]
[null,null,null,null,null,null,20]
[null,null,null,null,null,null,21]
[null,null,null,null,null,null,22]
[null,null,null,null,null,null,23]
[null,null,null,null,null,null,24]
[null,null,null,null,null,null,25]
[null,null,null,null,null,null,26]

{"sheet":"campeonato","index":2,"n_rows":100,"n_cols":55,"rows_kept":100,"cut":false,"hidden":false,"merged":[[96,17,96,19],[97,17,97,19],[98,17,98,19],[99,17,99,19],[71,2,72,19],[91,17,91,19],[92,17,92,19],[93,17,93,19],[94,17,94,19],[95,17,95,19],[86,17,86,19],[87,17,87,19],[88,17,88,19],[89,17,89,19],[90,17,90,19],[97,14,97,16],[98,14,98,16],[99,14,99,16],[73,17,73,19],[74,17,74,19],[75,17,75,19],[76,17,76,19],[77,17,77,19],[78,17,78,19],[79,17,79,19],[80,17,80,19],[81,17,81,19],[82,17,82,19],[83,17,83,19],[84,17,84,19],[85,17,85,19],[92,14,92,16],[93,14,93,16],[94,14,94,16],[95,14,95,16],[96,14,96,16],[87,14,87,16],[88,14,88,16],[89,14,89,16],[90,14,90,16],[91,14,91,16],[98,11,98,13],[92,11,92,13],[99,11,99,13],[73,14,73,16],[74,14,74,16],[75,14,75,16],[76,14,76,16],[77,14,77,16],[78,14,78,16],[79,14,79,16],[80,14,80,16],[81,14,81,16],[82,14,82,16],[83,14,83,16],[84,14,84,16],[85,14,85,16],[86,14,86,16],[93,11,93,13],[94,11,94,13],[95,11,95,13],[96,11,96,13],[97,11,97,13],[88,11,88,13],[89,11,89,13],[90,11,90,13],[91,11,91,13],[99,2,99,10],[73,11,73,13],[74,11,74,13],[75,11,75,13],[76,11,76,13],[77,11,77,13],[78,11,78,13],[79,11,79,13],[80,11,80,13],[81,11,81,13],[82,11,82,13],[83,11,83,13],[84,11,84,13],[85,11,85,13],[86,11,86,13],[87,11,87,13],[74,2,74,10],[75,2,75,10],[76,2,76,10],[77,2,77,10],[78,2,78,10],[79,2,79,10],[80,2,80,10],[81,2,81,10],[96,2,96,10],[97,2,97,10],[98,2,98,10],[89,2,89,10],[90,2,90,10],[91,2,91,10],[92,2,92,10],[93,2,93,10],[73,2,73,10],[82,2,82,10],[83,2,83,10],[84,2,84,10],[85,2,85,10],[86,2,86,10],[87,2,87,10],[88,2,88,10],[94,2,94,10],[95,2,95,10],[6,50,6,53],[6,30,6,33],[6,25,6,28],[6,35,6,38],[6,40,6,43],[6,45,6,48],[1,2,3,34],[4,39,4,40],[6,10,6,13],[6,15,6,18],[6,20,6,23],[2,36,3,39],[45,2,45,4],[46,2,46,4],[47,2,47,4],[48,2,48,4],[49,2,49,4],[50,2,50,4],[51,2,51,4],[52,2,52,4],[53,2,53,4],[54,2,54,4],[65,2,65,4],[66,2,66,4],[55,2,55,4],[56,2,56,4],[57,2,57,4],[58,2,58,4],[59,2,59,4],[60,2,60,4],[61,2,61,4],[62,2,62,4],[63,2,63,4],[64,2,64,4],[61,5,61,7],[62,5,62,7],[63,5,63,7],[64,5,64,7],[56,5,56,7],[57,5,57,7],[58,5,58,7],[59,5,59,7],[60,5,60,7],[51,5,51,7],[52,5,52,7],[53,5,53,7],[54,5,54,7],[55,5,55,7],[67,2,67,4],[68,2,68,4],[39,1,40,25],[42,5,42,7],[43,5,43,7],[44,5,44,7],[42,2,42,4],[43,2,43,4],[44,2,44,4],[47,5,47,7],[48,5,48,7],[49,5,49,7],[50,5,50,7],[45,5,45,7],[46,5,46,7],[65,5,65,7],[66,5,66,7],[67,5,67,7],[68,5,68,7]]}
[]
[null,null,"CAMPEONATO DAS OLIMPÍADAS DA ORTOGRAFIA"]
[]
[]
[]
[]
[null,null,"MESES DO ANO",null,null,null,"setembro",null,null,null,"outubro",null,null,null,null,"novembro",null,null,null,null,"dezembro",null,null,null,null,"janeiro",null,null,null,null,"fevereiro",null,null,null,null,"março",null,null,null,null,"abril",null,null,null,null,"maio",null,null,null,null,"junho"]
["N.º","Nome Aluno(a)","Total ANUAL","F","B","J1","J2","J3","J4","Total","J5","J6","J7","J8","Total","J9","J10","J11","J12","Total","J13","J14","J15","J16","Total","j17","J18","J19","J20","Total","j21","J22","J23","J24","Total","J25","J26","J27","J28","Total","j29","J30","J31","J32","TOTAL","J33","J34","J35","J36","TOTAL","J37","J38","J39","J40","Total"]
[1,{"$f":"lista_alunos!H10","v":"a"},{"$f":"SUM($J9,$O9,$T9,$Y9,$AI9,$AN9,$AS9,$AX9,$BC9,)","v":360},{"$f":"COUNTIF($F9:$BB9,\"*F*\")","v":3},{"$f":"COUNTIF($F9:$BB9,\"*B*\")","v":1},54,4,98,4,{"$f":"SUM(F9:I9)","v":160},136,"F","F",12,{"$f":"SUM(K9:N9)","v":148},"B","F",1,null,{"$f":"SUM(P9:S9)","v":1},1,2,1,3,{"$f":"SUM(U9:X9)","v":7},2,null,null,5,{"$f":"SUM(Z9:AC9)","v":7},1,null,null,3,{"$f":"SUM(AE9:AH9)","v":4},2,null,null,30,{"$f":"SUM(AJ9:AM9)","v":32},null,null,null,null,{"$f":"SUM(AO9:AR9)","v":0},null,null,null,3,{"$f":"SUM(AT9:AW9)","v":3},null,1,4,null,{"$f":"SUM(AY9:BB9)","v":5}]
[2,{"$f":"lista_alunos!H11","v":"B"},{"$f":"SUM($J10,$O10,$T10,$Y10,$AI10,$AN10,$AS10,$AX10,$BC10,)","v":124},{"$f":"COUNTIF($F10:$BB10,\"*F*\")","v":1},{"$f":"COUNTIF($F10:$BB10,\"*B*\")","v":0},2,18,34,null,{"$f":"SUM(F10:I10)","v":54},48,"F",22,null,{"$f":"SUM(K10:N10)","v":70},null,null,null,null,{"$f":"SUM(P10:S10)","v":0},null,null,null,null,{"$f":"SUM(U10,X10)","v":0},null,null,null,null,{"$f":"SUM(Z10:AC10)","v":0},null,null,null,null,{"$f":"SUM(AE10:AH10)","v":0},null,null,null,null,{"$f":"SUM(AJ10:AM10)","v":0},null,null,null,null,{"$f":"SUM(AO10:AR10)","v":0},null,null,null,null,{"$f":"SUM(AT10:AW10)","v":0},null,null,null,null,{"$f":"SUM(AY10:BB10)","v":0}]
[3,{"$f":"lista_alunos!H12","v":"C"},283,{"$f":"COUNTIF($F11:$BB11,\"*F*\")","v":0},{"$f":"COUNTIF($F11:$BB11,\"*B*\")","v":0},23,100,22,25,170,12,48,null,27,87,null,null,null,null,0,null,null,null,null,0,null,null,null,null,0,null,null,null,null,0,22,null,null,4,26,null,null,null,null,0,null,null,null,null,0,null,null,null,null,0]
[4,{"$f":"lista_alunos!H13","v":"D"},134,{"$f":"COUNTIF($F12:$BB12,\"*F*\")","v":1},{"$f":"COUNTIF($F12:$BB12,\"*B*\")","v":0},60,7,5,null,72,16,"f",38,null,54,null,null,null,null,0,null,null,null,null,0,null,null,null,null,0,null,null,null,null,0,null,null,null,null,0,null,null,null,null,0,null,null,null,8,8,null,null,null,null,0]
[5,{"$f":"lista_alunos!H14","v":"E"},361,{"$f":"COUNTIF($F13:$BB13,\"*F*\")","v":0},0,80,24,68,null,172,137,52,null,null,189,null,null,null,null,0,null,null,null,null,0,null,7,null,null,7,null,null,null,null,0,null,null,null,null,0,null,null,null,null,0,null,null,null,null,0,null,null,null,null,0]
[6,{"$f":"lista_alunos!H15","v":"F"},108,{"$f":"COUNTIF($F14:$BB14,\"*F*\")","v":0},3,null,21,45,null,66,41,"b","B","B",41,null,null,null,null,0,null,null,null,null,0,null,null,null,null,0,null,null,null,null,0,1,null,null,null,1,null,null,null,null,0,null,null,null,null,0,null,null,null,null,0]
[7,{"$f":"lista_alunos!H16","v":"G"},155,0,1,null,null,null,null,0,"B",96,null,null,96,null,null,null,null,0,null,null,null,null,0,null,null,null,null,0,43,null,null,null,43,null,null,null,null,0,null,null,null,null,0,null,null,null,null,0,null,16,null,null,16]
[8,{"$f":"lista_alunos!H17","v":"H"},256,0,1,100,null,10,null,110,146,"b",null,null,146,null,null,null,null,0,null,null,null,null,0,null,null,null,null,0,null,null,null,null,0,null,null,null,null,0,null,null,null,null,0,null,null,null,null,0,null,null,null,null,0]
[9,{"$f":"lista_alunos!H18","v":"I"},176,0,0,null,null,null,null,0,74,102,null,null,176,null,null,null,null,0,null,null,null,null,0,null,null,null,null,0,null,null,null,null,0,null,null,null,null,0,null,null,null,null,0,null,null,null,null,0,null,null,null,null,0]
[10,{"$f":"lista_alunos!H19","v":"J"},139,1,0,null,null,null,null,0,121,"f",null,null,121,null,null,null,null,0,null,null,null,null,0,null,null,null,null,0,null,null,null,18,18,null,null,null,null,0,null,null,null,null,0,null,null,null,null,0,null,null,null,null,0]
[11,{"$f":"lista_alunos!H20","v":"L"},15,1,0,null,null,null,null,0,"F",15,null,null,15,null,null,null,null,0,null,null,null,null,0,null,null,null,null,0,null,null,null,null,0,null,null,null,null,0,null,null,null,null,0,null,null,null,null,0,null,null,null,null,0]
[12,{"$f":"lista_alunos!H21","v":"M"},135,0,1,null,null,null,null,0,"B",70,65,null,135,null,null,null,null,0,null,null,null,null,0,null,null,null,null,0,null,null,null,null,0,null,null,null,null,0,null,null,null,null,0,null,null,null,null,0,null,null,null,null,0]
[13,{"$f":"lista_alunos!H22","v":"N"},285,0,0,null,null,null,null,0,125,80,null,59,264,null,null,null,null,0,null,null,null,null,0,null,null,null,null,0,null,null,null,null,0,null,null,null,21,21,null,null,null,null,0,null,null,null,null,0,null,null,null,null,0]
[14,{"$f":"lista_alunos!H23","v":"O"},142,0,0,null,null,null,null,0,61,81,null,null,142,null,null,null,null,0,null,null,null,null,0,null,null,null,null,0,null,null,null,null,0,null,null,null,null,0,null,null,null,null,0,null,null,null,null,0,null,null,null,null,0]
[15,{"$f":"lista_alunos!H24","v":"P"},374,0,0,null,null,null,null,0,111,86,97,null,294,null,null,null,null,0,null,null,null,null,0,null,null,null,null,0,null,null,null,null,0,80,null,null,null,80,null,null,null,null,0,null,null,null,null,0,null,null,null,null,0]
[16,{"$f":"lista_alunos!H25","v":0},226,0,0,null,null,null,12,12,126,88,null,null,214,null,null,null,null,0,null,null,null,null,0,null,null,null,null,0,null,null,null,null,0,null,null,null,null,0,null,null,null,null,0,null,null,null,null,0,null,null,null,null,0]
[17,{"$f":"lista_alunos!H26","v":0},194,0,0,null,null,null,null,0,100,94,null,null,194,null,null,null,null,0,null,null,null,null,0,null,null,null,null,0,null,null,null,null,0,null,null,null,null,0,null,null,null,null,0,null,null,null,null,0,null,null,null,null,0]
[18,{"$f":"lista_alunos!H27","v":0},0,0,0,null,null,null,null,0,null,null,null,null,0,null,null,null,null,0,null,null,null,null,0,null,null,null,null,0,null,null,null,null,0,null,null,null,null,0,null,null,null,null,0,null,null,null,null,0,null,null,null,null,0]
[19,{"$f":"lista_alunos!H28","v":0},0,0,0,null,null,null,null,0,null,null,null,null,0,null,null,null,null,0,null,null,null,null,0,null,null,null,null,0,null,null,null,null,0,null,null,null,null,0,null,null,null,null,0,null,null,null,null,0,null,null,null,null,0]
[20,{"$f":"lista_alunos!H29","v":0},0,0,0,null,null,null,null,0,null,null,null,null,0,null,null,null,null,0,null,null,null,null,0,null,null,null,null,0,null,null,null,null,0,null,null,null,null,0,null,null,null,null,0,null,null,null,null,0,null,null,null,null,0]
[21,{"$f":"lista_alunos!H30","v":0},0,0,0,null,null,null,null,0,null,null,null,null,0,null,null,null,null,0,null,null,null,null,0,null,null,null,null,0,null,null,null,null,0,null,null,null,null,0,null,null,null,null,0,null,null,null,null,0,null,null,null,null,0]
[22,{"$f":"lista_alunos!H31","v":0},0,0,0,null,null,null,null,0,null,null,null,null,0,null,null,null,null,0,null,null,null,null,0,null,null,null,null,0,null,null,null,null,0,null,null,null,null,0,null,null,null,null,0,null,null,null,null,0,null,null,null,null,0]
[23,{"$f":"lista_alunos!H32","v":0},0,0,0,null,null,null,null,0,null,null,null,null,0,null,null,null,null,0,null,null,null,null,0,null,null,null,null,0,null,null,null,null,0,null,null,null,null,0,null,null,null,null,0,null,null,null,null,0,null,null,null,null,0]
[24,{"$f":"lista_alunos!H33","v":0},0,0,0,null,null,null,null,0,null,null,null,null,0,null,null,null,null,0,null,null,null,null,0,null,null,null,null,0,null,null,null,null,0,null,null,null,null,0,null,null,null,null,0,null,null,null,null,0,null,null,null,null,0]
[25,{"$f":"lista_alunos!H34","v":0},0,0,0,null,null,null,null,0,null,null,null,null,0,null,null,null,null,0,null,null,null,null,0,null,null,null,null,0,null,null,null,null,0,null,null,null,null,0,null,null,null,null,0,null,null,null,null,0,null,null,null,null,0]
[26,{"$f":"lista_alunos!H35","v":0},99,0,0,null,null,99,null,99,null,null,null,null,0,null,null,null,null,0,null,null,null,null,0,null,null,null,null,0,null,null,null,null,0,null,null,null,null,0,null,null,null,null,0,null,null,null,null,0,null,null,null,null,0]
[null,"Total",{"$f":"SUM(C9:C34)","v":3566},{"$f":"SUM(D9:D34)","v":7},{"$f":"SUM(E9:E34)","v":7},{"$f":"SUM(F9:F34)","v":319},{"$f":"SUM(G9:G34)","v":174},381,41,915,1254,812,222,98,2386,0,0,1,0,1,1,2,1,3,7,2,7,0,5,14,44,0,0,21,65,105,0,0,55,160,0,0,0,0,0,0,0,0,11,11,0,17,4,0,21]
[]
[]
[]
[]
[null,"LISTA DA FALTA DE PRESENÇAS EM JOGOS DA ORTOGRAFIA"]
[]
[]
["N.º","Nome Aluno(a)","Árbitros",null,null,"FALTA PRESENÇA"]
[1,{"$f":"lista_alunos!H10","v":"a"},{"$f":"E9","v":1},null,null,{"$f":"E9","v":1}]
[2,{"$f":"lista_alunos!H11","v":"B"},0,null,null,{"$f":"E10","v":0}]
[3,{"$f":"lista_alunos!H12","v":"C"},0,null,null,0]
[4,{"$f":"lista_alunos!H13","v":"D"},0,null,null,0]
[5,{"$f":"lista_alunos!H14","v":"E"},0,null,null,0]
[6,{"$f":"lista_alunos!H15","v":"F"},3,null,null,3]
[7,{"$f":"lista_alunos!H16","v":"G"},1,null,null,1]
[8,{"$f":"lista_alunos!H17","v":"H"},1,null,null,1]
[9,{"$f":"lista_alunos!H18","v":"I"},0,null,null,0]
[10,{"$f":"lista_alunos!H19","v":"J"},0,null,null,0]
[11,{"$f":"lista_alunos!H20","v":"L"},0,null,null,0]
[12,{"$f":"lista_alunos!H21","v":"M"},1,null,null,1]
[13,{"$f":"lista_alunos!H22","v":"N"},0,null,null,0]
[14,{"$f":"lista_alunos!H23","v":"O"},0,null,null,0]
[15,{"$f":"lista_alunos!H24","v":"P"},0,null,null,0]
[16,{"$f":"lista_alunos!H25","v":0},0,null,null,0]
[17,{"$f":"lista_alunos!H26","v":0},0,null,null,0]
[18,{"$f":"lista_alunos!H27","v":0},0,null,null,0]
[19,{"$f":"lista_alunos!H28","v":0},0,null,null,0]
[20,{"$f":"lista_alunos!H29","v":0},0,null,null,0]
[21,{"$f":"lista_alunos!H30","v":0},0,null,null,0]
[22,{"$f":"lista_alunos!H31","v":0},0,null,null,0]
[23,{"$f":"lista_alunos!H32","v":0},0,null,null,0]
[24,{"$f":"lista_alunos!H33","v":0},0,null,null,0]
[25,{"$f":"lista_alunos!H34","v":0},0,null,null,0]
[26,{"$f":"lista_alunos!H35","v":0},0,null,null,0]
[]
[]
[null,null,"CLASSIFICAÇÃO POR PERÍODOS"]
[]
[null,null,"NOME ",null,null,null,null,null,null,null,null,"1ºPeríodo",null,null,"2ºPeríodo",null,null,"3ºPerído  "]
[null,null,{"$f":"lista_alunos!H10","v":"a"},null,null,null,null,null,null,null,null,{"$f":"SUM(J9,9,O9,T9,Y9)","v":325},null,null,{"$f":"SUM(AD9,AI9,AN9)","v":43},null,null,{"$f":"SUM(AS9,AX9,BC9)","v":8}]
[null,null,{"$f":"lista_alunos!H11","v":"B"},null,null,null,null,null,null,null,null,{"$f":"SUM(J10,9,O10,T10,Y10)","v":133},null,null,{"$f":"SUM(AD10,AI10,AN10)","v":0},null,null,{"$f":"SUM(AS10,AX10,BC10)","v":0}]
[null,null,{"$f":"lista_alunos!H12","v":"C"},null,null,null,null,null,null,null,null,266,null,null,26,null,null,0]
[null,null,{"$f":"lista_alunos!H13","v":"D"},null,null,null,null,null,null,null,null,135,null,null,0,null,null,8]
[null,null,{"$f":"lista_alunos!H14","v":"E"},null,null,null,null,null,null,null,null,370,null,null,7,null,null,0]
[null,null,{"$f":"lista_alunos!H15","v":"F"},null,null,null,null,null,null,null,null,116,null,null,1,null,null,0]
[null,null,{"$f":"lista_alunos!H16","v":"G"},null,null,null,null,null,null,null,null,105,null,null,43,null,null,16]
[null,null,{"$f":"lista_alunos!H17","v":"H"},null,null,null,null,null,null,null,null,265,null,null,0,null,null,0]
[null,null,{"$f":"lista_alunos!H18","v":"I"},null,null,null,null,null,null,null,null,185,null,null,0,null,null,0]
[null,null,{"$f":"lista_alunos!H19","v":"J"},null,null,null,null,null,null,null,null,130,null,null,18,null,null,0]
[null,null,{"$f":"lista_alunos!H20","v":"L"},null,null,null,null,null,null,null,null,24,null,null,0,null,null,0]
[null,null,{"$f":"lista_alunos!H21","v":"M"},null,null,null,null,null,null,null,null,144,null,null,0,null,null,0]
[null,null,{"$f":"lista_alunos!H22","v":"N"},null,null,null,null,null,null,null,null,273,null,null,21,null,null,0]
[null,null,{"$f":"lista_alunos!H23","v":"O"},null,null,null,null,null,null,null,null,151,null,null,0,null,null,0]
[null,null,{"$f":"lista_alunos!H24","v":"P"},null,null,null,null,null,null,null,null,303,null,null,80,null,null,0]
[null,null,{"$f":"lista_alunos!H25","v":0},null,null,null,null,null,null,null,null,235,null,null,0,null,null,0]
[null,null,{"$f":"lista_alunos!H26","v":0},null,null,null,null,null,null,null,null,203,null,null,0,null,null,0]
[null,null,{"$f":"lista_alunos!H27","v":0},null,null,null,null,null,null,null,null,9,null,null,0,null,null,0]
[null,null,{"$f":"lista_alunos!H28","v":0},null,null,null,null,null,null,null,null,9,null,null,0,null,null,0]
[null,null,{"$f":"lista_alunos!H29","v":0},null,null,null,null,null,null,null,null,9,null,null,0,null,null,0]
[null,null,{"$f":"lista_alunos!H30","v":0},null,null,null,null,null,null,null,null,9,null,null,0,null,null,0]
[null,null,{"$f":"lista_alunos!H31","v":0},null,null,null,null,null,null,null,null,9,null,null,0,null,null,0]
[null,null,{"$f":"lista_alunos!H32","v":0},null,null,null,null,null,null,null,null,9,null,null,0,null,null,0]
[null,null,{"$f":"lista_alunos!H33","v":0},null,null,null,null,null,null,null,null,9,null,null,0,null,null,0]
[null,null,{"$f":"lista_alunos!H34","v":0},null,null,null,null,null,null,null,null,9,null,null,0,null,null,0]
[null,null,{"$f":"lista_alunos!H35","v":0},null,null,null,null,null,null,null,null,108,null,null,0,null,null,0]

{"sheet":"classif-individual","index":3,"n_rows":70,"n_cols":20,"rows_kept":70,"cut":false,"hidden":false,"merged":[[61,2,61,3],[62,2,62,3],[63,2,63,3],[64,2,64,3],[65,2,65,3],[66,2,66,3],[67,2,67,3],[68,2,68,3],[69,2,69,3],[52,2,52,3],[53,2,53,3],[54,2,54,3],[55,2,55,3],[56,2,56,3],[57,2,57,3],[58,2,58,3],[59,2,59,3],[60,2,60,3],[43,2,43,3],[44,2,44,3],[45,2,45,3],[46,2,46,3],[47,2,47,3],[48,2,48,3],[49,2,49,3],[50,2,50,3],[51,2,51,3],[34,19,34,20],[35,19,35,20],[8,2,8,20],[25,19,25,20],[26,19,26,20],[27,19,27,20],[28,19,28,20],[29,19,29,20],[30,19,30,20],[31,19,31,20],[32,19,32,20],[33,19,33,20],[30,17,30,18],[31,17,31,18],[32,17,32,18],[33,17,33,18],[34,17,34,18],[35,17,35,18],[9,19,9,20],[10,19,10,20],[11,19,11,20],[12,19,12,20],[13,19,13,20],[14,19,14,20],[15,19,15,20],[16,19,16,20],[17,19,17,20],[18,19,18,20],[19,19,19,20],[20,19,20,20],[21,19,21,20],[22,19,22,20],[23,19,23,20],[24,19,24,20],[35,15,35,16],[9,17,9,18],[10,17,10,18],[11,17,11,18],[12,17,12,18],[13,17,13,18],[14,17,14,18],[15,17,15,18],[16,17,16,18],[17,17,17,18],[18,17,18,18],[19,17,19,18],[20,17,20,18],[21,17,21,18],[22,17,22,18],[23,17,23,18],[24,17,24,18],[25,17,25,18],[26,17,26,18],[27,17,27,18],[28,17,28,18],[29,17,29,18],[26,15,26,16],[17,15,17,16],[18,15,18,16],[19,15,19,16],[20,15,20,16],[21,15,21,16],[22,15,22,16],[23,15,23,16],[24,15,24,16],[25,15,25,16],[19,13,19,14],[27,13,27,14],[28,13,28,14],[29,13,29,14],[30,13,30,14],[31,15,31,16],[32,15,32,16],[33,15,33,16],[34,15,34,16],[29,15,29,16],[30,15,30,16],[28,15,28,16],[32,13,32,14],[33,13,33,14],[26,13,26,14],[33,11,33,12],[27,11,27,12],[28,11,28,12],[9,15,9,16],[10,15,10,16],[11,15,11,16],[12,15,12,16],[13,15,13,16],[14,15,14,16],[15,15,15,16],[16,15,16,16],[27,15,27,16],[12,13,12,14],[13,13,13,14],[14,13,14,14],[15,13,15,14],[21,13,21,14],[22,13,22,14],[23,13,23,14],[24,13,24,14],[25,13,25,14],[16,13,16,14],[17,13,17,14],[18,13,18,14],[31,8,31,9],[27,8,27,9],[28,8,28,9],[29,8,29,9],[30,8,30,9],[29,11,29,12],[30,11,30,12],[31,11,31,12],[32,11,32,12],[10,11,10,12],[11,11,11,12],[12,11,12,12],[13,11,13,12],[19,11,19,12],[20,11,20,12],[21,11,21,12],[22,11,22,12],[23,11,23,12],[14,11,14,12],[15,11,15,12],[16,11,16,12],[17,11,17,12],[18,11,18,12],[10,13,10,14],[20,13,20,14],[24,11,24,12],[25,11,25,12],[26,11,26,12],[31,13,31,14],[11,13,11,14],[29,5,29,6],[30,5,30,6],[11,8,11,9],[12,8,12,9],[13,8,13,9],[14,8,14,9],[15,8,15,9],[10,8,10,9],[25,8,25,9],[16,8,16,9],[17,8,17,9],[18,8,18,9],[19,8,19,9],[20,8,20,9],[16,5,16,6],[17,5,17,6],[18,5,18,6],[26,8,26,9],[21,8,21,9],[22,8,22,9],[23,8,23,9],[24,8,24,9],[32,2,32,3],[33,2,33,3],[24,5,24,6],[25,5,25,6],[31,2,31,3],[27,2,27,3],[28,2,28,3],[29,2,29,3],[30,2,30,3],[31,5,31,6],[32,5,32,6],[33,5,33,6],[26,5,26,6],[27,5,27,6],[28,5,28,6],[23,2,23,3],[24,2,24,3],[32,8,32,9],[33,8,33,9],[10,2,10,3],[25,2,25,3],[16,2,16,3],[17,2,17,3],[18,2,18,3],[19,2,19,3],[20,2,20,3],[9,5,9,6],[10,5,10,6],[11,5,11,6],[12,5,12,6],[13,5,13,6],[14,5,14,6],[15,5,15,6],[21,5,21,6],[22,5,22,6],[23,5,23,6],[19,5,19,6],[20,5,20,6],[9,8,9,9],[9,11,9,12],[9,13,9,14],[34,2,34,3],[35,2,35,3],[2,0,3,14],[34,5,34,6],[35,5,35,6],[34,13,34,14],[35,13,35,14],[5,4,6,8],[34,11,34,12],[35,11,35,12],[34,8,34,9],[35,8,35,9],[11,2,11,3],[12,2,12,3],[13,2,13,3],[14,2,14,3],[15,2,15,3],[26,2,26,3],[21,2,21,3],[22,2,22,3],[9,2,9,3]]}
[]
[]
[" CLASSIFICAÇÃO INDIVIDUAL"]
[]
[]
[null,null,null,null,"ANUAL"]
[]
[]
[null,null,"MESES DO ANO"]
[null,"Nome Aluno(a)","setembro",null,"outubro","novembro",null,"dezembro","janeiro",null,"fevereiro","março",null,"abril",null,"maio",null,"junho",null,"TOTAL"]
[null,{"$f":"lista_alunos!H10","v":"a"},{"$f":"campeonato!J9","v":160},null,{"$f":"campeonato!O9","v":148},{"$f":"campeonato!T9","v":1},null,{"$f":"campeonato!Y9","v":7},{"$f":"campeonato!AD9","v":7},null,{"$f":"campeonato!AI9","v":4},{"$f":"campeonato!AN9","v":32},null,{"$f":"campeonato!AS9","v":0},null,{"$f":"campeonato!AX9","v":3},null,{"$f":"campeonato!BC9","v":5},null,{"$f":"SUM(C11:S11)","v":367}]
[null,{"$f":"lista_alunos!H11","v":"B"},{"$f":"campeonato!J10","v":54},null,{"$f":"campeonato!O10","v":70},{"$f":"campeonato!T10","v":0},null,{"$f":"campeonato!Y10","v":0},{"$f":"campeonato!AD10","v":0},null,{"$f":"campeonato!AI10","v":0},{"$f":"campeonato!AN10","v":0},null,{"$f":"campeonato!AS10","v":0},null,{"$f":"campeonato!AX10","v":0},null,{"$f":"campeonato!BC10","v":0},null,{"$f":"SUM(C12:S12)","v":124}]
[null,{"$f":"lista_alunos!H12","v":"C"},{"$f":"campeonato!J11","v":170},null,{"$f":"campeonato!O11","v":87},{"$f":"campeonato!T11","v":0},null,{"$f":"campeonato!Y11","v":0},{"$f":"campeonato!AD11","v":0},null,{"$f":"campeonato!AI11","v":0},{"$f":"campeonato!AN11","v":26},null,{"$f":"campeonato!AS11","v":0},null,{"$f":"campeonato!AX11","v":0},null,{"$f":"campeonato!BC11","v":0},null,283]
[null,{"$f":"lista_alunos!H13","v":"D"},{"$f":"campeonato!J12","v":72},null,{"$f":"campeonato!O12","v":54},{"$f":"campeonato!T12","v":0},null,{"$f":"campeonato!Y12","v":0},{"$f":"campeonato!AD12","v":0},null,{"$f":"campeonato!AI12","v":0},{"$f":"campeonato!AN12","v":0},null,{"$f":"campeonato!AS12","v":0},null,{"$f":"campeonato!AX12","v":8},null,{"$f":"campeonato!BC12","v":0},null,134]
[null,{"$f":"lista_alunos!H14","v":"E"},{"$f":"campeonato!J13","v":172},null,{"$f":"campeonato!O13","v":189},{"$f":"campeonato!T13","v":0},null,{"$f":"campeonato!Y13","v":0},{"$f":"campeonato!AD13","v":7},null,{"$f":"campeonato!AI13","v":0},{"$f":"campeonato!AN13","v":0},null,{"$f":"campeonato!AS13","v":0},null,{"$f":"campeonato!AX13","v":0},null,{"$f":"campeonato!BC13","v":0},null,368]
[null,{"$f":"lista_alunos!H15","v":"F"},{"$f":"campeonato!J14","v":66},null,{"$f":"campeonato!O14","v":41},{"$f":"campeonato!T14","v":0},null,{"$f":"campeonato!Y14","v":0},{"$f":"campeonato!AD14","v":0},null,{"$f":"campeonato!AI14","v":0},{"$f":"campeonato!AN14","v":1},null,{"$f":"campeonato!AS14","v":0},null,{"$f":"campeonato!AX14","v":0},null,{"$f":"campeonato!BC14","v":0},null,108]
[null,{"$f":"lista_alunos!H16","v":"G"},{"$f":"campeonato!J15","v":0},null,{"$f":"campeonato!O15","v":96},{"$f":"campeonato!T15","v":0},null,{"$f":"campeonato!Y15","v":0},{"$f":"campeonato!AD15","v":0},null,{"$f":"campeonato!AI15","v":43},{"$f":"campeonato!AN15","v":0},null,{"$f":"campeonato!AS15","v":0},null,{"$f":"campeonato!AX15","v":0},null,{"$f":"campeonato!BC15","v":16},null,155]
[null,{"$f":"lista_alunos!H17","v":"H"},{"$f":"campeonato!J16","v":110},null,{"$f":"campeonato!O16","v":146},{"$f":"campeonato!T16","v":0},null,{"$f":"campeonato!Y16","v":0},{"$f":"campeonato!AD16","v":0},null,{"$f":"campeonato!AI16","v":0},{"$f":"campeonato!AN16","v":0},null,{"$f":"campeonato!AS16","v":0},null,{"$f":"campeonato!AX16","v":0},null,{"$f":"campeonato!BC16","v":0},null,256]
[null,{"$f":"lista_alunos!H18","v":"I"},{"$f":"campeonato!J17","v":0},null,{"$f":"campeonato!O17","v":176},{"$f":"campeonato!T17","v":0},null,{"$f":"campeonato!Y17","v":0},{"$f":"campeonato!AD17","v":0},null,{"$f":"campeonato!AI17","v":0},{"$f":"campeonato!AN17","v":0},null,{"$f":"campeonato!AS17","v":0},null,{"$f":"campeonato!AX17","v":0},null,{"$f":"campeonato!BC17","v":0},null,176]
[null,{"$f":"lista_alunos!H19","v":"J"},{"$f":"campeonato!J18","v":0},null,{"$f":"campeonato!O18","v":121},{"$f":"campeonato!T18","v":0},null,{"$f":"campeonato!Y18","v":0},{"$f":"campeonato!AD18","v":0},null,{"$f":"campeonato!AI18","v":18},{"$f":"campeonato!AN18","v":0},null,{"$f":"campeonato!AS18","v":0},null,{"$f":"campeonato!AX18","v":0},null,{"$f":"campeonato!BC18","v":0},null,139]
[null,{"$f":"lista_alunos!H20","v":"L"},{"$f":"campeonato!J19","v":0},null,{"$f":"campeonato!O19","v":15},{"$f":"campeonato!T19","v":0},null,{"$f":"campeonato!Y19","v":0},{"$f":"campeonato!AD19","v":0},null,{"$f":"campeonato!AI19","v":0},{"$f":"campeonato!AN19","v":0},null,{"$f":"campeonato!AS19","v":0},null,{"$f":"campeonato!AX19","v":0},null,{"$f":"campeonato!BC19","v":0},null,15]
[null,{"$f":"lista_alunos!H21","v":"M"},{"$f":"campeonato!J20","v":0},null,{"$f":"campeonato!O20","v":135},{"$f":"campeonato!T20","v":0},null,{"$f":"campeonato!Y20","v":0},{"$f":"campeonato!AD20","v":0},null,{"$f":"campeonato!AI20","v":0},{"$f":"campeonato!AN20","v":0},null,{"$f":"campeonato!AS20","v":0},null,{"$f":"campeonato!AX20","v":0},null,{"$f":"campeonato!BC20","v":0},null,135]
[null,{"$f":"lista_alunos!H22","v":"N"},{"$f":"campeonato!J21","v":0},null,{"$f":"campeonato!O21","v":264},{"$f":"campeonato!T21","v":0},null,{"$f":"campeonato!Y21","v":0},{"$f":"campeonato!AD21","v":0},null,{"$f":"campeonato!AI21","v":0},{"$f":"campeonato!AN21","v":21},null,{"$f":"campeonato!AS21","v":0},null,{"$f":"campeonato!AX21","v":0},null,{"$f":"campeonato!BC21","v":0},null,285]
[null,{"$f":"lista_alunos!H23","v":"O"},{"$f":"campeonato!J22","v":0},null,{"$f":"campeonato!O22","v":142},{"$f":"campeonato!T22","v":0},null,{"$f":"campeonato!Y22","v":0},{"$f":"campeonato!AD22","v":0},null,{"$f":"campeonato!AI22","v":0},{"$f":"campeonato!AN22","v":0},null,{"$f":"campeonato!AS22","v":0},null,{"$f":"campeonato!AX22","v":0},null,{"$f":"campeonato!BC22","v":0},null,142]
[null,{"$f":"lista_alunos!H24","v":"P"},{"$f":"campeonato!J23","v":0},null,{"$f":"campeonato!O23","v":294},{"$f":"campeonato!T23","v":0},null,{"$f":"campeonato!Y23","v":0},{"$f":"campeonato!AD23","v":0},null,{"$f":"campeonato!AI23","v":0},{"$f":"campeonato!AN23","v":80},null,{"$f":"campeonato!AS23","v":0},null,{"$f":"campeonato!AX23","v":0},null,{"$f":"campeonato!BC23","v":0},null,374]
[null,{"$f":"lista_alunos!H25","v":0},{"$f":"campeonato!J24","v":12},null,{"$f":"campeonato!O24","v":214},{"$f":"campeonato!T24","v":0},null,{"$f":"campeonato!Y24","v":0},{"$f":"campeonato!AD24","v":0},null,{"$f":"campeonato!AI24","v":0},{"$f":"campeonato!AN24","v":0},null,{"$f":"campeonato!AS24","v":0},null,{"$f":"campeonato!AX24","v":0},null,{"$f":"campeonato!BC24","v":0},null,226]
[null,{"$f":"lista_alunos!H26","v":0},{"$f":"campeonato!J25","v":0},null,{"$f":"campeonato!O25","v":194},{"$f":"campeonato!T25","v":0},null,{"$f":"campeonato!Y25","v":0},{"$f":"campeonato!AD25","v":0},null,{"$f":"campeonato!AI25","v":0},{"$f":"campeonato!AN25","v":0},null,{"$f":"campeonato!AS25","v":0},null,{"$f":"campeonato!AX25","v":0},null,{"$f":"campeonato!BC25","v":0},null,194]
[null,{"$f":"lista_alunos!H27","v":0},{"$f":"campeonato!J26","v":0},null,{"$f":"campeonato!O26","v":0},{"$f":"campeonato!T26","v":0},null,{"$f":"campeonato!Y26","v":0},{"$f":"campeonato!AD26","v":0},null,{"$f":"campeonato!AI26","v":0},{"$f":"campeonato!AN26","v":0},null,{"$f":"campeonato!AS26","v":0},null,{"$f":"campeonato!AX26","v":0},null,{"$f":"campeonato!BC26","v":0},null,0]
[null,{"$f":"lista_alunos!H28","v":0},{"$f":"campeonato!J27","v":0},null,{"$f":"campeonato!O27","v":0},{"$f":"campeonato!T27","v":0},null,{"$f":"campeonato!Y27","v":0},{"$f":"campeonato!AD27","v":0},null,{"$f":"campeonato!AI27","v":0},{"$f":"campeonato!AN27","v":0},null,{"$f":"campeonato!AS27","v":0},null,{"$f":"campeonato!AX27","v":0},null,{"$f":"campeonato!BC27","v":0},null,0]
[null,{"$f":"lista_alunos!H29","v":0},{"$f":"campeonato!J28","v":0},null,{"$f":"campeonato!O28","v":0},{"$f":"campeonato!T28","v":0},null,{"$f":"campeonato!Y28","v":0},{"$f":"campeonato!AD28","v":0},null,{"$f":"campeonato!AI28","v":0},{"$f":"campeonato!AN28","v":0},null,{"$f":"campeonato!AS28","v":0},null,{"$f":"campeonato!AX28","v":0},null,{"$f":"campeonato!BC28","v":0},null,0]
[null,{"$f":"lista_alunos!H30","v":0},{"$f":"campeonato!J29","v":0},null,{"$f":"campeonato!O29","v":0},{"$f":"campeonato!T29","v":0},null,{"$f":"campeonato!Y29","v":0},{"$f":"campeonato!AD29","v":0},null,{"$f":"campeonato!AI29","v":0},{"$f":"campeonato!AN29","v":0},null,{"$f":"campeonato!AS29","v":0},null,{"$f":"campeonato!AX29","v":0},null,{"$f":"campeonato!BC29","v":0},null,0]
[null,{"$f":"lista_alunos!H31","v":0},{"$f":"campeonato!J30","v":0},null,{"$f":"campeonato!O30","v":0},{"$f":"campeonato!T30","v":0},null,{"$f":"campeonato!Y30","v":0},{"$f":"campeonato!AD30","v":0},null,{"$f":"campeonato!AI30","v":0},{"$f":"campeonato!AN30","v":0},null,{"$f":"campeonato!AS30","v":0},null,{"$f":"campeonato!AX30","v":0},null,{"$f":"campeonato!BC30","v":0},null,0]
[null,{"$f":"lista_alunos!H32","v":0},{"$f":"campeonato!J31","v":0},null,{"$f":"campeonato!O31","v":0},{"$f":"campeonato!T31","v":0},null,{"$f":"campeonato!Y31","v":0},{"$f":"campeonato!AD31","v":0},null,{"$f":"campeonato!AI31","v":0},{"$f":"campeonato!AN31","v":0},null,{"$f":"campeonato!AS31","v":0},null,{"$f":"campeonato!AX31","v":0},null,{"$f":"campeonato!BC31","v":0},null,0]
[null,{"$f":"lista_alunos!H33","v":0},{"$f":"campeonato!J32","v":0},null,{"$f":"campeonato!O32","v":0},{"$f":"campeonato!T32","v":0},null,{"$f":"campeonato!Y32","v":0},{"$f":"campeonato!AD32","v":0},null,{"$f":"campeonato!AI32","v":0},{"$f":"campeonato!AN32","v":0},null,{"$f":"campeonato!AS32","v":0},null,{"$f":"campeonato!AX32","v":0},null,{"$f":"campeonato!BC32","v":0},null,0]
[null,{"$f":"lista_alunos!H34","v":0},{"$f":"campeonato!J33","v":0},null,{"$f":"campeonato!O33","v":0},{"$f":"campeonato!T33","v":0},null,{"$f":"campeonato!Y33","v":0},{"$f":"campeonato!AD33","v":0},null,{"$f":"campeonato!AI33","v":0},{"$f":"campeonato!AN33","v":0},null,{"$f":"campeonato!AS33","v":0},null,{"$f":"campeonato!AX33","v":0},null,{"$f":"campeonato!BC33","v":0},null,0]
[null,{"$f":"lista_alunos!H35","v":0},{"$f":"campeonato!J34","v":99},null,{"$f":"campeonato!O34","v":0},{"$f":"campeonato!T34","v":0},null,{"$f":"campeonato!Y34","v":0},{"$f":"campeonato!AD34","v":0},null,{"$f":"campeonato!AI34","v":0},{"$f":"campeonato!AN34","v":0},null,{"$f":"campeonato!AS34","v":0},null,{"$f":"campeonato!AX34","v":0},null,{"$f":"campeonato!BC34","v":0},null,99]
[]
[]
[]
[]
[]
[]
[]
[null,"Nome Aluno(a)","TOTAL"]
[null,{"$f":"B11","v":"a"},{"$f":"T11","v":367}]
[null,{"$f":"B12","v":"B"},{"$f":"T12","v":124}]
[null,"C",283]
[null,"D",134]
[null,"E",368]
[null,"F",108]
[null,"G",155]
[null,"H",256]
[null,"I",176]
[null,"J",139]
[null,"L",15]
[null,"M",135]
[null,"N",285]
[null,"O",142]
[null,"P",374]
[null,0,226]
[null,0,194]
[null,0,0]
[null,0,0]
[null,0,0]
[null,0,0]
[null,0,0]
[null,0,0]
[null,0,0]
[null,0,0]
[null,0,99]

{"sheet":"CLASSIFICAÇÃO","index":4,"n_rows":43,"n_cols":22,"rows_kept":43,"cut":false,"hidden":false,"merged":[[37,13,37,17],[37,18,37,22],[5,2,5,12],[42,10,42,11],[42,4,42,5],[1,0,3,11],[37,1,37,6],[37,7,37,12]]}
[]
["Jogos de setembro"]
[]
[]
[]
[null,null,"setembro"]
["Nome","Ordem","J1","Nome","Ordem","J2","Nome","Ordem","J3","Nome","Ordem","J4","Total"]
[{"$f":"lista_alunos!H22","v":"N"},13,13,{"$f":"campeonato!B10","v":"B"},{"$f":"campeonato!A10","v":2},{"$f":"campeonato!G13","v":24},{"$f":"campeonato!B10","v":"B"},{"$f":"campeonato!A10","v":2},{"$f":"campeonato!H9","v":98},{"$f":"campeonato!B23","v":"P"},{"$f":"campeonato!A23","v":15},{"$f":"campeonato!I11","v":25},{"$f":"SUM(C8:L8)","v":179}]
[{"$f":"lista_alunos!H19","v":"J"},10,{"$f":"campeonato!F13","v":80},{"$f":"campeonato!B14","v":"F"},{"$f":"campeonato!A14","v":6},{"$f":"campeonato!G14","v":21},{"$f":"campeonato!B34","v":0},{"$f":"campeonato!A34","v":26},{"$f":"campeonato!H34","v":99},{"$f":"campeonato!B13","v":"E"},{"$f":"campeonato!A13","v":5},{"$f":"campeonato!I24","v":12},249]
[{"$f":"lista_alunos!H15","v":"F"},6,{"$f":"campeonato!F12","v":60},{"$f":"campeonato!B13","v":"E"},{"$f":"campeonato!A13","v":5},{"$f":"campeonato!G10","v":18},{"$f":"campeonato!B9","v":"a"},{"$f":"campeonato!A9","v":1},{"$f":"campeonato!H13","v":68},{"$f":"campeonato!B12","v":"D"},{"$f":"campeonato!A12","v":4},{"$f":"campeonato!I9","v":4},160]
[{"$f":"lista_alunos!H10","v":"a"},1,{"$f":"campeonato!F9","v":54},{"$f":"campeonato!B11","v":"C"},{"$f":"campeonato!A11","v":3},{"$f":"campeonato!G12","v":7},{"$f":"campeonato!B12","v":"D"},{"$f":"campeonato!A12","v":4},{"$f":"campeonato!H14","v":45},{"$f":"campeonato!B18","v":"J"},{"$f":"campeonato!A18","v":10},{"$f":"campeonato!I10","v":0},123]
[{"$f":"lista_alunos!H14","v":"E"},5,{"$f":"campeonato!F11","v":23},{"$f":"campeonato!B9","v":"a"},{"$f":"campeonato!A9","v":1},{"$f":"campeonato!G9","v":4},{"$f":"campeonato!B14","v":"F"},{"$f":"campeonato!A14","v":6},{"$f":"campeonato!H10","v":34},{"$f":"campeonato!B21","v":"N"},{"$f":"campeonato!A21","v":13},{"$f":"campeonato!I13","v":0},81]
[{"$f":"lista_alunos!H11","v":"B"},2,{"$f":"campeonato!F10","v":2},{"$f":"campeonato!B12","v":"D"},{"$f":"campeonato!A12","v":4},{"$f":"campeonato!G9","v":4},{"$f":"campeonato!B13","v":"E"},{"$f":"campeonato!A13","v":5},{"$f":"campeonato!H11","v":22},{"$f":"campeonato!B22","v":"O"},{"$f":"campeonato!A22","v":14},{"$f":"campeonato!I12","v":0},51]
[{"$f":"lista_alunos!H24","v":"P"},15,{"$f":"campeonato!F14","v":0},{"$f":"campeonato!B20","v":"M"},{"$f":"campeonato!A20","v":12},{"$f":"campeonato!G20","v":0},{"$f":"campeonato!B16","v":"H"},{"$f":"campeonato!A16","v":8},{"$f":"campeonato!H16","v":10},{"$f":"campeonato!B20","v":"M"},{"$f":"campeonato!A20","v":12},{"$f":"campeonato!I14","v":0},42]
[{"$f":"lista_alunos!H23","v":"O"},14,{"$f":"campeonato!F15","v":0},{"$f":"campeonato!B19","v":"L"},{"$f":"campeonato!A19","v":11},{"$f":"campeonato!G19","v":0},{"$f":"campeonato!B11","v":"C"},{"$f":"campeonato!A11","v":3},{"$f":"campeonato!H12","v":5},{"$f":"campeonato!B19","v":"L"},{"$f":"campeonato!A19","v":11},{"$f":"campeonato!I15","v":0},30]
[{"$f":"lista_alunos!H21","v":"M"},12,{"$f":"campeonato!F17","v":0},{"$f":"campeonato!B24","v":0},{"$f":"campeonato!A24","v":16},{"$f":"campeonato!G24","v":0},{"$f":"campeonato!B18","v":"J"},{"$f":"campeonato!A18","v":10},{"$f":"campeonato!H18","v":0},{"$f":"campeonato!B24","v":0},{"$f":"campeonato!A24","v":16},{"$f":"campeonato!I16","v":0},42]
[{"$f":"lista_alunos!H20","v":"L"},11,{"$f":"campeonato!F18","v":0},{"$f":"campeonato!B16","v":"H"},{"$f":"campeonato!A16","v":8},{"$f":"campeonato!G16","v":0},{"$f":"campeonato!B23","v":"P"},{"$f":"campeonato!A23","v":15},{"$f":"campeonato!H23","v":0},{"$f":"campeonato!B16","v":"H"},{"$f":"campeonato!A16","v":8},{"$f":"campeonato!I17","v":0},31]
[{"$f":"lista_alunos!H25","v":0},16,{"$f":"campeonato!F19","v":0},{"$f":"campeonato!B17","v":"I"},{"$f":"campeonato!A17","v":9},{"$f":"campeonato!G17","v":0},{"$f":"campeonato!B22","v":"O"},{"$f":"campeonato!A22","v":14},{"$f":"campeonato!H22","v":0},{"$f":"campeonato!B14","v":"F"},{"$f":"campeonato!A14","v":6},{"$f":"campeonato!I18","v":0},29]
[{"$f":"lista_alunos!H17","v":"H"},8,{"$f":"campeonato!F20","v":0},{"$f":"campeonato!B34","v":0},{"$f":"campeonato!A34","v":26},{"$f":"campeonato!G34","v":0},{"$f":"campeonato!B21","v":"N"},{"$f":"campeonato!A21","v":13},{"$f":"campeonato!H21","v":0},{"$f":"campeonato!B17","v":"I"},{"$f":"campeonato!A17","v":9},{"$f":"campeonato!I19","v":0},48]
[{"$f":"lista_alunos!H18","v":"I"},9,{"$f":"campeonato!F21","v":0},{"$f":"campeonato!B18","v":"J"},{"$f":"campeonato!A18","v":10},{"$f":"campeonato!G18","v":0},{"$f":"campeonato!B20","v":"M"},{"$f":"campeonato!A20","v":12},{"$f":"campeonato!H20","v":0},{"$f":"campeonato!B34","v":0},{"$f":"campeonato!A34","v":26},{"$f":"campeonato!I20","v":0},48]
[{"$f":"lista_alunos!H26","v":0},17,{"$f":"campeonato!F23","v":0},{"$f":"campeonato!B23","v":"P"},{"$f":"campeonato!A23","v":15},{"$f":"campeonato!G23","v":0},{"$f":"campeonato!B19","v":"L"},{"$f":"campeonato!A19","v":11},{"$f":"campeonato!H19","v":0},{"$f":"campeonato!B11","v":"C"},{"$f":"campeonato!A11","v":3},{"$f":"campeonato!I22","v":0},29]
[{"$f":"lista_alunos!H12","v":"C"},3,{"$f":"campeonato!F24","v":0},{"$f":"campeonato!B22","v":"O"},{"$f":"campeonato!A22","v":14},{"$f":"campeonato!G22","v":0},{"$f":"campeonato!B24","v":0},{"$f":"campeonato!A24","v":16},{"$f":"campeonato!H24","v":0},{"$f":"campeonato!B9","v":"a"},{"$f":"campeonato!A9","v":1},{"$f":"campeonato!I23","v":0},31]
[{"$f":"lista_alunos!H13","v":"D"},4,{"$f":"campeonato!F25","v":0},{"$f":"campeonato!B21","v":"N"},{"$f":"campeonato!A21","v":13},{"$f":"campeonato!G21","v":0},{"$f":"campeonato!B17","v":"I"},{"$f":"campeonato!A17","v":9},{"$f":"campeonato!H17","v":0},{"$f":"campeonato!B10","v":"B"},{"$f":"campeonato!A10","v":2},{"$f":"campeonato!I25","v":0},24]
[{"$f":"lista_alunos!H16","v":"G"},7,{"$f":"campeonato!F26","v":0},{"$f":"campeonato!B15","v":"G"},{"$f":"campeonato!A15","v":7},{"$f":"campeonato!G15","v":0},{"$f":"campeonato!B25","v":0},{"$f":"campeonato!A25","v":17},{"$f":"campeonato!H25","v":0},{"$f":"campeonato!B15","v":"G"},{"$f":"campeonato!A15","v":7},{"$f":"campeonato!I26","v":0},31]
[{"$f":"lista_alunos!H27","v":0},18,{"$f":"campeonato!F27","v":0},{"$f":"campeonato!B27","v":0},{"$f":"campeonato!A27","v":19},{"$f":"campeonato!G27","v":0},{"$f":"campeonato!B15","v":"G"},{"$f":"campeonato!A15","v":7},{"$f":"campeonato!H15","v":0},{"$f":"campeonato!B32","v":0},{"$f":"campeonato!A32","v":24},{"$f":"campeonato!I33","v":0},50]
[{"$f":"lista_alunos!H35","v":0},26,{"$f":"campeonato!F22","v":0},{"$f":"campeonato!B25","v":0},{"$f":"campeonato!A25","v":17},{"$f":"campeonato!G25","v":0},{"$f":"campeonato!B27","v":0},{"$f":"campeonato!A27","v":19},{"$f":"campeonato!H27","v":0},{"$f":"campeonato!B25","v":0},{"$f":"campeonato!A25","v":17},{"$f":"campeonato!I21","v":0},53]
[{"$f":"lista_alunos!H34","v":0},25,{"$f":"campeonato!F34","v":0},{"$f":"campeonato!B26","v":0},{"$f":"campeonato!A26","v":18},{"$f":"campeonato!G26","v":0},{"$f":"campeonato!B26","v":0},{"$f":"campeonato!A26","v":18},{"$f":"campeonato!H26","v":0},{"$f":"campeonato!B33","v":0},{"$f":"campeonato!A33","v":25},{"$f":"campeonato!I34","v":0},61]
[{"$f":"lista_alunos!H28","v":0},19,{"$f":"campeonato!F28","v":0},{"$f":"campeonato!B28","v":0},{"$f":"campeonato!A28","v":20},{"$f":"campeonato!G28","v":0},{"$f":"campeonato!B28","v":0},{"$f":"campeonato!A28","v":20},{"$f":"campeonato!H28","v":0},{"$f":"campeonato!B31","v":0},{"$f":"campeonato!A31","v":23},{"$f":"campeonato!I32","v":0},63]
[{"$f":"lista_alunos!H29","v":0},20,{"$f":"campeonato!F29","v":0},{"$f":"campeonato!B29","v":0},{"$f":"campeonato!A29","v":21},{"$f":"campeonato!G29","v":0},{"$f":"campeonato!B29","v":0},{"$f":"campeonato!A29","v":21},{"$f":"campeonato!H29","v":0},{"$f":"campeonato!B30","v":0},{"$f":"campeonato!A30","v":22},{"$f":"campeonato!I31","v":0},64]
[{"$f":"lista_alunos!H30","v":0},21,{"$f":"campeonato!F30","v":0},{"$f":"campeonato!B30","v":0},{"$f":"campeonato!A30","v":22},{"$f":"campeonato!G30","v":0},{"$f":"campeonato!B30","v":0},{"$f":"campeonato!A30","v":22},{"$f":"campeonato!H30","v":0},{"$f":"campeonato!B29","v":0},{"$f":"campeonato!A29","v":21},{"$f":"campeonato!I30","v":0},65]
[{"$f":"lista_alunos!H31","v":0},22,{"$f":"campeonato!F31","v":0},{"$f":"campeonato!B31","v":0},{"$f":"campeonato!A31","v":23},{"$f":"campeonato!G31","v":0},{"$f":"campeonato!B31","v":0},{"$f":"campeonato!A31","v":23},{"$f":"campeonato!H31","v":0},{"$f":"campeonato!B28","v":0},{"$f":"campeonato!A28","v":20},{"$f":"campeonato!I29","v":0},66]
[{"$f":"lista_alunos!H32","v":0},23,{"$f":"campeonato!F32","v":0},{"$f":"campeonato!B32","v":0},{"$f":"campeonato!A32","v":24},{"$f":"campeonato!G32","v":0},{"$f":"campeonato!B32","v":0},{"$f":"campeonato!A32","v":24},{"$f":"campeonato!H32","v":0},{"$f":"campeonato!B27","v":0},{"$f":"campeonato!A27","v":19},{"$f":"campeonato!I28","v":0},67]
[{"$f":"lista_alunos!H33","v":0},24,{"$f":"campeonato!F33","v":0},{"$f":"campeonato!B33","v":0},{"$f":"campeonato!A33","v":25},{"$f":"campeonato!G33","v":0},{"$f":"campeonato!B33","v":0},{"$f":"campeonato!A33","v":25},{"$f":"campeonato!H33","v":0},{"$f":"campeonato!B26","v":0},{"$f":"campeonato!A26","v":18},{"$f":"campeonato!I27","v":0},68]
[]
[]
[]
[]
[null,"JOGO 1",null,null,null,null,null,"JOGO 2",null,null,null,null,null,"JOGO 3",null,null,null,null,"JOGO 4"]
[]
[null,null,{"$f":"LARGE(C8:C32,1)","v":80},null,null,null,null,null,{"$f":"LARGE(F8:F32,1)","v":24},null,null,null,null,null,{"$f":"LARGE(I8:I32,1)","v":99},null,null,null,null,{"$f":"LARGE(T8:T32,1)","v":{"$error":"#NUM!"}}]
[null,{"$f":"LARGE(C8:C32,2)","v":60},"1ºLugar",{"$f":"LARGE(C8:C32,3)","v":54},null,null,null,{"$f":"LARGE(F8:F32,2)","v":21},"1ºLugar",{"$f":"LARGE(F8:F32,3)","v":18},null,null,null,{"$f":"LARGE(I8:I32,2)","v":98},"1ºLugar",{"$f":"LARGE(I8:I32,3)","v":68},null,null,{"$f":"LARGE(T8:T32,2)","v":{"$error":"#NUM!"}},"1ºLugar",{"$f":"LARGE(T8:T32,3)","v":{"$error":"#NUM!"}}]
[null,"2ºLugar",null,"3ºLugar",null,{"$f":"LARGE(C8:C32,4)","v":23},null,"2ºLugar",null,"3ºLugar",null,{"$f":"LARGE(F8:F32,4)","v":7},null,"2ºLugar",null,"3ºLugar",{"$f":"LARGE(I8:I32,4)","v":45},null,"2ºLugar",null,"3ºLugar",{"$f":"LARGE(T8:T32,4)","v":{"$error":"#NUM!"}}]
[null,null,null,null,"4ºLugar",null,null,null,null,null,"4ºLugar",null,null,null,null,null,"4ºLugar",null,null,null,null,"4ºLugar"]

{"sheet":"Classif-grupos-1ºp","index":5,"n_rows":64,"n_cols":6,"rows_kept":64,"cut":false,"hidden":false,"merged":[[36,2,37,7],[39,0,40,0],[39,1,39,4],[51,2,52,7],[54,0,55,0],[54,1,54,4],[24,0,25,0],[24,1,24,4],[1,0,3,9],[5,2,6,7],[8,1,8,4],[8,0,9,0],[21,2,22,7]]}
[]
["Classificação por grupos"]
[]
[]
[]
[null,null,"setembro"]
[]
[]
["Grupo","Jogos setembro"]
[null,"J1","J2","J3","J4","Total"]
["Grupo 1",1,1,1,1,{"$f":"SUM(B11:E11)","v":4}]
["Grupo2",1,1,1,1,{"$f":"SUM(B12:E12)","v":4}]
["Grupo3",1,1,1,1,4]
["Grupo4",1,1,1,1,4]
["Grupo5",1,4,1,1,7]
["Grupo6",1,1,1,1,4]
["GRupo7",1,1,1,1,4]
["Total ",{"$f":"SUM(B11:B17)","v":7},{"$f":"SUM(C11:C17)","v":10},7,7,31]
[]
[]
[]
[null,null,"outubro"]
[]
[]
["Grupo","Jogos outubro"]
[null,"J1","J2","J3","J4","Total"]
["Grupo 1",1,1,6,1,{"$f":"SUM(B27:E27)","v":9}]
["Grupo2",1,1,1,1,{"$f":"SUM(B28:E28)","v":4}]
["Grupo3",1,1,1,1,4]
["Grupo4",1,1,1,1,4]
["Grupo5",1,4,1,1,7]
["Grupo6",1,1,1,1,4]
["GRupo7",1,1,1,1,4]
["Total ",{"$f":"SUM(B27:B33)","v":7},{"$f":"SUM(C27:C33)","v":10},{"$f":"SUM(D27:D33)","v":12},{"$f":"SUM(E27:E33)","v":7},36]
[]
[]
[null,null,"novembro"]
[]
[]
["Grupo","Jogos novembro"]
[null,"J1","J2","J3","J4","Total"]
["Grupo 1",1,1,6,1,{"$f":"SUM(B42:E42)","v":9}]
["Grupo2",1,1,1,1,{"$f":"SUM(B43:E43)","v":4}]
["Grupo3",1,1,1,1,4]
["Grupo4",1,1,1,1,4]
["Grupo5",1,4,1,1,7]
["Grupo6",1,1,1,1,4]
["GRupo7",1,1,1,1,4]
["Total ",{"$f":"SUM(B42:B48)","v":7},{"$f":"SUM(C42:C48)","v":10},{"$f":"SUM(D42:D48)","v":12},{"$f":"SUM(E42:E48)","v":7},36]
[]
[]
[null,null,"dezembro"]
[]
[]
["Grupo","Jogos dezembro"]
[null,"J1","J2","J3","J4","Total"]
["Grupo 1",1,1,6,1,{"$f":"SUM(B57:E57)","v":9}]
["Grupo2",1,1,1,1,{"$f":"SUM(B58:E58)","v":4}]
["Grupo3",1,1,1,1,4]
["Grupo4",1,1,1,1,4]
["Grupo5",1,4,1,1,7]
["Grupo6",1,1,1,1,4]
["GRupo7",1,1,1,1,4]
["Total ",{"$f":"SUM(B57:B63)","v":7},{"$f":"SUM(C57:C63)","v":10},{"$f":"SUM(D57:D63)","v":12},{"$f":"SUM(E57:E63)","v":7},36]

{"sheet":"classif-grupos-2ºp","index":6,"n_rows":64,"n_cols":6,"rows_kept":64,"cut":false,"hidden":false,"merged":[[36,2,37,7],[39,0,40,0],[39,1,39,4],[51,2,52,7],[54,0,55,0],[54,1,54,4],[24,0,25,0],[24,1,24,4],[1,0,3,9],[5,2,6,7],[8,0,9,0],[8,1,8,4],[21,2,22,7]]}
[]
["Classificação por grupos"]
[]
[]
[]
[null,null,"janeiro"]
[]
[]
["Grupo","Jogos janeiro"]
[null,"J1","J2","J3","J4","Total"]
["Grupo 1",1,1,1,1,{"$f":"SUM(B11:E11)","v":4}]
["Grupo2",1,1,1,1,{"$f":"SUM(B12:E12)","v":4}]
["Grupo3",1,1,1,1,4]
["Grupo4",1,1,1,1,4]
["Grupo5",1,4,1,1,7]
["Grupo6",1,1,1,1,4]
["GRupo7",1,1,1,1,4]
["Total ",{"$f":"SUM(B11:B17)","v":7},{"$f":"SUM(C11:C17)","v":10},7,7,31]
[]
[]
[]
[null,null,"fevereiro"]
[]
[]
["Grupo","Jogos fevereiro"]
[null,"J1","J2","J3","J4","Total"]
["Grupo 1",1,1,6,1,{"$f":"SUM(B27:E27)","v":9}]
["Grupo2",1,1,1,1,{"$f":"SUM(B28:E28)","v":4}]
["Grupo3",1,1,1,1,4]
["Grupo4",1,1,1,1,4]
["Grupo5",1,4,1,1,7]
["Grupo6",1,1,1,1,4]
["GRupo7",1,1,1,1,4]
["Total ",{"$f":"SUM(B27:B33)","v":7},{"$f":"SUM(C27:C33)","v":10},12,7,36]
[]
[]
[null,null,"março"]
[]
[]
["Grupo","Jogos março"]
[null,"J1","J2","J3","J4","Total"]
["Grupo 1",1,1,6,1,{"$f":"SUM(B42:E42)","v":9}]
["Grupo2",1,1,1,1,{"$f":"SUM(B43:E43)","v":4}]
["Grupo3",1,1,1,1,4]
["Grupo4",1,1,1,1,4]
["Grupo5",1,4,1,1,7]
["Grupo6",1,1,1,1,4]
["GRupo7",1,1,1,1,4]
["Total ",{"$f":"SUM(B42:B48)","v":7},{"$f":"SUM(C42:C48)","v":10},12,7,36]
[]
[]
[null,null,"abril"]
[]
[]
["Grupo","Jogos abril"]
[null,"J1","J2","J3","J4","Total"]
["Grupo 1",1,1,6,1,{"$f":"SUM(B57:E57)","v":9}]
["Grupo2",1,1,1,1,{"$f":"SUM(B58:E58)","v":4}]
["Grupo3",1,1,1,1,4]
["Grupo4",1,1,1,1,4]
["Grupo5",1,4,1,1,7]
["Grupo6",1,1,1,1,4]
["GRupo7",1,1,1,1,4]
["Total ",{"$f":"SUM(B57:B63)","v":7},{"$f":"SUM(C57:C63)","v":10},12,7,36]

{"sheet":"classif-grupos-3ºp","index":7,"n_rows":34,"n_cols":6,"rows_kept":34,"cut":false,"hidden":false,"merged":[[24,0,25,0],[24,1,24,4],[1,0,3,9],[5,2,6,7],[8,0,9,0],[8,1,8,4],[21,2,22,7]]}
[]
["Classificação por grupos"]
[]
[]
[]
[null,null,"maio"]
[]
[]
["Grupo","Jogos maio"]
[null,"J1","J2","J3","J4","Total"]
["Grupo 1",1,1,1,1,{"$f":"SUM(B11:E11)","v":4}]
["Grupo2",1,1,1,1,{"$f":"SUM(B12:E12)","v":4}]
["Grupo3",1,1,1,1,4]
["Grupo4",1,1,1,1,4]
["Grupo5",1,4,1,1,7]
["Grupo6",1,1,1,1,4]
["GRupo7",1,1,1,1,4]
["Total ",{"$f":"SUM(B11:B17)","v":7},{"$f":"SUM(C11:C17)","v":10},7,7,31]
[]
[]
[]
[null,null,"junho"]
[]
[]
["Grupo","Jogos junho"]
[null,"J1","J2","J3","J4","Total"]
["Grupo 1",1,1,6,1,{"$f":"SUM(B27:E27)","v":9}]
["Grupo2",1,1,1,1,{"$f":"SUM(B28:E28)","v":4}]
["Grupo3",1,1,1,1,4]
["Grupo4",1,1,1,1,4]
["Grupo5",1,4,1,1,7]
["Grupo6",1,1,1,1,4]
["GRupo7",1,1,1,1,4]
["Total ",{"$f":"SUM(B27:B33)","v":7},{"$f":"SUM(C27:C33)","v":10},12,7,36]

{"sheet":"CLASSIF-FINAL-GRUPOS","index":8,"n_rows":59,"n_cols":20,"rows_kept":59,"cut":false,"hidden":false,"merged":[[57,9,57,11],[58,9,59,11],[54,0,54,2],[54,3,55,5],[55,0,57,2],[55,6,55,8],[56,6,57,8],[25,2,25,3],[26,2,26,3],[27,2,27,3],[51,3,52,7],[53,3,53,5],[20,2,20,3],[21,2,21,3],[22,2,22,3],[23,2,23,3],[24,2,24,3],[15,17,15,18],[15,19,15,20],[16,2,16,3],[16,5,16,6],[16,8,16,9],[16,11,16,12],[16,13,16,14],[16,15,16,16],[16,17,16,18],[16,19,16,20],[15,2,15,3],[15,5,15,6],[15,8,15,9],[15,11,15,12],[15,13,15,14],[15,15,15,16],[13,17,13,18],[13,19,13,20],[14,2,14,3],[14,5,14,6],[14,8,14,9],[14,11,14,12],[14,13,14,14],[14,15,14,16],[14,17,14,18],[14,19,14,20],[13,2,13,3],[13,5,13,6],[13,8,13,9],[13,11,13,12],[13,13,13,14],[13,15,13,16],[12,15,12,16],[12,17,12,18],[12,19,12,20],[11,2,11,3],[11,5,11,6],[11,8,11,9],[11,11,11,12],[11,13,11,14],[11,15,11,16],[12,2,12,3],[12,5,12,6],[12,8,12,9],[12,11,12,12],[12,13,12,14],[10,15,10,16],[10,17,10,18],[10,19,10,20],[11,17,11,18],[11,19,11,20],[10,2,10,3],[10,5,10,6],[10,8,10,9],[10,11,10,12],[10,13,10,14],[2,0,3,14],[5,4,6,8],[8,2,8,20],[9,2,9,3],[9,5,9,6],[9,8,9,9],[9,11,9,12],[9,13,9,14],[9,15,9,16],[9,17,9,18],[9,19,9,20]]}
[]
[]
[" CLASSIFICAÇÃO POR GRUPOS"]
[]
[]
[null,null,null,null,"ANUAL"]
[]
[]
[null,null,"MESES DO ANO"]
[null,"GRUPOS","setembro",null,"outubro","novembro",null,"dezembro","janeiro",null,"fevereiro","março",null,"abril",null,"maio",null,"junho",null,"TOTAL"]
[null,"GRUPO1",{"$f":"'Classif-grupos-1ºp'!F11","v":4},null,{"$f":"'Classif-grupos-1ºp'!F27","v":9},{"$f":"'Classif-grupos-1ºp'!F42","v":9},null,{"$f":"'Classif-grupos-1ºp'!F57","v":9},{"$f":"'classif-grupos-2ºp'!F11","v":4},null,{"$f":"'classif-grupos-2ºp'!F27","v":9},{"$f":"'classif-grupos-2ºp'!F42","v":9},null,{"$f":"'classif-grupos-2ºp'!F57","v":9},null,{"$f":"'classif-grupos-3ºp'!F11","v":4},null,{"$f":"'classif-grupos-3ºp'!F27","v":9},null,{"$f":"SUM(C11:S11)","v":75}]
[null,"GRUPO2",{"$f":"'Classif-grupos-1ºp'!F12","v":4},null,{"$f":"'Classif-grupos-1ºp'!F28","v":4},{"$f":"'Classif-grupos-1ºp'!F43","v":4},null,{"$f":"'Classif-grupos-1ºp'!F58","v":4},{"$f":"'classif-grupos-2ºp'!F12","v":4},null,{"$f":"'classif-grupos-2ºp'!F28","v":4},{"$f":"'classif-grupos-2ºp'!F43","v":4},null,{"$f":"'classif-grupos-2ºp'!F58","v":4},null,{"$f":"'classif-grupos-3ºp'!F12","v":4},null,{"$f":"'classif-grupos-3ºp'!F28","v":4},null,{"$f":"SUM(C12:S12)","v":40}]
[null,"GRUPO3",{"$f":"'Classif-grupos-1ºp'!F13","v":4},null,{"$f":"'Classif-grupos-1ºp'!F29","v":4},{"$f":"'Classif-grupos-1ºp'!F44","v":4},null,{"$f":"'Classif-grupos-1ºp'!F59","v":4},{"$f":"'classif-grupos-2ºp'!F13","v":4},null,{"$f":"'classif-grupos-2ºp'!F29","v":4},{"$f":"'classif-grupos-2ºp'!F44","v":4},null,{"$f":"'classif-grupos-2ºp'!F59","v":4},null,{"$f":"'classif-grupos-3ºp'!F13","v":4},null,{"$f":"'classif-grupos-3ºp'!F29","v":4},null,40]
[null,"GRUPO4",{"$f":"'Classif-grupos-1ºp'!F14","v":4},null,{"$f":"'Classif-grupos-1ºp'!F30","v":4},{"$f":"'Classif-grupos-1ºp'!F45","v":4},null,{"$f":"'Classif-grupos-1ºp'!F60","v":4},{"$f":"'classif-grupos-2ºp'!F14","v":4},null,{"$f":"'classif-grupos-2ºp'!F30","v":4},{"$f":"'classif-grupos-2ºp'!F45","v":4},null,{"$f":"'classif-grupos-2ºp'!F60","v":4},null,{"$f":"'classif-grupos-3ºp'!F14","v":4},null,{"$f":"'classif-grupos-3ºp'!F30","v":4},null,40]
[null,"GRUPO5",{"$f":"'Classif-grupos-1ºp'!F15","v":7},null,{"$f":"'Classif-grupos-1ºp'!F31","v":7},{"$f":"'Classif-grupos-1ºp'!F46","v":7},null,{"$f":"'Classif-grupos-1ºp'!F61","v":7},{"$f":"'classif-grupos-2ºp'!F15","v":7},null,{"$f":"'classif-grupos-2ºp'!F31","v":7},{"$f":"'classif-grupos-2ºp'!F46","v":7},null,{"$f":"'classif-grupos-2ºp'!F61","v":7},null,{"$f":"'classif-grupos-3ºp'!F15","v":7},null,{"$f":"'classif-grupos-3ºp'!F31","v":7},null,70]
[null,"GRUPO6",{"$f":"'Classif-grupos-1ºp'!F16","v":4},null,{"$f":"'Classif-grupos-1ºp'!F32","v":4},{"$f":"'Classif-grupos-1ºp'!F47","v":4},null,{"$f":"'Classif-grupos-1ºp'!F62","v":4},{"$f":"'classif-grupos-2ºp'!F16","v":4},null,{"$f":"'classif-grupos-2ºp'!F32","v":4},{"$f":"'classif-grupos-2ºp'!F47","v":4},null,{"$f":"'classif-grupos-2ºp'!F62","v":4},null,{"$f":"'classif-grupos-3ºp'!F16","v":4},null,{"$f":"'classif-grupos-3ºp'!F32","v":4},null,40]
[null,"GRUPO7",{"$f":"'Classif-grupos-1ºp'!F17","v":4},null,{"$f":"'Classif-grupos-1ºp'!F33","v":4},{"$f":"'Classif-grupos-1ºp'!F48","v":4},null,{"$f":"'Classif-grupos-1ºp'!F63","v":4},{"$f":"'classif-grupos-2ºp'!F17","v":4},null,{"$f":"'classif-grupos-2ºp'!F33","v":4},{"$f":"'classif-grupos-2ºp'!F48","v":4},null,{"$f":"'classif-grupos-2ºp'!F63","v":4},null,{"$f":"'classif-grupos-3ºp'!F17","v":4},null,{"$f":"'classif-grupos-3ºp'!F33","v":4},null,40]
[]
[]
[]
[null,"GRUPOS","TOTAL"]
[null,"GRUPO1",{"$f":"T11","v":75}]
[null,"GRUPO2",{"$f":"T12","v":40}]
[null,"GRUPO3",40]
[null,"GRUPO4",40]
[null,"GRUPO5",70]
[null,"GRUPO6",40]
[null,"GRUPO7",40]
[]
[]
[]
[]
[]
[]
[]
[]
[]
[]
[]
[]
[]
[]
[]
[]
[]
[]
[]
[]
[]
[]
[]
[null,null,null,"Resultados Finais"]
[]
[null,null,null,{"$f":"LARGE(C22:D28,1)","v":75}]
[{"$f":"LARGE(C22:D28,2)","v":70},null,null,"1º"]
["2º",null,null,null,null,null,{"$f":"LARGE(C22:D28,3)","v":40}]
[null,null,null,null,null,null,"3º"]
[null,null,null,null,null,null,null,null,null,{"$f":"LARGE(C22:D28,4)","v":40}]
[null,null,null,null,null,null,null,null,null,"4º"]

{"sheet":"outubro","index":9,"n_rows":43,"n_cols":22,"rows_kept":43,"cut":false,"hidden":false,"merged":[[37,13,37,17],[37,18,37,22],[42,4,42,5],[42,10,42,11],[1,0,3,11],[5,2,5,12],[37,1,37,6],[37,7,37,12]]}
[]
["Jogos de outubro"]
[]
[]
[]
[null,null,"outubro"]
["Nome","Ordem","J5","Nome","Ordem","J6","Nome","Ordem","J7","Nome","Ordem","J8","Total"]
[{"$f":"lista_alunos!H25","v":0},16,{"$f":"campeonato!K19","v":"F"},{"$f":"campeonato!B16","v":"H"},{"$f":"campeonato!A16","v":8},{"$f":"campeonato!L18","v":"f"},{"$f":"campeonato!B10","v":"B"},{"$f":"campeonato!A10","v":2},{"$f":"campeonato!M9","v":"F"},{"$f":"campeonato!B21","v":"N"},{"$f":"campeonato!A21","v":13},{"$f":"campeonato!N14","v":"B"},{"$f":"SUM(C8:L8)","v":23}]
[{"$f":"lista_alunos!H24","v":"P"},15,{"$f":"campeonato!K15","v":"B"},{"$f":"campeonato!B14","v":"F"},{"$f":"campeonato!A14","v":6},{"$f":"campeonato!L10","v":"F"},{"$f":"campeonato!B13","v":"E"},{"$f":"campeonato!A13","v":5},{"$f":"campeonato!M14","v":"B"},{"$f":"campeonato!B34","v":0},{"$f":"campeonato!A34","v":26},{"$f":"campeonato!N21","v":59},96]
[{"$f":"lista_alunos!H17","v":"H"},8,{"$f":"campeonato!K20","v":"B"},{"$f":"campeonato!B11","v":"C"},{"$f":"campeonato!A11","v":3},{"$f":"campeonato!L12","v":"f"},{"$f":"campeonato!B24","v":0},{"$f":"campeonato!A24","v":16},{"$f":"campeonato!M23","v":97},{"$f":"campeonato!B12","v":"D"},{"$f":"campeonato!A12","v":4},{"$f":"campeonato!N11","v":27},147]
[{"$f":"lista_alunos!H23","v":"O"},14,{"$f":"campeonato!K16","v":146},{"$f":"campeonato!B10","v":"B"},{"$f":"campeonato!A10","v":2},{"$f":"campeonato!L9","v":"F"},{"$f":"campeonato!B21","v":"N"},{"$f":"campeonato!A21","v":13},{"$f":"campeonato!M20","v":65},{"$f":"campeonato!B23","v":"P"},{"$f":"campeonato!A23","v":15},{"$f":"campeonato!N9","v":12},253]
[{"$f":"lista_alunos!H19","v":"J"},10,{"$f":"campeonato!K13","v":137},{"$f":"campeonato!B19","v":"L"},{"$f":"campeonato!A19","v":11},{"$f":"campeonato!L16","v":"b"},{"$f":"campeonato!B12","v":"D"},{"$f":"campeonato!A12","v":4},{"$f":"campeonato!M12","v":38},{"$f":"campeonato!B18","v":"J"},{"$f":"campeonato!A18","v":10},{"$f":"campeonato!N12","v":0},200]
[{"$f":"lista_alunos!H13","v":"D"},4,{"$f":"campeonato!K9","v":136},{"$f":"campeonato!B9","v":"a"},{"$f":"campeonato!A9","v":1},{"$f":"campeonato!L14","v":"b"},{"$f":"campeonato!B34","v":0},{"$f":"campeonato!A34","v":26},{"$f":"campeonato!M10","v":22},{"$f":"campeonato!B22","v":"O"},{"$f":"campeonato!A22","v":14},{"$f":"campeonato!N13","v":0},199]
[{"$f":"lista_alunos!H14","v":"E"},5,{"$f":"campeonato!K24","v":126},{"$f":"campeonato!B24","v":0},{"$f":"campeonato!A24","v":16},{"$f":"campeonato!L17","v":102},{"$f":"campeonato!B18","v":"J"},{"$f":"campeonato!A18","v":10},{"$f":"campeonato!M17","v":0},{"$f":"campeonato!B20","v":"M"},{"$f":"campeonato!A20","v":12},{"$f":"campeonato!N15","v":0},266]
[{"$f":"lista_alunos!H15","v":"F"},6,{"$f":"campeonato!K21","v":125},{"$f":"campeonato!B20","v":"M"},{"$f":"campeonato!A20","v":12},{"$f":"campeonato!L15","v":96},{"$f":"campeonato!B23","v":"P"},{"$f":"campeonato!A23","v":15},{"$f":"campeonato!M18","v":0},{"$f":"campeonato!B19","v":"L"},{"$f":"campeonato!A19","v":11},{"$f":"campeonato!N16","v":0},259]
[{"$f":"lista_alunos!H21","v":"M"},12,{"$f":"campeonato!K18","v":121},{"$f":"campeonato!B21","v":"N"},{"$f":"campeonato!A21","v":13},{"$f":"campeonato!L25","v":94},{"$f":"campeonato!B22","v":"O"},{"$f":"campeonato!A22","v":14},{"$f":"campeonato!M19","v":0},{"$f":"campeonato!B24","v":0},{"$f":"campeonato!A24","v":16},{"$f":"campeonato!N17","v":0},258]
[{"$f":"lista_alunos!H10","v":"a"},1,{"$f":"campeonato!K23","v":111},{"$f":"campeonato!B22","v":"O"},{"$f":"campeonato!A22","v":14},{"$f":"campeonato!L24","v":88},{"$f":"campeonato!B20","v":"M"},{"$f":"campeonato!A20","v":12},{"$f":"campeonato!M21","v":0},{"$f":"campeonato!B16","v":"H"},{"$f":"campeonato!A16","v":8},{"$f":"campeonato!N18","v":0},233]
[{"$f":"lista_alunos!H11","v":"B"},2,{"$f":"campeonato!K25","v":100},{"$f":"campeonato!B23","v":"P"},{"$f":"campeonato!A23","v":15},{"$f":"campeonato!L23","v":86},{"$f":"campeonato!B19","v":"L"},{"$f":"campeonato!A19","v":11},{"$f":"campeonato!M22","v":0},{"$f":"campeonato!B14","v":"F"},{"$f":"campeonato!A14","v":6},{"$f":"campeonato!N19","v":0},218]
[{"$f":"lista_alunos!H22","v":"N"},13,{"$f":"campeonato!K17","v":74},{"$f":"campeonato!B25","v":0},{"$f":"campeonato!A25","v":17},{"$f":"campeonato!L22","v":81},{"$f":"campeonato!B16","v":"H"},{"$f":"campeonato!A16","v":8},{"$f":"campeonato!M15","v":0},{"$f":"campeonato!B17","v":"I"},{"$f":"campeonato!A17","v":9},{"$f":"campeonato!N20","v":0},189]
[{"$f":"lista_alunos!H18","v":"I"},9,{"$f":"campeonato!K22","v":61},{"$f":"campeonato!B18","v":"J"},{"$f":"campeonato!A18","v":10},{"$f":"campeonato!L21","v":80},{"$f":"campeonato!B14","v":"F"},{"$f":"campeonato!A14","v":6},{"$f":"campeonato!M13","v":0},{"$f":"campeonato!B25","v":0},{"$f":"campeonato!A25","v":17},{"$f":"campeonato!N22","v":0},174]
[{"$f":"lista_alunos!H20","v":"L"},11,{"$f":"campeonato!K10","v":48},{"$f":"campeonato!B34","v":0},{"$f":"campeonato!A34","v":26},{"$f":"campeonato!L20","v":70},{"$f":"campeonato!B17","v":"I"},{"$f":"campeonato!A17","v":9},{"$f":"campeonato!M24","v":0},{"$f":"campeonato!B11","v":"C"},{"$f":"campeonato!A11","v":3},{"$f":"campeonato!N23","v":0},156]
[{"$f":"lista_alunos!H26","v":0},17,{"$f":"campeonato!K14","v":41},{"$f":"campeonato!B12","v":"D"},{"$f":"campeonato!A12","v":4},{"$f":"campeonato!L13","v":52},{"$f":"campeonato!B25","v":0},{"$f":"campeonato!A25","v":17},{"$f":"campeonato!M25","v":0},{"$f":"campeonato!B9","v":"a"},{"$f":"campeonato!A9","v":1},{"$f":"campeonato!N24","v":0},115]
[{"$f":"lista_alunos!H35","v":0},26,{"$f":"campeonato!K12","v":16},{"$f":"campeonato!B13","v":"E"},{"$f":"campeonato!A13","v":5},{"$f":"campeonato!L11","v":48},{"$f":"campeonato!B11","v":"C"},{"$f":"campeonato!A11","v":3},{"$f":"campeonato!M16","v":0},{"$f":"campeonato!B13","v":"E"},{"$f":"campeonato!A13","v":5},{"$f":"campeonato!N10","v":0},77]
[{"$f":"lista_alunos!H12","v":"C"},3,{"$f":"campeonato!K11","v":12},{"$f":"campeonato!B17","v":"I"},{"$f":"campeonato!A17","v":9},{"$f":"campeonato!L19","v":15},{"$f":"campeonato!B9","v":"a"},{"$f":"campeonato!A9","v":1},{"$f":"campeonato!M11","v":0},{"$f":"campeonato!B10","v":"B"},{"$f":"campeonato!A10","v":2},{"$f":"campeonato!N25","v":0},39]
[{"$f":"lista_alunos!H16","v":"G"},7,{"$f":"campeonato!K26","v":0},{"$f":"campeonato!B15","v":"G"},{"$f":"campeonato!A15","v":7},{"$f":"campeonato!L26","v":0},{"$f":"campeonato!B15","v":"G"},{"$f":"campeonato!A15","v":7},{"$f":"campeonato!M26","v":0},{"$f":"campeonato!B15","v":"G"},{"$f":"campeonato!A15","v":7},{"$f":"campeonato!N26","v":0},21]
[{"$f":"lista_alunos!H34","v":0},25,{"$f":"campeonato!K27","v":0},{"$f":"campeonato!B26","v":0},{"$f":"campeonato!A26","v":18},{"$f":"campeonato!L27","v":0},{"$f":"campeonato!B26","v":0},{"$f":"campeonato!A26","v":18},{"$f":"campeonato!M27","v":0},{"$f":"campeonato!B33","v":0},{"$f":"campeonato!A33","v":25},{"$f":"campeonato!N27","v":0},61]
[{"$f":"lista_alunos!H27","v":0},18,{"$f":"campeonato!K28","v":0},{"$f":"campeonato!B27","v":0},{"$f":"campeonato!A27","v":19},{"$f":"campeonato!L28","v":0},{"$f":"campeonato!B27","v":0},{"$f":"campeonato!A27","v":19},{"$f":"campeonato!M28","v":0},{"$f":"campeonato!B32","v":0},{"$f":"campeonato!A32","v":24},{"$f":"campeonato!N28","v":0},62]
[{"$f":"lista_alunos!H28","v":0},19,{"$f":"campeonato!K29","v":0},{"$f":"campeonato!B28","v":0},{"$f":"campeonato!A28","v":20},{"$f":"campeonato!L29","v":0},{"$f":"campeonato!B28","v":0},{"$f":"campeonato!A28","v":20},{"$f":"campeonato!M29","v":0},{"$f":"campeonato!B31","v":0},{"$f":"campeonato!A31","v":23},{"$f":"campeonato!N29","v":0},63]
[{"$f":"lista_alunos!H29","v":0},20,{"$f":"campeonato!K30","v":0},{"$f":"campeonato!B29","v":0},{"$f":"campeonato!A29","v":21},{"$f":"campeonato!L30","v":0},{"$f":"campeonato!B29","v":0},{"$f":"campeonato!A29","v":21},{"$f":"campeonato!M30","v":0},{"$f":"campeonato!B30","v":0},{"$f":"campeonato!A30","v":22},{"$f":"campeonato!N30","v":0},64]
[{"$f":"lista_alunos!H30","v":0},21,{"$f":"campeonato!K31","v":0},{"$f":"campeonato!B30","v":0},{"$f":"campeonato!A30","v":22},{"$f":"campeonato!L31","v":0},{"$f":"campeonato!B30","v":0},{"$f":"campeonato!A30","v":22},{"$f":"campeonato!M31","v":0},{"$f":"campeonato!B29","v":0},{"$f":"campeonato!A29","v":21},{"$f":"campeonato!N31","v":0},65]
[{"$f":"lista_alunos!H31","v":0},22,{"$f":"campeonato!K32","v":0},{"$f":"campeonato!B31","v":0},{"$f":"campeonato!A31","v":23},{"$f":"campeonato!L32","v":0},{"$f":"campeonato!B31","v":0},{"$f":"campeonato!A31","v":23},{"$f":"campeonato!M32","v":0},{"$f":"campeonato!B28","v":0},{"$f":"campeonato!A28","v":20},{"$f":"campeonato!N32","v":0},66]
[{"$f":"lista_alunos!H32","v":0},23,{"$f":"campeonato!K33","v":0},{"$f":"campeonato!B32","v":0},{"$f":"campeonato!A32","v":24},{"$f":"campeonato!L33","v":0},{"$f":"campeonato!B32","v":0},{"$f":"campeonato!A32","v":24},{"$f":"campeonato!M33","v":0},{"$f":"campeonato!B27","v":0},{"$f":"campeonato!A27","v":19},{"$f":"campeonato!N33","v":0},67]
[{"$f":"lista_alunos!H33","v":0},24,{"$f":"campeonato!K34","v":0},{"$f":"campeonato!B33","v":0},{"$f":"campeonato!A33","v":25},{"$f":"campeonato!L34","v":0},{"$f":"campeonato!B33","v":0},{"$f":"campeonato!A33","v":25},{"$f":"campeonato!M34","v":0},{"$f":"campeonato!B26","v":0},{"$f":"campeonato!A26","v":18},{"$f":"campeonato!N34","v":0},68]
[]
[]
[]
[]
[null,"JOGO 1",null,null,null,null,null,"JOGO 2",null,null,null,null,null,"JOGO 3",null,null,null,null,"JOGO 4"]
[]
[null,null,{"$f":"LARGE(C8:C32,1)","v":146},null,null,null,null,null,{"$f":"LARGE(F8:F32,1)","v":102},null,null,null,null,null,{"$f":"LARGE(I8:I32,1)","v":97},null,null,null,null,{"$f":"LARGE(L8:L32,1)","v":59}]
[null,{"$f":"LARGE(C8:C32,2)","v":137},"1ºLugar",{"$f":"LARGE(C8:C32,3)","v":136},null,null,null,{"$f":"LARGE(F8:F32,2)","v":96},"1ºLugar",{"$f":"LARGE(F8:F32,3)","v":94},null,null,null,{"$f":"LARGE(I8:I32,2)","v":65},"1ºLugar",{"$f":"LARGE(I8:I32,3)","v":38},null,null,{"$f":"LARGE(L8:L32,2)","v":27},"1ºLugar",{"$f":"LARGE(L8:L32,3)","v":12}]
[null,"2ºLugar",null,"3ºLugar",null,{"$f":"LARGE(C8:C32,4)","v":126},null,"2ºLugar",null,"3ºLugar",null,{"$f":"LARGE(F8:F32,4)","v":88},null,"2ºLugar",null,"3ºLugar",{"$f":"LARGE(I8:I32,4)","v":22},null,"2ºLugar",null,"3ºLugar",{"$f":"LARGE(L8:L32,4)","v":0}]
[null,null,null,null,"4ºLugar",null,null,null,null,null,"4ºLugar",null,null,null,null,null,"4ºLugar",null,null,null,null,"4ºLugar"]

{"sheet":"novembro","index":10,"n_rows":43,"n_cols":22,"rows_kept":43,"cut":false,"hidden":false,"merged":[[37,13,37,17],[37,18,37,22],[42,4,42,5],[42,10,42,11],[1,0,3,11],[5,2,5,12],[37,1,37,6],[37,7,37,12]]}
[]
["Jogos de novembro"]
[]
[]
[]
[null,null,"novembro"]
["Nome","Ordem","J9","Nome","Ordem","J10","Nome","Ordem","J11","Nome","Ordem","J12","Total"]
[{"$f":"lista_alunos!H25","v":0},16,{"$f":"campeonato!P9","v":"B"},{"$f":"campeonato!B34","v":0},{"$f":"campeonato!A34","v":26},{"$f":"campeonato!Q22","v":0},{"$f":"campeonato!B18","v":"J"},{"$f":"campeonato!A18","v":10},{"$f":"campeonato!R15","v":0},{"$f":"campeonato!B18","v":"J"},{"$f":"campeonato!A18","v":10},{"$f":"campeonato!S13","v":0},{"$f":"SUM(C8:L8)","v":46}]
[{"$f":"lista_alunos!H19","v":"J"},10,{"$f":"campeonato!P13","v":0},{"$f":"campeonato!B33","v":0},{"$f":"campeonato!A33","v":25},{"$f":"campeonato!Q34","v":0},{"$f":"campeonato!B23","v":"P"},{"$f":"campeonato!A23","v":15},{"$f":"campeonato!R16","v":0},{"$f":"campeonato!B23","v":"P"},{"$f":"campeonato!A23","v":15},{"$f":"campeonato!S12","v":0},55]
[{"$f":"lista_alunos!H24","v":"P"},15,{"$f":"campeonato!P10","v":0},{"$f":"campeonato!B32","v":0},{"$f":"campeonato!A32","v":24},{"$f":"campeonato!Q33","v":0},{"$f":"campeonato!B22","v":"O"},{"$f":"campeonato!A22","v":14},{"$f":"campeonato!R17","v":0},{"$f":"campeonato!B22","v":"O"},{"$f":"campeonato!A22","v":14},{"$f":"campeonato!S14","v":0},52]
[{"$f":"lista_alunos!H23","v":"O"},14,{"$f":"campeonato!P12","v":0},{"$f":"campeonato!B31","v":0},{"$f":"campeonato!A31","v":23},{"$f":"campeonato!Q32","v":0},{"$f":"campeonato!B21","v":"N"},{"$f":"campeonato!A21","v":13},{"$f":"campeonato!R12","v":0},{"$f":"campeonato!B21","v":"N"},{"$f":"campeonato!A21","v":13},{"$f":"campeonato!S9","v":0},49]
[{"$f":"lista_alunos!H22","v":"N"},13,{"$f":"campeonato!P20","v":0},{"$f":"campeonato!B30","v":0},{"$f":"campeonato!A30","v":22},{"$f":"campeonato!Q31","v":0},{"$f":"campeonato!B20","v":"M"},{"$f":"campeonato!A20","v":12},{"$f":"campeonato!R18","v":0},{"$f":"campeonato!B20","v":"M"},{"$f":"campeonato!A20","v":12},{"$f":"campeonato!S15","v":0},46]
[{"$f":"lista_alunos!H21","v":"M"},12,{"$f":"campeonato!P17","v":0},{"$f":"campeonato!B29","v":0},{"$f":"campeonato!A29","v":21},{"$f":"campeonato!Q30","v":0},{"$f":"campeonato!B19","v":"L"},{"$f":"campeonato!A19","v":11},{"$f":"campeonato!R19","v":0},{"$f":"campeonato!B19","v":"L"},{"$f":"campeonato!A19","v":11},{"$f":"campeonato!S16","v":0},43]
[{"$f":"lista_alunos!H20","v":"L"},11,{"$f":"campeonato!P22","v":0},{"$f":"campeonato!B28","v":0},{"$f":"campeonato!A28","v":20},{"$f":"campeonato!Q29","v":0},{"$f":"campeonato!B24","v":0},{"$f":"campeonato!A24","v":16},{"$f":"campeonato!R11","v":0},{"$f":"campeonato!B24","v":0},{"$f":"campeonato!A24","v":16},{"$f":"campeonato!S17","v":0},52]
[{"$f":"lista_alunos!H17","v":"H"},8,{"$f":"campeonato!P11","v":0},{"$f":"campeonato!B27","v":0},{"$f":"campeonato!A27","v":19},{"$f":"campeonato!Q28","v":0},{"$f":"campeonato!B16","v":"H"},{"$f":"campeonato!A16","v":8},{"$f":"campeonato!R20","v":0},{"$f":"campeonato!B16","v":"H"},{"$f":"campeonato!A16","v":8},{"$f":"campeonato!S18","v":0},35]
[{"$f":"lista_alunos!H15","v":"F"},6,{"$f":"campeonato!P16","v":0},{"$f":"campeonato!B26","v":0},{"$f":"campeonato!A26","v":18},{"$f":"campeonato!Q27","v":0},{"$f":"campeonato!B14","v":"F"},{"$f":"campeonato!A14","v":6},{"$f":"campeonato!R21","v":0},{"$f":"campeonato!B14","v":"F"},{"$f":"campeonato!A14","v":6},{"$f":"campeonato!S19","v":0},30]
[{"$f":"lista_alunos!H18","v":"I"},9,{"$f":"campeonato!P21","v":0},{"$f":"campeonato!B25","v":0},{"$f":"campeonato!A25","v":17},{"$f":"campeonato!Q20","v":0},{"$f":"campeonato!B17","v":"I"},{"$f":"campeonato!A17","v":9},{"$f":"campeonato!R22","v":0},{"$f":"campeonato!B17","v":"I"},{"$f":"campeonato!A17","v":9},{"$f":"campeonato!S20","v":0},35]
[{"$f":"lista_alunos!H35","v":0},26,{"$f":"campeonato!P24","v":0},{"$f":"campeonato!B24","v":0},{"$f":"campeonato!A24","v":16},{"$f":"campeonato!Q15","v":0},{"$f":"campeonato!B34","v":0},{"$f":"campeonato!A34","v":26},{"$f":"campeonato!R14","v":0},{"$f":"campeonato!B34","v":0},{"$f":"campeonato!A34","v":26},{"$f":"campeonato!S10","v":0},68]
[{"$f":"lista_alunos!H26","v":0},17,{"$f":"campeonato!P23","v":0},{"$f":"campeonato!B23","v":"P"},{"$f":"campeonato!A23","v":15},{"$f":"campeonato!Q19","v":0},{"$f":"campeonato!B25","v":0},{"$f":"campeonato!A25","v":17},{"$f":"campeonato!R23","v":0},{"$f":"campeonato!B25","v":0},{"$f":"campeonato!A25","v":17},{"$f":"campeonato!S21","v":0},49]
[{"$f":"lista_alunos!H12","v":"C"},3,{"$f":"campeonato!P25","v":0},{"$f":"campeonato!B22","v":"O"},{"$f":"campeonato!A22","v":14},{"$f":"campeonato!Q18","v":0},{"$f":"campeonato!B11","v":"C"},{"$f":"campeonato!A11","v":3},{"$f":"campeonato!R24","v":0},{"$f":"campeonato!B11","v":"C"},{"$f":"campeonato!A11","v":3},{"$f":"campeonato!S22","v":0},20]
[{"$f":"lista_alunos!H10","v":"a"},1,{"$f":"campeonato!P18","v":0},{"$f":"campeonato!B21","v":"N"},{"$f":"campeonato!A21","v":13},{"$f":"campeonato!Q17","v":0},{"$f":"campeonato!B9","v":"a"},{"$f":"campeonato!A9","v":1},{"$f":"campeonato!R25","v":0},{"$f":"campeonato!B9","v":"a"},{"$f":"campeonato!A9","v":1},{"$f":"campeonato!S23","v":0},15]
[{"$f":"lista_alunos!H14","v":"E"},5,{"$f":"campeonato!P15","v":0},{"$f":"campeonato!B20","v":"M"},{"$f":"campeonato!A20","v":12},{"$f":"campeonato!Q16","v":0},{"$f":"campeonato!B13","v":"E"},{"$f":"campeonato!A13","v":5},{"$f":"campeonato!R10","v":0},{"$f":"campeonato!B13","v":"E"},{"$f":"campeonato!A13","v":5},{"$f":"campeonato!S24","v":0},22]
[{"$f":"lista_alunos!H11","v":"B"},2,{"$f":"campeonato!P19","v":0},{"$f":"campeonato!B19","v":"L"},{"$f":"campeonato!A19","v":11},{"$f":"campeonato!Q13","v":0},{"$f":"campeonato!B10","v":"B"},{"$f":"campeonato!A10","v":2},{"$f":"campeonato!R9","v":1},{"$f":"campeonato!B10","v":"B"},{"$f":"campeonato!A10","v":2},{"$f":"campeonato!S25","v":0},16]
[{"$f":"lista_alunos!H13","v":"D"},4,{"$f":"campeonato!P14","v":0},{"$f":"campeonato!B18","v":"J"},{"$f":"campeonato!A18","v":10},{"$f":"campeonato!Q21","v":0},{"$f":"campeonato!B12","v":"D"},{"$f":"campeonato!A12","v":4},{"$f":"campeonato!R13","v":0},{"$f":"campeonato!B12","v":"D"},{"$f":"campeonato!A12","v":4},{"$f":"campeonato!S11","v":0},18]
[{"$f":"lista_alunos!H16","v":"G"},7,{"$f":"campeonato!P26","v":0},{"$f":"campeonato!B17","v":"I"},{"$f":"campeonato!A17","v":9},{"$f":"campeonato!Q25","v":0},{"$f":"campeonato!B15","v":"G"},{"$f":"campeonato!A15","v":7},{"$f":"campeonato!R26","v":0},{"$f":"campeonato!B15","v":"G"},{"$f":"campeonato!A15","v":7},{"$f":"campeonato!S26","v":0},23]
[{"$f":"lista_alunos!H34","v":0},25,{"$f":"campeonato!P27","v":0},{"$f":"campeonato!B16","v":"H"},{"$f":"campeonato!A16","v":8},{"$f":"campeonato!Q9","v":"F"},{"$f":"campeonato!B26","v":0},{"$f":"campeonato!A26","v":18},{"$f":"campeonato!R27","v":0},{"$f":"campeonato!B33","v":0},{"$f":"campeonato!A33","v":25},{"$f":"campeonato!S27","v":0},51]
[{"$f":"lista_alunos!H27","v":0},18,{"$f":"campeonato!P28","v":0},{"$f":"campeonato!B15","v":"G"},{"$f":"campeonato!A15","v":7},{"$f":"campeonato!Q26","v":0},{"$f":"campeonato!B27","v":0},{"$f":"campeonato!A27","v":19},{"$f":"campeonato!R28","v":0},{"$f":"campeonato!B32","v":0},{"$f":"campeonato!A32","v":24},{"$f":"campeonato!S28","v":0},50]
[{"$f":"lista_alunos!H28","v":0},19,{"$f":"campeonato!P29","v":0},{"$f":"campeonato!B14","v":"F"},{"$f":"campeonato!A14","v":6},{"$f":"campeonato!Q10","v":0},{"$f":"campeonato!B28","v":0},{"$f":"campeonato!A28","v":20},{"$f":"campeonato!R29","v":0},{"$f":"campeonato!B31","v":0},{"$f":"campeonato!A31","v":23},{"$f":"campeonato!S29","v":0},49]
[{"$f":"lista_alunos!H29","v":0},20,{"$f":"campeonato!P30","v":0},{"$f":"campeonato!B13","v":"E"},{"$f":"campeonato!A13","v":5},{"$f":"campeonato!Q24","v":0},{"$f":"campeonato!B29","v":0},{"$f":"campeonato!A29","v":21},{"$f":"campeonato!R30","v":0},{"$f":"campeonato!B30","v":0},{"$f":"campeonato!A30","v":22},{"$f":"campeonato!S30","v":0},48]
[{"$f":"lista_alunos!H30","v":0},21,{"$f":"campeonato!P31","v":0},{"$f":"campeonato!B12","v":"D"},{"$f":"campeonato!A12","v":4},{"$f":"campeonato!Q23","v":0},{"$f":"campeonato!B30","v":0},{"$f":"campeonato!A30","v":22},{"$f":"campeonato!R31","v":0},{"$f":"campeonato!B29","v":0},{"$f":"campeonato!A29","v":21},{"$f":"campeonato!S31","v":0},47]
[{"$f":"lista_alunos!H31","v":0},22,{"$f":"campeonato!P32","v":0},{"$f":"campeonato!B11","v":"C"},{"$f":"campeonato!A11","v":3},{"$f":"campeonato!Q11","v":0},{"$f":"campeonato!B31","v":0},{"$f":"campeonato!A31","v":23},{"$f":"campeonato!R32","v":0},{"$f":"campeonato!B28","v":0},{"$f":"campeonato!A28","v":20},{"$f":"campeonato!S32","v":0},46]
[{"$f":"lista_alunos!H32","v":0},23,{"$f":"campeonato!P33","v":0},{"$f":"campeonato!B10","v":"B"},{"$f":"campeonato!A10","v":2},{"$f":"campeonato!Q12","v":0},{"$f":"campeonato!B32","v":0},{"$f":"campeonato!A32","v":24},{"$f":"campeonato!R33","v":0},{"$f":"campeonato!B27","v":0},{"$f":"campeonato!A27","v":19},{"$f":"campeonato!S33","v":0},45]
[{"$f":"lista_alunos!H33","v":0},24,{"$f":"campeonato!P34","v":0},{"$f":"campeonato!B9","v":"a"},{"$f":"campeonato!A9","v":1},{"$f":"campeonato!Q14","v":0},{"$f":"campeonato!B33","v":0},{"$f":"campeonato!A33","v":25},{"$f":"campeonato!R34","v":0},{"$f":"campeonato!B26","v":0},{"$f":"campeonato!A26","v":18},{"$f":"campeonato!S34","v":0},44]
[]
[]
[]
[]
[null,"JOGO 1",null,null,null,null,null,"JOGO 2",null,null,null,null,null,"JOGO 3",null,null,null,null,"JOGO 4"]
[]
[null,null,{"$f":"LARGE(C8:C32,1)","v":0},null,null,null,null,null,{"$f":"LARGE(F8:F32,1)","v":0},null,null,null,null,null,{"$f":"LARGE(I8:I32,1)","v":1},null,null,null,null,{"$f":"LARGE(L8:L32,1)","v":0}]
[null,{"$f":"LARGE(C8:C32,2)","v":0},"1ºLugar",{"$f":"LARGE(C8:C32,3)","v":0},null,null,null,{"$f":"LARGE(F8:F32,2)","v":0},"1ºLugar",{"$f":"LARGE(F8:F32,3)","v":0},null,null,null,{"$f":"LARGE(I8:I32,2)","v":0},"1ºLugar",{"$f":"LARGE(I8:I32,3)","v":0},null,null,{"$f":"LARGE(L8:L32,2)","v":0},"1ºLugar",{"$f":"LARGE(L8:L32,3)","v":0}]
[null,"2ºLugar",null,"3ºLugar",null,{"$f":"LARGE(C8:C32,4)","v":0},null,"2ºLugar",null,"3ºLugar",null,{"$f":"LARGE(F8:F32,4)","v":0},null,"2ºLugar",null,"3ºLugar",{"$f":"LARGE(I8:I32,4)","v":0},null,"2ºLugar",null,"3ºLugar",{"$f":"LARGE(L8:L32,4)","v":0}]
[null,null,null,null,"4ºLugar",null,null,null,null,null,"4ºLugar",null,null,null,null,null,"4ºLugar",null,null,null,null,"4ºLugar"]

{"sheet":"dezembro","index":11,"n_rows":43,"n_cols":22,"rows_kept":43,"cut":false,"hidden":false,"merged":[[37,13,37,17],[37,18,37,22],[42,4,42,5],[42,10,42,11],[1,0,3,11],[5,2,5,12],[37,1,37,6],[37,7,37,12]]}
[]
["Jogos de dezembro"]
[]
[]
[]
[null,null,"dezembro"]
["Nome","Ordem","J13","Nome","Ordem","J14","Nome","Ordem","J15","Nome","Ordem","J16","Total"]
[{"$f":"lista_alunos!H25","v":0},16,{"$f":"campeonato!P9","v":"B"},{"$f":"campeonato!B16","v":"H"},{"$f":"campeonato!A16","v":8},{"$f":"campeonato!Q9","v":"F"},{"$f":"campeonato!B10","v":"B"},{"$f":"campeonato!A10","v":2},{"$f":"campeonato!W9","v":1},{"$f":"campeonato!B18","v":"J"},{"$f":"campeonato!A18","v":10},{"$f":"campeonato!X9","v":3},{"$f":"SUM(C8:L8)","v":24}]
[{"$f":"lista_alunos!H19","v":"J"},10,{"$f":"campeonato!P13","v":0},{"$f":"campeonato!B18","v":"J"},{"$f":"campeonato!A18","v":10},{"$f":"campeonato!Q21","v":0},{"$f":"campeonato!B23","v":"P"},{"$f":"campeonato!A23","v":15},{"$f":"campeonato!W10","v":0},{"$f":"campeonato!B23","v":"P"},{"$f":"campeonato!A23","v":15},{"$f":"campeonato!X10","v":0},40]
[{"$f":"lista_alunos!H24","v":"P"},15,{"$f":"campeonato!P10","v":0},{"$f":"campeonato!B23","v":"P"},{"$f":"campeonato!A23","v":15},{"$f":"campeonato!Q19","v":0},{"$f":"campeonato!B22","v":"O"},{"$f":"campeonato!A22","v":14},{"$f":"campeonato!W11","v":0},{"$f":"campeonato!B22","v":"O"},{"$f":"campeonato!A22","v":14},{"$f":"campeonato!X11","v":0},43]
[{"$f":"lista_alunos!H23","v":"O"},14,{"$f":"campeonato!P12","v":0},{"$f":"campeonato!B22","v":"O"},{"$f":"campeonato!A22","v":14},{"$f":"campeonato!Q18","v":0},{"$f":"campeonato!B21","v":"N"},{"$f":"campeonato!A21","v":13},{"$f":"campeonato!W12","v":0},{"$f":"campeonato!B21","v":"N"},{"$f":"campeonato!A21","v":13},{"$f":"campeonato!X12","v":0},40]
[{"$f":"lista_alunos!H22","v":"N"},13,{"$f":"campeonato!P20","v":0},{"$f":"campeonato!B21","v":"N"},{"$f":"campeonato!A21","v":13},{"$f":"campeonato!Q17","v":0},{"$f":"campeonato!B20","v":"M"},{"$f":"campeonato!A20","v":12},{"$f":"campeonato!W13","v":0},{"$f":"campeonato!B20","v":"M"},{"$f":"campeonato!A20","v":12},{"$f":"campeonato!X13","v":0},37]
[{"$f":"lista_alunos!H21","v":"M"},12,{"$f":"campeonato!P17","v":0},{"$f":"campeonato!B20","v":"M"},{"$f":"campeonato!A20","v":12},{"$f":"campeonato!Q16","v":0},{"$f":"campeonato!B19","v":"L"},{"$f":"campeonato!A19","v":11},{"$f":"campeonato!W14","v":0},{"$f":"campeonato!B19","v":"L"},{"$f":"campeonato!A19","v":11},{"$f":"campeonato!X14","v":0},34]
[{"$f":"lista_alunos!H20","v":"L"},11,{"$f":"campeonato!P22","v":0},{"$f":"campeonato!B19","v":"L"},{"$f":"campeonato!A19","v":11},{"$f":"campeonato!Q13","v":0},{"$f":"campeonato!B18","v":"J"},{"$f":"campeonato!A18","v":10},{"$f":"campeonato!W15","v":0},{"$f":"campeonato!B17","v":"I"},{"$f":"campeonato!A17","v":9},{"$f":"campeonato!X18","v":0},30]
[{"$f":"lista_alunos!H17","v":"H"},8,{"$f":"campeonato!P11","v":0},{"$f":"campeonato!B24","v":0},{"$f":"campeonato!A24","v":16},{"$f":"campeonato!Q15","v":0},{"$f":"campeonato!B17","v":"I"},{"$f":"campeonato!A17","v":9},{"$f":"campeonato!W16","v":0},{"$f":"campeonato!B16","v":"H"},{"$f":"campeonato!A16","v":8},{"$f":"campeonato!X16","v":0},33]
[{"$f":"lista_alunos!H15","v":"F"},6,{"$f":"campeonato!P16","v":0},{"$f":"campeonato!B14","v":"F"},{"$f":"campeonato!A14","v":6},{"$f":"campeonato!Q10","v":0},{"$f":"campeonato!B16","v":"H"},{"$f":"campeonato!A16","v":8},{"$f":"campeonato!W17","v":0},{"$f":"campeonato!B15","v":"G"},{"$f":"campeonato!A15","v":7},{"$f":"campeonato!X26","v":0},21]
[{"$f":"lista_alunos!H18","v":"I"},9,{"$f":"campeonato!P21","v":0},{"$f":"campeonato!B17","v":"I"},{"$f":"campeonato!A17","v":9},{"$f":"campeonato!Q25","v":0},{"$f":"campeonato!B15","v":"G"},{"$f":"campeonato!A15","v":7},{"$f":"campeonato!W18","v":0},{"$f":"campeonato!B14","v":"F"},{"$f":"campeonato!A14","v":6},{"$f":"campeonato!X17","v":0},22]
[{"$f":"lista_alunos!H35","v":0},26,{"$f":"campeonato!P24","v":0},{"$f":"campeonato!B34","v":0},{"$f":"campeonato!A34","v":26},{"$f":"campeonato!Q22","v":0},{"$f":"campeonato!B14","v":"F"},{"$f":"campeonato!A14","v":6},{"$f":"campeonato!W19","v":0},{"$f":"campeonato!B13","v":"E"},{"$f":"campeonato!A13","v":5},{"$f":"campeonato!X23","v":0},37]
[{"$f":"lista_alunos!H26","v":0},17,{"$f":"campeonato!P23","v":0},{"$f":"campeonato!B25","v":0},{"$f":"campeonato!A25","v":17},{"$f":"campeonato!Q20","v":0},{"$f":"campeonato!B13","v":"E"},{"$f":"campeonato!A13","v":5},{"$f":"campeonato!W20","v":0},{"$f":"campeonato!B12","v":"D"},{"$f":"campeonato!A12","v":4},{"$f":"campeonato!X25","v":0},26]
[{"$f":"lista_alunos!H12","v":"C"},3,{"$f":"campeonato!P25","v":0},{"$f":"campeonato!B11","v":"C"},{"$f":"campeonato!A11","v":3},{"$f":"campeonato!Q11","v":0},{"$f":"campeonato!B12","v":"D"},{"$f":"campeonato!A12","v":4},{"$f":"campeonato!W21","v":0},{"$f":"campeonato!B11","v":"C"},{"$f":"campeonato!A11","v":3},{"$f":"campeonato!X21","v":0},10]
[{"$f":"lista_alunos!H10","v":"a"},1,{"$f":"campeonato!P18","v":0},{"$f":"campeonato!B9","v":"a"},{"$f":"campeonato!A9","v":1},{"$f":"campeonato!Q14","v":0},{"$f":"campeonato!B11","v":"C"},{"$f":"campeonato!A11","v":3},{"$f":"campeonato!W22","v":0},{"$f":"campeonato!B10","v":"B"},{"$f":"campeonato!A10","v":2},{"$f":"campeonato!X24","v":0},6]
[{"$f":"lista_alunos!H14","v":"E"},5,{"$f":"campeonato!P15","v":0},{"$f":"campeonato!B13","v":"E"},{"$f":"campeonato!A13","v":5},{"$f":"campeonato!Q24","v":0},{"$f":"campeonato!B9","v":"a"},{"$f":"campeonato!A9","v":1},{"$f":"campeonato!W23","v":0},{"$f":"campeonato!B9","v":"a"},{"$f":"campeonato!A9","v":1},{"$f":"campeonato!X22","v":0},7]
[{"$f":"lista_alunos!H11","v":"B"},2,{"$f":"campeonato!P19","v":0},{"$f":"campeonato!B10","v":"B"},{"$f":"campeonato!A10","v":2},{"$f":"campeonato!Q12","v":0},{"$f":"campeonato!B24","v":0},{"$f":"campeonato!A24","v":16},{"$f":"campeonato!W24","v":0},{"$f":"campeonato!B24","v":0},{"$f":"campeonato!A24","v":16},{"$f":"campeonato!X15","v":0},34]
[{"$f":"lista_alunos!H13","v":"D"},4,{"$f":"campeonato!P14","v":0},{"$f":"campeonato!B12","v":"D"},{"$f":"campeonato!A12","v":4},{"$f":"campeonato!Q23","v":0},{"$f":"campeonato!B34","v":0},{"$f":"campeonato!A34","v":26},{"$f":"campeonato!W25","v":0},{"$f":"campeonato!B34","v":0},{"$f":"campeonato!A34","v":26},{"$f":"campeonato!X19","v":0},56]
[{"$f":"lista_alunos!H16","v":"G"},7,{"$f":"campeonato!P26","v":0},{"$f":"campeonato!B15","v":"G"},{"$f":"campeonato!A15","v":7},{"$f":"campeonato!Q26","v":0},{"$f":"campeonato!B25","v":0},{"$f":"campeonato!A25","v":17},{"$f":"campeonato!W26","v":0},{"$f":"campeonato!B25","v":0},{"$f":"campeonato!A25","v":17},{"$f":"campeonato!X20","v":0},41]
[{"$f":"lista_alunos!H34","v":0},25,{"$f":"campeonato!P27","v":0},{"$f":"campeonato!B33","v":0},{"$f":"campeonato!A33","v":25},{"$f":"campeonato!Q34","v":0},{"$f":"campeonato!B26","v":0},{"$f":"campeonato!A26","v":18},{"$f":"campeonato!W27","v":0},{"$f":"campeonato!B33","v":0},{"$f":"campeonato!A33","v":25},{"$f":"campeonato!X27","v":0},68]
[{"$f":"lista_alunos!H27","v":0},18,{"$f":"campeonato!P28","v":0},{"$f":"campeonato!B32","v":0},{"$f":"campeonato!A32","v":24},{"$f":"campeonato!Q33","v":0},{"$f":"campeonato!B27","v":0},{"$f":"campeonato!A27","v":19},{"$f":"campeonato!W28","v":0},{"$f":"campeonato!B32","v":0},{"$f":"campeonato!A32","v":24},{"$f":"campeonato!X28","v":0},67]
[{"$f":"lista_alunos!H28","v":0},19,{"$f":"campeonato!P29","v":0},{"$f":"campeonato!B31","v":0},{"$f":"campeonato!A31","v":23},{"$f":"campeonato!Q32","v":0},{"$f":"campeonato!B28","v":0},{"$f":"campeonato!A28","v":20},{"$f":"campeonato!W29","v":0},{"$f":"campeonato!B31","v":0},{"$f":"campeonato!A31","v":23},{"$f":"campeonato!X29","v":0},66]
[{"$f":"lista_alunos!H29","v":0},20,{"$f":"campeonato!P30","v":0},{"$f":"campeonato!B30","v":0},{"$f":"campeonato!A30","v":22},{"$f":"campeonato!Q31","v":0},{"$f":"campeonato!B29","v":0},{"$f":"campeonato!A29","v":21},{"$f":"campeonato!W30","v":0},{"$f":"campeonato!B30","v":0},{"$f":"campeonato!A30","v":22},{"$f":"campeonato!X30","v":0},65]
[{"$f":"lista_alunos!H30","v":0},21,{"$f":"campeonato!P31","v":0},{"$f":"campeonato!B29","v":0},{"$f":"campeonato!A29","v":21},{"$f":"campeonato!Q30","v":0},{"$f":"campeonato!B30","v":0},{"$f":"campeonato!A30","v":22},{"$f":"campeonato!W31","v":0},{"$f":"campeonato!B29","v":0},{"$f":"campeonato!A29","v":21},{"$f":"campeonato!X31","v":0},64]
[{"$f":"lista_alunos!H31","v":0},22,{"$f":"campeonato!P32","v":0},{"$f":"campeonato!B28","v":0},{"$f":"campeonato!A28","v":20},{"$f":"campeonato!Q29","v":0},{"$f":"campeonato!B31","v":0},{"$f":"campeonato!A31","v":23},{"$f":"campeonato!W32","v":0},{"$f":"campeonato!B28","v":0},{"$f":"campeonato!A28","v":20},{"$f":"campeonato!X32","v":0},63]
[{"$f":"lista_alunos!H32","v":0},23,{"$f":"campeonato!P33","v":0},{"$f":"campeonato!B27","v":0},{"$f":"campeonato!A27","v":19},{"$f":"campeonato!Q28","v":0},{"$f":"campeonato!B32","v":0},{"$f":"campeonato!A32","v":24},{"$f":"campeonato!W33","v":0},{"$f":"campeonato!B27","v":0},{"$f":"campeonato!A27","v":19},{"$f":"campeonato!X33","v":0},62]
[{"$f":"lista_alunos!H33","v":0},24,{"$f":"campeonato!P34","v":0},{"$f":"campeonato!B26","v":0},{"$f":"campeonato!A26","v":18},{"$f":"campeonato!Q27","v":0},{"$f":"campeonato!B33","v":0},{"$f":"campeonato!A33","v":25},{"$f":"campeonato!W34","v":0},{"$f":"campeonato!B26","v":0},{"$f":"campeonato!A26","v":18},{"$f":"campeonato!X34","v":0},61]
[]
[]
[]
[]
[null,"JOGO 1",null,null,null,null,null,"JOGO 2",null,null,null,null,null,"JOGO 3",null,null,null,null,"JOGO 4"]
[]
[null,null,{"$f":"LARGE(C8:C32,1)","v":0},null,null,null,null,null,{"$f":"LARGE(F8:F32,1)","v":0},null,null,null,null,null,{"$f":"LARGE(I8:I32,1)","v":1},null,null,null,null,{"$f":"LARGE(L8:L32,1)","v":3}]
[null,{"$f":"LARGE(C8:C32,2)","v":0},"1ºLugar",{"$f":"LARGE(C8:C32,3)","v":0},null,null,null,{"$f":"LARGE(F8:F32,2)","v":0},"1ºLugar",{"$f":"LARGE(F8:F32,3)","v":0},null,null,null,{"$f":"LARGE(I8:I32,2)","v":0},"1ºLugar",{"$f":"LARGE(I8:I32,3)","v":0},null,null,{"$f":"LARGE(L8:L32,2)","v":0},"1ºLugar",{"$f":"LARGE(L8:L32,3)","v":0}]
[null,"2ºLugar",null,"3ºLugar",null,{"$f":"LARGE(C8:C32,4)","v":0},null,"2ºLugar",null,"3ºLugar",null,{"$f":"LARGE(F8:F32,4)","v":0},null,"2ºLugar",null,"3ºLugar",{"$f":"LARGE(I8:I32,4)","v":0},null,"2ºLugar",null,"3ºLugar",{"$f":"LARGE(L8:L32,4)","v":0}]
[null,null,null,null,"4ºLugar",null,null,null,null,null,"4ºLugar",null,null,null,null,null,"4ºLugar",null,null,null,null,"4ºLugar"]

{"sheet":"janeio","index":12,"n_rows":43,"n_cols":22,"rows_kept":43,"cut":false,"hidden":false,"merged":[[37,18,37,22],[42,4,42,5],[42,10,42,11],[1,0,3,11],[5,2,5,12],[37,1,37,6],[37,7,37,12],[37,13,37,17]]}
[]
["Jogos de janeiro"]
[]
[]
[]
[null,null,"janeiro"]
["Nome","Ordem","J17","Nome","Ordem","J18","Nome","Ordem","J19","Nome","Ordem","J20","Total"]
[{"$f":"lista_alunos!H27","v":0},18,{"$f":"campeonato!Z9","v":2},{"$f":"campeonato!B26","v":0},{"$f":"campeonato!A26","v":18},{"$f":"campeonato!AA9","v":0},{"$f":"campeonato!B26","v":0},{"$f":"campeonato!A26","v":18},{"$f":"campeonato!AB9","v":0},{"$f":"campeonato!B26","v":0},{"$f":"campeonato!A26","v":18},{"$f":"campeonato!AC9","v":5},{"$f":"SUM(C8:L8)","v":61}]
[{"$f":"lista_alunos!H19","v":"J"},10,{"$f":"campeonato!Z10","v":0},{"$f":"campeonato!B18","v":"J"},{"$f":"campeonato!A18","v":10},{"$f":"campeonato!AA10","v":0},{"$f":"campeonato!B18","v":"J"},{"$f":"campeonato!A18","v":10},{"$f":"campeonato!AB10","v":0},{"$f":"campeonato!B18","v":"J"},{"$f":"campeonato!A18","v":10},{"$f":"campeonato!AC10","v":0},30]
[{"$f":"lista_alunos!H24","v":"P"},15,{"$f":"campeonato!Z11","v":0},{"$f":"campeonato!B23","v":"P"},{"$f":"campeonato!A23","v":15},{"$f":"campeonato!AA11","v":0},{"$f":"campeonato!B23","v":"P"},{"$f":"campeonato!A23","v":15},{"$f":"campeonato!AB11","v":0},{"$f":"campeonato!B23","v":"P"},{"$f":"campeonato!A23","v":15},{"$f":"campeonato!AC11","v":0},45]
[{"$f":"lista_alunos!H23","v":"O"},14,{"$f":"campeonato!Z12","v":0},{"$f":"campeonato!B22","v":"O"},{"$f":"campeonato!A22","v":14},{"$f":"campeonato!AA12","v":0},{"$f":"campeonato!B22","v":"O"},{"$f":"campeonato!A22","v":14},{"$f":"campeonato!AB12","v":0},{"$f":"campeonato!B22","v":"O"},{"$f":"campeonato!A22","v":14},{"$f":"campeonato!AC12","v":0},42]
[{"$f":"lista_alunos!H22","v":"N"},13,{"$f":"campeonato!Z13","v":0},{"$f":"campeonato!B21","v":"N"},{"$f":"campeonato!A21","v":13},{"$f":"campeonato!AA13","v":7},{"$f":"campeonato!B21","v":"N"},{"$f":"campeonato!A21","v":13},{"$f":"campeonato!AB13","v":0},{"$f":"campeonato!B21","v":"N"},{"$f":"campeonato!A21","v":13},{"$f":"campeonato!AC13","v":0},46]
[{"$f":"lista_alunos!H21","v":"M"},12,{"$f":"campeonato!Z14","v":0},{"$f":"campeonato!B20","v":"M"},{"$f":"campeonato!A20","v":12},{"$f":"campeonato!AA14","v":0},{"$f":"campeonato!B20","v":"M"},{"$f":"campeonato!A20","v":12},{"$f":"campeonato!AB14","v":0},{"$f":"campeonato!B20","v":"M"},{"$f":"campeonato!A20","v":12},{"$f":"campeonato!AC14","v":0},36]
[{"$f":"lista_alunos!H20","v":"L"},11,{"$f":"campeonato!Z15","v":0},{"$f":"campeonato!B19","v":"L"},{"$f":"campeonato!A19","v":11},{"$f":"campeonato!AA15","v":0},{"$f":"campeonato!B19","v":"L"},{"$f":"campeonato!A19","v":11},{"$f":"campeonato!AB15","v":0},{"$f":"campeonato!B19","v":"L"},{"$f":"campeonato!A19","v":11},{"$f":"campeonato!AC15","v":0},33]
[{"$f":"lista_alunos!H25","v":0},16,{"$f":"campeonato!Z16","v":0},{"$f":"campeonato!B24","v":0},{"$f":"campeonato!A24","v":16},{"$f":"campeonato!AA16","v":0},{"$f":"campeonato!B24","v":0},{"$f":"campeonato!A24","v":16},{"$f":"campeonato!AB16","v":0},{"$f":"campeonato!B24","v":0},{"$f":"campeonato!A24","v":16},{"$f":"campeonato!AC16","v":0},48]
[{"$f":"lista_alunos!H17","v":"H"},8,{"$f":"campeonato!Z17","v":0},{"$f":"campeonato!B16","v":"H"},{"$f":"campeonato!A16","v":8},{"$f":"campeonato!AA17","v":0},{"$f":"campeonato!B16","v":"H"},{"$f":"campeonato!A16","v":8},{"$f":"campeonato!AB17","v":0},{"$f":"campeonato!B16","v":"H"},{"$f":"campeonato!A16","v":8},{"$f":"campeonato!AC17","v":0},24]
[{"$f":"lista_alunos!H15","v":"F"},6,{"$f":"campeonato!Z18","v":0},{"$f":"campeonato!B14","v":"F"},{"$f":"campeonato!A14","v":6},{"$f":"campeonato!AA18","v":0},{"$f":"campeonato!B14","v":"F"},{"$f":"campeonato!A14","v":6},{"$f":"campeonato!AB18","v":0},{"$f":"campeonato!B14","v":"F"},{"$f":"campeonato!A14","v":6},{"$f":"campeonato!AC18","v":0},18]
[{"$f":"lista_alunos!H18","v":"I"},9,{"$f":"campeonato!Z19","v":0},{"$f":"campeonato!B17","v":"I"},{"$f":"campeonato!A17","v":9},{"$f":"campeonato!AA19","v":0},{"$f":"campeonato!B17","v":"I"},{"$f":"campeonato!A17","v":9},{"$f":"campeonato!AB19","v":0},{"$f":"campeonato!B17","v":"I"},{"$f":"campeonato!A17","v":9},{"$f":"campeonato!AC19","v":0},27]
[{"$f":"lista_alunos!H35","v":0},26,{"$f":"campeonato!Z20","v":0},{"$f":"campeonato!B34","v":0},{"$f":"campeonato!A34","v":26},{"$f":"campeonato!AA20","v":0},{"$f":"campeonato!B34","v":0},{"$f":"campeonato!A34","v":26},{"$f":"campeonato!AB20","v":0},{"$f":"campeonato!B34","v":0},{"$f":"campeonato!A34","v":26},{"$f":"campeonato!AC20","v":0},78]
[{"$f":"lista_alunos!H26","v":0},17,{"$f":"campeonato!Z21","v":0},{"$f":"campeonato!B25","v":0},{"$f":"campeonato!A25","v":17},{"$f":"campeonato!AA21","v":0},{"$f":"campeonato!B25","v":0},{"$f":"campeonato!A25","v":17},{"$f":"campeonato!AB21","v":0},{"$f":"campeonato!B25","v":0},{"$f":"campeonato!A25","v":17},{"$f":"campeonato!AC21","v":0},51]
[{"$f":"lista_alunos!H12","v":"C"},3,{"$f":"campeonato!Z22","v":0},{"$f":"campeonato!B11","v":"C"},{"$f":"campeonato!A11","v":3},{"$f":"campeonato!AA22","v":0},{"$f":"campeonato!B11","v":"C"},{"$f":"campeonato!A11","v":3},{"$f":"campeonato!AB22","v":0},{"$f":"campeonato!B11","v":"C"},{"$f":"campeonato!A11","v":3},{"$f":"campeonato!AC22","v":0},9]
[{"$f":"lista_alunos!H10","v":"a"},1,{"$f":"campeonato!Z23","v":0},{"$f":"campeonato!B9","v":"a"},{"$f":"campeonato!A9","v":1},{"$f":"campeonato!AA23","v":0},{"$f":"campeonato!B9","v":"a"},{"$f":"campeonato!A9","v":1},{"$f":"campeonato!AB23","v":0},{"$f":"campeonato!B9","v":"a"},{"$f":"campeonato!A9","v":1},{"$f":"campeonato!AC23","v":0},3]
[{"$f":"lista_alunos!H14","v":"E"},5,{"$f":"campeonato!Z24","v":0},{"$f":"campeonato!B13","v":"E"},{"$f":"campeonato!A13","v":5},{"$f":"campeonato!AA24","v":0},{"$f":"campeonato!B13","v":"E"},{"$f":"campeonato!A13","v":5},{"$f":"campeonato!AB24","v":0},{"$f":"campeonato!B13","v":"E"},{"$f":"campeonato!A13","v":5},{"$f":"campeonato!AC24","v":0},15]
[{"$f":"lista_alunos!H11","v":"B"},2,{"$f":"campeonato!Z25","v":0},{"$f":"campeonato!B10","v":"B"},{"$f":"campeonato!A10","v":2},{"$f":"campeonato!AA25","v":0},{"$f":"campeonato!B10","v":"B"},{"$f":"campeonato!A10","v":2},{"$f":"campeonato!AB25","v":0},{"$f":"campeonato!B10","v":"B"},{"$f":"campeonato!A10","v":2},{"$f":"campeonato!AC25","v":0},6]
[{"$f":"lista_alunos!H13","v":"D"},4,{"$f":"campeonato!Z26","v":0},{"$f":"campeonato!B12","v":"D"},{"$f":"campeonato!A12","v":4},{"$f":"campeonato!AA26","v":0},{"$f":"campeonato!B12","v":"D"},{"$f":"campeonato!A12","v":4},{"$f":"campeonato!AB26","v":0},{"$f":"campeonato!B12","v":"D"},{"$f":"campeonato!A12","v":4},{"$f":"campeonato!AC26","v":0},12]
[{"$f":"lista_alunos!H16","v":"G"},7,{"$f":"campeonato!Z27","v":0},{"$f":"campeonato!B15","v":"G"},{"$f":"campeonato!A15","v":7},{"$f":"campeonato!AA27","v":0},{"$f":"campeonato!B15","v":"G"},{"$f":"campeonato!A15","v":7},{"$f":"campeonato!AB27","v":0},{"$f":"campeonato!B15","v":"G"},{"$f":"campeonato!A15","v":7},{"$f":"campeonato!AC27","v":0},21]
[{"$f":"lista_alunos!H34","v":0},25,{"$f":"campeonato!Z28","v":0},{"$f":"campeonato!B33","v":0},{"$f":"campeonato!A33","v":25},{"$f":"campeonato!AA28","v":0},{"$f":"campeonato!B27","v":0},{"$f":"campeonato!A27","v":19},{"$f":"campeonato!AB28","v":0},{"$f":"campeonato!B33","v":0},{"$f":"campeonato!A33","v":25},{"$f":"campeonato!AC28","v":0},69]
[{"$f":"lista_alunos!H28","v":0},19,{"$f":"campeonato!Z29","v":0},{"$f":"campeonato!B32","v":0},{"$f":"campeonato!A32","v":24},{"$f":"campeonato!AA29","v":0},{"$f":"campeonato!B28","v":0},{"$f":"campeonato!A28","v":20},{"$f":"campeonato!AB29","v":0},{"$f":"campeonato!B32","v":0},{"$f":"campeonato!A32","v":24},{"$f":"campeonato!AC29","v":0},68]
[{"$f":"lista_alunos!H29","v":0},20,{"$f":"campeonato!Z30","v":0},{"$f":"campeonato!B31","v":0},{"$f":"campeonato!A31","v":23},{"$f":"campeonato!AA30","v":0},{"$f":"campeonato!B29","v":0},{"$f":"campeonato!A29","v":21},{"$f":"campeonato!AB30","v":0},{"$f":"campeonato!B31","v":0},{"$f":"campeonato!A31","v":23},{"$f":"campeonato!AC30","v":0},67]
[{"$f":"lista_alunos!H30","v":0},21,{"$f":"campeonato!Z31","v":0},{"$f":"campeonato!B30","v":0},{"$f":"campeonato!A30","v":22},{"$f":"campeonato!AA31","v":0},{"$f":"campeonato!B30","v":0},{"$f":"campeonato!A30","v":22},{"$f":"campeonato!AB31","v":0},{"$f":"campeonato!B30","v":0},{"$f":"campeonato!A30","v":22},{"$f":"campeonato!AC31","v":0},66]
[{"$f":"lista_alunos!H31","v":0},22,{"$f":"campeonato!Z32","v":0},{"$f":"campeonato!B29","v":0},{"$f":"campeonato!A29","v":21},{"$f":"campeonato!AA32","v":0},{"$f":"campeonato!B31","v":0},{"$f":"campeonato!A31","v":23},{"$f":"campeonato!AB32","v":0},{"$f":"campeonato!B29","v":0},{"$f":"campeonato!A29","v":21},{"$f":"campeonato!AC32","v":0},65]
[{"$f":"lista_alunos!H32","v":0},23,{"$f":"campeonato!Z33","v":0},{"$f":"campeonato!B28","v":0},{"$f":"campeonato!A28","v":20},{"$f":"campeonato!AA33","v":0},{"$f":"campeonato!B32","v":0},{"$f":"campeonato!A32","v":24},{"$f":"campeonato!AB33","v":0},{"$f":"campeonato!B28","v":0},{"$f":"campeonato!A28","v":20},{"$f":"campeonato!AC33","v":0},64]
[{"$f":"lista_alunos!H33","v":0},24,{"$f":"campeonato!Z34","v":0},{"$f":"campeonato!B27","v":0},{"$f":"campeonato!A27","v":19},{"$f":"campeonato!AA34","v":0},{"$f":"campeonato!B33","v":0},{"$f":"campeonato!A33","v":25},{"$f":"campeonato!AB34","v":0},{"$f":"campeonato!B27","v":0},{"$f":"campeonato!A27","v":19},{"$f":"campeonato!AC34","v":0},63]
[]
[]
[]
[]
[null,"JOGO 1",null,null,null,null,null,"JOGO 2",null,null,null,null,null,"JOGO 3",null,null,null,null,"JOGO 4"]
[]
[null,null,{"$f":"LARGE(C8:C32,1)","v":2},null,null,null,null,null,{"$f":"LARGE(F8:F32,1)","v":7},null,null,null,null,null,{"$f":"LARGE(I8:I32,1)","v":0},null,null,null,null,{"$f":"LARGE(L8:L32,1)","v":5}]
[null,{"$f":"LARGE(C8:C32,2)","v":0},"1ºLugar",{"$f":"LARGE(C8:C32,3)","v":0},null,null,null,{"$f":"LARGE(F8:F32,2)","v":0},"1ºLugar",{"$f":"LARGE(F8:F32,3)","v":0},null,null,null,{"$f":"LARGE(I8:I32,2)","v":0},"1ºLugar",{"$f":"LARGE(I8:I32,3)","v":0},null,null,{"$f":"LARGE(L8:L32,2)","v":0},"1ºLugar",{"$f":"LARGE(L8:L32,3)","v":0}]
[null,"2ºLugar",null,"3ºLugar",null,{"$f":"LARGE(C8:C32,4)","v":0},null,"2ºLugar",null,"3ºLugar",null,{"$f":"LARGE(F8:F32,4)","v":0},null,"2ºLugar",null,"3ºLugar",{"$f":"LARGE(I8:I32,4)","v":0},null,"2ºLugar",null,"3ºLugar",{"$f":"LARGE(L8:L32,4)","v":0}]
[null,null,null,null,"4ºLugar",null,null,null,null,null,"4ºLugar",null,null,null,null,null,"4ºLugar",null,null,null,null,"4ºLugar"]

{"sheet":"feverei","index":13,"n_rows":43,"n_cols":22,"rows_kept":43,"cut":false,"hidden":false,"merged":[[37,18,37,22],[42,4,42,5],[42,10,42,11],[1,0,3,11],[5,2,5,12],[37,1,37,6],[37,7,37,12],[37,13,37,17]]}
[]
["Jogos de fevereiro"]
[]
[]
[]
[null,null,"fevereiro"]
["Nome","Ordem","J21","Nome","Ordem","J22","Nome","Ordem","J23","Nome","Ordem","J24","Total"]
[{"$f":"lista_alunos!H20","v":"L"},11,{"$f":"campeonato!AE9","v":1},{"$f":"campeonato!B26","v":0},{"$f":"campeonato!A26","v":18},{"$f":"campeonato!AF9","v":0},{"$f":"campeonato!B26","v":0},{"$f":"campeonato!A26","v":18},{"$f":"campeonato!AG9","v":0},{"$f":"campeonato!B14","v":"F"},{"$f":"campeonato!A14","v":6},{"$f":"campeonato!AH9","v":3},{"$f":"SUM(C8:L8)","v":46}]
[{"$f":"lista_alunos!H27","v":0},18,{"$f":"campeonato!AE10","v":0},{"$f":"campeonato!B18","v":"J"},{"$f":"campeonato!A18","v":10},{"$f":"campeonato!AF10","v":0},{"$f":"campeonato!B18","v":"J"},{"$f":"campeonato!A18","v":10},{"$f":"campeonato!AG10","v":0},{"$f":"campeonato!B26","v":0},{"$f":"campeonato!A26","v":18},{"$f":"campeonato!AH10","v":0},38]
[{"$f":"lista_alunos!H19","v":"J"},10,{"$f":"campeonato!AE11","v":0},{"$f":"campeonato!B23","v":"P"},{"$f":"campeonato!A23","v":15},{"$f":"campeonato!AF11","v":0},{"$f":"campeonato!B23","v":"P"},{"$f":"campeonato!A23","v":15},{"$f":"campeonato!AG11","v":0},{"$f":"campeonato!B18","v":"J"},{"$f":"campeonato!A18","v":10},{"$f":"campeonato!AH11","v":0},40]
[{"$f":"lista_alunos!H24","v":"P"},15,{"$f":"campeonato!AE12","v":0},{"$f":"campeonato!B22","v":"O"},{"$f":"campeonato!A22","v":14},{"$f":"campeonato!AF12","v":0},{"$f":"campeonato!B22","v":"O"},{"$f":"campeonato!A22","v":14},{"$f":"campeonato!AG12","v":0},{"$f":"campeonato!B23","v":"P"},{"$f":"campeonato!A23","v":15},{"$f":"campeonato!AH12","v":0},43]
[{"$f":"lista_alunos!H23","v":"O"},14,{"$f":"campeonato!AE13","v":0},{"$f":"campeonato!B21","v":"N"},{"$f":"campeonato!A21","v":13},{"$f":"campeonato!AF13","v":0},{"$f":"campeonato!B21","v":"N"},{"$f":"campeonato!A21","v":13},{"$f":"campeonato!AG13","v":0},{"$f":"campeonato!B22","v":"O"},{"$f":"campeonato!A22","v":14},{"$f":"campeonato!AH13","v":0},40]
[{"$f":"lista_alunos!H22","v":"N"},13,{"$f":"campeonato!AE14","v":0},{"$f":"campeonato!B20","v":"M"},{"$f":"campeonato!A20","v":12},{"$f":"campeonato!AF14","v":0},{"$f":"campeonato!B20","v":"M"},{"$f":"campeonato!A20","v":12},{"$f":"campeonato!AG14","v":0},{"$f":"campeonato!B21","v":"N"},{"$f":"campeonato!A21","v":13},{"$f":"campeonato!AH14","v":0},37]
[{"$f":"lista_alunos!H21","v":"M"},12,{"$f":"campeonato!AE15","v":43},{"$f":"campeonato!B19","v":"L"},{"$f":"campeonato!A19","v":11},{"$f":"campeonato!AF15","v":0},{"$f":"campeonato!B19","v":"L"},{"$f":"campeonato!A19","v":11},{"$f":"campeonato!AG15","v":0},{"$f":"campeonato!B20","v":"M"},{"$f":"campeonato!A20","v":12},{"$f":"campeonato!AH15","v":0},77]
[{"$f":"lista_alunos!H25","v":0},16,{"$f":"campeonato!AE16","v":0},{"$f":"campeonato!B24","v":0},{"$f":"campeonato!A24","v":16},{"$f":"campeonato!AF16","v":0},{"$f":"campeonato!B24","v":0},{"$f":"campeonato!A24","v":16},{"$f":"campeonato!AG16","v":0},{"$f":"campeonato!B19","v":"L"},{"$f":"campeonato!A19","v":11},{"$f":"campeonato!AH16","v":0},43]
[{"$f":"lista_alunos!H17","v":"H"},8,{"$f":"campeonato!AE17","v":0},{"$f":"campeonato!B16","v":"H"},{"$f":"campeonato!A16","v":8},{"$f":"campeonato!AF17","v":0},{"$f":"campeonato!B16","v":"H"},{"$f":"campeonato!A16","v":8},{"$f":"campeonato!AG17","v":0},{"$f":"campeonato!B24","v":0},{"$f":"campeonato!A24","v":16},{"$f":"campeonato!AH17","v":0},32]
[{"$f":"lista_alunos!H15","v":"F"},6,{"$f":"campeonato!AE18","v":0},{"$f":"campeonato!B14","v":"F"},{"$f":"campeonato!A14","v":6},{"$f":"campeonato!AF18","v":0},{"$f":"campeonato!B14","v":"F"},{"$f":"campeonato!A14","v":6},{"$f":"campeonato!AG18","v":0},{"$f":"campeonato!B16","v":"H"},{"$f":"campeonato!A16","v":8},{"$f":"campeonato!AH18","v":18},38]
[{"$f":"lista_alunos!H18","v":"I"},9,{"$f":"campeonato!AE19","v":0},{"$f":"campeonato!B17","v":"I"},{"$f":"campeonato!A17","v":9},{"$f":"campeonato!AF19","v":0},{"$f":"campeonato!B17","v":"I"},{"$f":"campeonato!A17","v":9},{"$f":"campeonato!AG19","v":0},{"$f":"campeonato!B17","v":"I"},{"$f":"campeonato!A17","v":9},{"$f":"campeonato!AH19","v":0},27]
[{"$f":"lista_alunos!H35","v":0},26,{"$f":"campeonato!AE20","v":0},{"$f":"campeonato!B34","v":0},{"$f":"campeonato!A34","v":26},{"$f":"campeonato!AF20","v":0},{"$f":"campeonato!B34","v":0},{"$f":"campeonato!A34","v":26},{"$f":"campeonato!AG20","v":0},{"$f":"campeonato!B34","v":0},{"$f":"campeonato!A34","v":26},{"$f":"campeonato!AH20","v":0},78]
[{"$f":"lista_alunos!H26","v":0},17,{"$f":"campeonato!AE21","v":0},{"$f":"campeonato!B25","v":0},{"$f":"campeonato!A25","v":17},{"$f":"campeonato!AF21","v":0},{"$f":"campeonato!B25","v":0},{"$f":"campeonato!A25","v":17},{"$f":"campeonato!AG21","v":0},{"$f":"campeonato!B25","v":0},{"$f":"campeonato!A25","v":17},{"$f":"campeonato!AH21","v":0},51]
[{"$f":"lista_alunos!H12","v":"C"},3,{"$f":"campeonato!AE22","v":0},{"$f":"campeonato!B11","v":"C"},{"$f":"campeonato!A11","v":3},{"$f":"campeonato!AF22","v":0},{"$f":"campeonato!B11","v":"C"},{"$f":"campeonato!A11","v":3},{"$f":"campeonato!AG22","v":0},{"$f":"campeonato!B11","v":"C"},{"$f":"campeonato!A11","v":3},{"$f":"campeonato!AH22","v":0},9]
[{"$f":"lista_alunos!H10","v":"a"},1,{"$f":"campeonato!AE23","v":0},{"$f":"campeonato!B9","v":"a"},{"$f":"campeonato!A9","v":1},{"$f":"campeonato!AF23","v":0},{"$f":"campeonato!B9","v":"a"},{"$f":"campeonato!A9","v":1},{"$f":"campeonato!AG23","v":0},{"$f":"campeonato!B9","v":"a"},{"$f":"campeonato!A9","v":1},{"$f":"campeonato!AH23","v":0},3]
[{"$f":"lista_alunos!H14","v":"E"},5,{"$f":"campeonato!AE24","v":0},{"$f":"campeonato!B13","v":"E"},{"$f":"campeonato!A13","v":5},{"$f":"campeonato!AF24","v":0},{"$f":"campeonato!B13","v":"E"},{"$f":"campeonato!A13","v":5},{"$f":"campeonato!AG24","v":0},{"$f":"campeonato!B13","v":"E"},{"$f":"campeonato!A13","v":5},{"$f":"campeonato!AH24","v":0},15]
[{"$f":"lista_alunos!H11","v":"B"},2,{"$f":"campeonato!AE25","v":0},{"$f":"campeonato!B10","v":"B"},{"$f":"campeonato!A10","v":2},{"$f":"campeonato!AF25","v":0},{"$f":"campeonato!B10","v":"B"},{"$f":"campeonato!A10","v":2},{"$f":"campeonato!AG25","v":0},{"$f":"campeonato!B10","v":"B"},{"$f":"campeonato!A10","v":2},{"$f":"campeonato!AH25","v":0},6]
[{"$f":"lista_alunos!H13","v":"D"},4,{"$f":"campeonato!AE26","v":0},{"$f":"campeonato!B12","v":"D"},{"$f":"campeonato!A12","v":4},{"$f":"campeonato!AF26","v":0},{"$f":"campeonato!B12","v":"D"},{"$f":"campeonato!A12","v":4},{"$f":"campeonato!AG26","v":0},{"$f":"campeonato!B12","v":"D"},{"$f":"campeonato!A12","v":4},{"$f":"campeonato!AH26","v":0},12]
[{"$f":"lista_alunos!H16","v":"G"},7,{"$f":"campeonato!AE27","v":0},{"$f":"campeonato!B15","v":"G"},{"$f":"campeonato!A15","v":7},{"$f":"campeonato!AF27","v":0},{"$f":"campeonato!B15","v":"G"},{"$f":"campeonato!A15","v":7},{"$f":"campeonato!AG27","v":0},{"$f":"campeonato!B15","v":"G"},{"$f":"campeonato!A15","v":7},{"$f":"campeonato!AH27","v":0},21]
[{"$f":"lista_alunos!H34","v":0},25,{"$f":"campeonato!AE28","v":0},{"$f":"campeonato!B33","v":0},{"$f":"campeonato!A33","v":25},{"$f":"campeonato!AF28","v":0},{"$f":"campeonato!B27","v":0},{"$f":"campeonato!A27","v":19},{"$f":"campeonato!AG28","v":0},{"$f":"campeonato!B33","v":0},{"$f":"campeonato!A33","v":25},{"$f":"campeonato!AH28","v":0},69]
[{"$f":"lista_alunos!H28","v":0},19,{"$f":"campeonato!AE29","v":0},{"$f":"campeonato!B32","v":0},{"$f":"campeonato!A32","v":24},{"$f":"campeonato!AF29","v":0},{"$f":"campeonato!B28","v":0},{"$f":"campeonato!A28","v":20},{"$f":"campeonato!AG29","v":0},{"$f":"campeonato!B32","v":0},{"$f":"campeonato!A32","v":24},{"$f":"campeonato!AH29","v":0},68]
[{"$f":"lista_alunos!H29","v":0},20,{"$f":"campeonato!AE30","v":0},{"$f":"campeonato!B31","v":0},{"$f":"campeonato!A31","v":23},{"$f":"campeonato!AF30","v":0},{"$f":"campeonato!B29","v":0},{"$f":"campeonato!A29","v":21},{"$f":"campeonato!AG30","v":0},{"$f":"campeonato!B31","v":0},{"$f":"campeonato!A31","v":23},{"$f":"campeonato!AH30","v":0},67]
[{"$f":"lista_alunos!H30","v":0},21,{"$f":"campeonato!AE31","v":0},{"$f":"campeonato!B30","v":0},{"$f":"campeonato!A30","v":22},{"$f":"campeonato!AF31","v":0},{"$f":"campeonato!B30","v":0},{"$f":"campeonato!A30","v":22},{"$f":"campeonato!AG31","v":0},{"$f":"campeonato!B30","v":0},{"$f":"campeonato!A30","v":22},{"$f":"campeonato!AH31","v":0},66]
[{"$f":"lista_alunos!H31","v":0},22,{"$f":"campeonato!AE32","v":0},{"$f":"campeonato!B29","v":0},{"$f":"campeonato!A29","v":21},{"$f":"campeonato!AF32","v":0},{"$f":"campeonato!B31","v":0},{"$f":"campeonato!A31","v":23},{"$f":"campeonato!AG32","v":0},{"$f":"campeonato!B29","v":0},{"$f":"campeonato!A29","v":21},{"$f":"campeonato!AH32","v":0},65]
[{"$f":"lista_alunos!H32","v":0},23,{"$f":"campeonato!AE33","v":0},{"$f":"campeonato!B28","v":0},{"$f":"campeonato!A28","v":20},{"$f":"campeonato!AF33","v":0},{"$f":"campeonato!B32","v":0},{"$f":"campeonato!A32","v":24},{"$f":"campeonato!AG33","v":0},{"$f":"campeonato!B28","v":0},{"$f":"campeonato!A28","v":20},{"$f":"campeonato!AH33","v":0},64]
[{"$f":"lista_alunos!H33","v":0},24,{"$f":"campeonato!AE34","v":0},{"$f":"campeonato!B27","v":0},{"$f":"campeonato!A27","v":19},{"$f":"campeonato!AF34","v":0},{"$f":"campeonato!B33","v":0},{"$f":"campeonato!A33","v":25},{"$f":"campeonato!AG34","v":0},{"$f":"campeonato!B27","v":0},{"$f":"campeonato!A27","v":19},{"$f":"campeonato!AH34","v":0},63]
[]
[]
[]
[]
[null,"JOGO 1",null,null,null,null,null,"JOGO 2",null,null,null,null,null,"JOGO 3",null,null,null,null,"JOGO 4"]
[]
[null,null,{"$f":"LARGE(C8:C32,1)","v":43},null,null,null,null,null,{"$f":"LARGE(F8:F32,1)","v":0},null,null,null,null,null,{"$f":"LARGE(I8:I32,1)","v":0},null,null,null,null,{"$f":"LARGE(L8:L32,1)","v":18}]
[null,{"$f":"LARGE(C8:C32,2)","v":1},"1ºLugar",{"$f":"LARGE(C8:C32,3)","v":0},null,null,null,{"$f":"LARGE(F8:F32,2)","v":0},"1ºLugar",{"$f":"LARGE(F8:F32,3)","v":0},null,null,null,{"$f":"LARGE(I8:I32,2)","v":0},"1ºLugar",{"$f":"LARGE(I8:I32,3)","v":0},null,null,{"$f":"LARGE(L8:L32,2)","v":3},"1ºLugar",{"$f":"LARGE(L8:L32,3)","v":0}]
[null,"2ºLugar",null,"3ºLugar",null,{"$f":"LARGE(C8:C32,4)","v":0},null,"2ºLugar",null,"3ºLugar",null,{"$f":"LARGE(F8:F32,4)","v":0},null,"2ºLugar",null,"3ºLugar",{"$f":"LARGE(I8:I32,4)","v":0},null,"2ºLugar",null,"3ºLugar",{"$f":"LARGE(L8:L32,4)","v":0}]
[null,null,null,null,"4ºLugar",null,null,null,null,null,"4ºLugar",null,null,null,null,null,"4ºLugar",null,null,null,null,"4ºLugar"]

{"sheet":"março","index":14,"n_rows":43,"n_cols":22,"rows_kept":43,"cut":false,"hidden":false,"merged":[[37,18,37,22],[42,4,42,5],[42,10,42,11],[1,0,3,11],[5,2,5,12],[37,1,37,6],[37,7,37,12],[37,13,37,17]]}
[]
["Jogos de março"]
[]
[]
[]
[null,null,"janeiro"]
["Nome","Ordem","J25","Nome","Ordem","J26","Nome","Ordem","J27","Nome","Ordem","J28","Total"]
[{"$f":"lista_alunos!H10","v":"a"},1,{"$f":"campeonato!AJ9","v":2},{"$f":"campeonato!B26","v":0},{"$f":"campeonato!A26","v":18},{"$f":"campeonato!AK9","v":0},{"$f":"campeonato!B26","v":0},{"$f":"campeonato!A26","v":18},{"$f":"campeonato!AL9","v":0},{"$f":"campeonato!B26","v":0},{"$f":"campeonato!A26","v":18},{"$f":"campeonato!AM9","v":30},{"$f":"SUM(C8:L8)","v":86}]
[{"$f":"lista_alunos!H19","v":"J"},10,{"$f":"campeonato!AJ10","v":0},{"$f":"campeonato!B18","v":"J"},{"$f":"campeonato!A18","v":10},{"$f":"campeonato!AK10","v":0},{"$f":"campeonato!B18","v":"J"},{"$f":"campeonato!A18","v":10},{"$f":"campeonato!AL10","v":0},{"$f":"campeonato!B25","v":0},{"$f":"campeonato!A25","v":17},{"$f":"campeonato!AM10","v":0},37]
[{"$f":"lista_alunos!H20","v":"L"},11,{"$f":"campeonato!AJ11","v":22},{"$f":"campeonato!B23","v":"P"},{"$f":"campeonato!A23","v":15},{"$f":"campeonato!AK11","v":0},{"$f":"campeonato!B23","v":"P"},{"$f":"campeonato!A23","v":15},{"$f":"campeonato!AL11","v":0},{"$f":"campeonato!B23","v":"P"},{"$f":"campeonato!A23","v":15},{"$f":"campeonato!AM11","v":4},71]
[{"$f":"lista_alunos!H22","v":"N"},13,{"$f":"campeonato!AJ12","v":0},{"$f":"campeonato!B22","v":"O"},{"$f":"campeonato!A22","v":14},{"$f":"campeonato!AK12","v":0},{"$f":"campeonato!B22","v":"O"},{"$f":"campeonato!A22","v":14},{"$f":"campeonato!AL12","v":0},{"$f":"campeonato!B18","v":"J"},{"$f":"campeonato!A18","v":10},{"$f":"campeonato!AM12","v":0},38]
[{"$f":"lista_alunos!H27","v":0},18,{"$f":"campeonato!AJ13","v":0},{"$f":"campeonato!B21","v":"N"},{"$f":"campeonato!A21","v":13},{"$f":"campeonato!AK13","v":0},{"$f":"campeonato!B21","v":"N"},{"$f":"campeonato!A21","v":13},{"$f":"campeonato!AL13","v":0},{"$f":"campeonato!B22","v":"O"},{"$f":"campeonato!A22","v":14},{"$f":"campeonato!AM13","v":0},40]
[{"$f":"lista_alunos!H24","v":"P"},15,{"$f":"campeonato!AJ14","v":1},{"$f":"campeonato!B20","v":"M"},{"$f":"campeonato!A20","v":12},{"$f":"campeonato!AK14","v":0},{"$f":"campeonato!B20","v":"M"},{"$f":"campeonato!A20","v":12},{"$f":"campeonato!AL14","v":0},{"$f":"campeonato!B21","v":"N"},{"$f":"campeonato!A21","v":13},{"$f":"campeonato!AM14","v":0},38]
[{"$f":"lista_alunos!H23","v":"O"},14,{"$f":"campeonato!AJ15","v":0},{"$f":"campeonato!B19","v":"L"},{"$f":"campeonato!A19","v":11},{"$f":"campeonato!AK15","v":0},{"$f":"campeonato!B19","v":"L"},{"$f":"campeonato!A19","v":11},{"$f":"campeonato!AL15","v":0},{"$f":"campeonato!B20","v":"M"},{"$f":"campeonato!A20","v":12},{"$f":"campeonato!AM15","v":0},34]
[{"$f":"lista_alunos!H21","v":"M"},12,{"$f":"campeonato!AJ16","v":0},{"$f":"campeonato!B24","v":0},{"$f":"campeonato!A24","v":16},{"$f":"campeonato!AK16","v":0},{"$f":"campeonato!B24","v":0},{"$f":"campeonato!A24","v":16},{"$f":"campeonato!AL16","v":0},{"$f":"campeonato!B19","v":"L"},{"$f":"campeonato!A19","v":11},{"$f":"campeonato!AM16","v":0},43]
[{"$f":"lista_alunos!H25","v":0},16,{"$f":"campeonato!AJ17","v":0},{"$f":"campeonato!B16","v":"H"},{"$f":"campeonato!A16","v":8},{"$f":"campeonato!AK17","v":0},{"$f":"campeonato!B16","v":"H"},{"$f":"campeonato!A16","v":8},{"$f":"campeonato!AL17","v":0},{"$f":"campeonato!B24","v":0},{"$f":"campeonato!A24","v":16},{"$f":"campeonato!AM17","v":0},32]
[{"$f":"lista_alunos!H17","v":"H"},8,{"$f":"campeonato!AJ18","v":0},{"$f":"campeonato!B14","v":"F"},{"$f":"campeonato!A14","v":6},{"$f":"campeonato!AK18","v":0},{"$f":"campeonato!B14","v":"F"},{"$f":"campeonato!A14","v":6},{"$f":"campeonato!AL18","v":0},{"$f":"campeonato!B16","v":"H"},{"$f":"campeonato!A16","v":8},{"$f":"campeonato!AM18","v":0},20]
[{"$f":"lista_alunos!H15","v":"F"},6,{"$f":"campeonato!AJ19","v":0},{"$f":"campeonato!B17","v":"I"},{"$f":"campeonato!A17","v":9},{"$f":"campeonato!AK19","v":0},{"$f":"campeonato!B17","v":"I"},{"$f":"campeonato!A17","v":9},{"$f":"campeonato!AL19","v":0},{"$f":"campeonato!B14","v":"F"},{"$f":"campeonato!A14","v":6},{"$f":"campeonato!AM19","v":0},24]
[{"$f":"lista_alunos!H18","v":"I"},9,{"$f":"campeonato!AJ20","v":0},{"$f":"campeonato!B34","v":0},{"$f":"campeonato!A34","v":26},{"$f":"campeonato!AK20","v":0},{"$f":"campeonato!B34","v":0},{"$f":"campeonato!A34","v":26},{"$f":"campeonato!AL20","v":0},{"$f":"campeonato!B17","v":"I"},{"$f":"campeonato!A17","v":9},{"$f":"campeonato!AM20","v":0},61]
[{"$f":"lista_alunos!H35","v":0},26,{"$f":"campeonato!AJ21","v":0},{"$f":"campeonato!B25","v":0},{"$f":"campeonato!A25","v":17},{"$f":"campeonato!AK21","v":0},{"$f":"campeonato!B25","v":0},{"$f":"campeonato!A25","v":17},{"$f":"campeonato!AL21","v":0},{"$f":"campeonato!B34","v":0},{"$f":"campeonato!A34","v":26},{"$f":"campeonato!AM21","v":21},81]
[{"$f":"lista_alunos!H26","v":0},17,{"$f":"campeonato!AJ22","v":0},{"$f":"campeonato!B11","v":"C"},{"$f":"campeonato!A11","v":3},{"$f":"campeonato!AK22","v":0},{"$f":"campeonato!B11","v":"C"},{"$f":"campeonato!A11","v":3},{"$f":"campeonato!AL22","v":0},{"$f":"campeonato!B11","v":"C"},{"$f":"campeonato!A11","v":3},{"$f":"campeonato!AM22","v":0},9]
[{"$f":"lista_alunos!H12","v":"C"},3,{"$f":"campeonato!AJ23","v":80},{"$f":"campeonato!B9","v":"a"},{"$f":"campeonato!A9","v":1},{"$f":"campeonato!AK23","v":0},{"$f":"campeonato!B9","v":"a"},{"$f":"campeonato!A9","v":1},{"$f":"campeonato!AL23","v":0},{"$f":"campeonato!B9","v":"a"},{"$f":"campeonato!A9","v":1},{"$f":"campeonato!AM23","v":0},83]
[{"$f":"lista_alunos!H14","v":"E"},5,{"$f":"campeonato!AJ24","v":0},{"$f":"campeonato!B13","v":"E"},{"$f":"campeonato!A13","v":5},{"$f":"campeonato!AK24","v":0},{"$f":"campeonato!B13","v":"E"},{"$f":"campeonato!A13","v":5},{"$f":"campeonato!AL24","v":0},{"$f":"campeonato!B13","v":"E"},{"$f":"campeonato!A13","v":5},{"$f":"campeonato!AM24","v":0},15]
[{"$f":"lista_alunos!H11","v":"B"},2,{"$f":"campeonato!AJ25","v":0},{"$f":"campeonato!B10","v":"B"},{"$f":"campeonato!A10","v":2},{"$f":"campeonato!AK25","v":0},{"$f":"campeonato!B10","v":"B"},{"$f":"campeonato!A10","v":2},{"$f":"campeonato!AL25","v":0},{"$f":"campeonato!B10","v":"B"},{"$f":"campeonato!A10","v":2},{"$f":"campeonato!AM25","v":0},6]
[{"$f":"lista_alunos!H13","v":"D"},4,{"$f":"campeonato!AJ26","v":0},{"$f":"campeonato!B12","v":"D"},{"$f":"campeonato!A12","v":4},{"$f":"campeonato!AK26","v":0},{"$f":"campeonato!B12","v":"D"},{"$f":"campeonato!A12","v":4},{"$f":"campeonato!AL26","v":0},{"$f":"campeonato!B12","v":"D"},{"$f":"campeonato!A12","v":4},{"$f":"campeonato!AM26","v":0},12]
[{"$f":"lista_alunos!H16","v":"G"},7,{"$f":"campeonato!AJ27","v":0},{"$f":"campeonato!B15","v":"G"},{"$f":"campeonato!A15","v":7},{"$f":"campeonato!AK27","v":0},{"$f":"campeonato!B15","v":"G"},{"$f":"campeonato!A15","v":7},{"$f":"campeonato!AL27","v":0},{"$f":"campeonato!B15","v":"G"},{"$f":"campeonato!A15","v":7},{"$f":"campeonato!AM27","v":0},21]
[{"$f":"lista_alunos!H34","v":0},25,{"$f":"campeonato!AJ28","v":0},{"$f":"campeonato!B33","v":0},{"$f":"campeonato!A33","v":25},{"$f":"campeonato!AK28","v":0},{"$f":"campeonato!B27","v":0},{"$f":"campeonato!A27","v":19},{"$f":"campeonato!AL28","v":0},{"$f":"campeonato!B33","v":0},{"$f":"campeonato!A33","v":25},{"$f":"campeonato!AM28","v":0},69]
[{"$f":"lista_alunos!H28","v":0},19,{"$f":"campeonato!AJ29","v":0},{"$f":"campeonato!B32","v":0},{"$f":"campeonato!A32","v":24},{"$f":"campeonato!AK29","v":0},{"$f":"campeonato!B28","v":0},{"$f":"campeonato!A28","v":20},{"$f":"campeonato!AL29","v":0},{"$f":"campeonato!B32","v":0},{"$f":"campeonato!A32","v":24},{"$f":"campeonato!AM29","v":0},68]
[{"$f":"lista_alunos!H29","v":0},20,{"$f":"campeonato!AJ30","v":0},{"$f":"campeonato!B31","v":0},{"$f":"campeonato!A31","v":23},{"$f":"campeonato!AK30","v":0},{"$f":"campeonato!B29","v":0},{"$f":"campeonato!A29","v":21},{"$f":"campeonato!AL30","v":0},{"$f":"campeonato!B31","v":0},{"$f":"campeonato!A31","v":23},{"$f":"campeonato!AM30","v":0},67]
[{"$f":"lista_alunos!H30","v":0},21,{"$f":"campeonato!AJ31","v":0},{"$f":"campeonato!B30","v":0},{"$f":"campeonato!A30","v":22},{"$f":"campeonato!AK31","v":0},{"$f":"campeonato!B30","v":0},{"$f":"campeonato!A30","v":22},{"$f":"campeonato!AL31","v":0},{"$f":"campeonato!B30","v":0},{"$f":"campeonato!A30","v":22},{"$f":"campeonato!AM31","v":0},66]
[{"$f":"lista_alunos!H31","v":0},22,{"$f":"campeonato!AJ32","v":0},{"$f":"campeonato!B29","v":0},{"$f":"campeonato!A29","v":21},{"$f":"campeonato!AK32","v":0},{"$f":"campeonato!B31","v":0},{"$f":"campeonato!A31","v":23},{"$f":"campeonato!AL32","v":0},{"$f":"campeonato!B29","v":0},{"$f":"campeonato!A29","v":21},{"$f":"campeonato!AM32","v":0},65]
[{"$f":"lista_alunos!H32","v":0},23,{"$f":"campeonato!AJ33","v":0},{"$f":"campeonato!B28","v":0},{"$f":"campeonato!A28","v":20},{"$f":"campeonato!AK33","v":0},{"$f":"campeonato!B32","v":0},{"$f":"campeonato!A32","v":24},{"$f":"campeonato!AL33","v":0},{"$f":"campeonato!B28","v":0},{"$f":"campeonato!A28","v":20},{"$f":"campeonato!AM33","v":0},64]
[{"$f":"lista_alunos!H33","v":0},24,{"$f":"campeonato!AJ34","v":0},{"$f":"campeonato!B27","v":0},{"$f":"campeonato!A27","v":19},{"$f":"campeonato!AK34","v":0},{"$f":"campeonato!B33","v":0},{"$f":"campeonato!A33","v":25},{"$f":"campeonato!AL34","v":0},{"$f":"campeonato!B27","v":0},{"$f":"campeonato!A27","v":19},{"$f":"campeonato!AM34","v":0},63]
[]
[]
[]
[]
[null,"JOGO 1",null,null,null,null,null,"JOGO 2",null,null,null,null,null,"JOGO 3",null,null,null,null,"JOGO 4"]
[]
[null,null,{"$f":"LARGE(C8:C32,1)","v":80},null,null,null,null,null,{"$f":"LARGE(F8:F32,1)","v":0},null,null,null,null,null,{"$f":"LARGE(I8:I32,1)","v":0},null,null,null,null,{"$f":"LARGE(L8:L32,1)","v":30}]
[null,{"$f":"LARGE(C8:C32,2)","v":22},"1ºLugar",{"$f":"LARGE(C8:C32,3)","v":2},null,null,null,{"$f":"LARGE(F8:F32,2)","v":0},"1ºLugar",{"$f":"LARGE(F8:F32,3)","v":0},null,null,null,{"$f":"LARGE(I8:I32,2)","v":0},"1ºLugar",{"$f":"LARGE(I8:I32,3)","v":0},null,null,{"$f":"LARGE(L8:L32,2)","v":21},"1ºLugar",{"$f":"LARGE(L8:L32,3)","v":4}]
[null,"2ºLugar",null,"3ºLugar",null,{"$f":"LARGE(C8:C32,4)","v":1},null,"2ºLugar",null,"3ºLugar",null,{"$f":"LARGE(F8:F32,4)","v":0},null,"2ºLugar",null,"3ºLugar",{"$f":"LARGE(I8:I32,4)","v":0},null,"2ºLugar",null,"3ºLugar",{"$f":"LARGE(L8:L32,4)","v":0}]
[null,null,null,null,"4ºLugar",null,null,null,null,null,"4ºLugar",null,null,null,null,null,"4ºLugar",null,null,null,null,"4ºLugar"]

{"sheet":"abril","index":15,"n_rows":43,"n_cols":22,"rows_kept":43,"cut":false,"hidden":false,"merged":[[42,4,42,5],[42,10,42,11],[37,18,37,22],[1,0,3,11],[5,2,5,12],[37,1,37,6],[37,7,37,12],[37,13,37,17]]}
[]
["Jogos de abril"]
[]
[]
[]
[null,null,"abril"]
["Nome","Ordem","J29","Nome","Ordem","J30","Nome","Ordem","J31","Nome","Ordem","J32","Total"]
[{"$f":"lista_alunos!H27","v":0},18,{"$f":"campeonato!AO9","v":0},{"$f":"campeonato!B26","v":0},{"$f":"campeonato!A26","v":18},{"$f":"campeonato!AP9","v":0},{"$f":"campeonato!B26","v":0},{"$f":"campeonato!A26","v":18},{"$f":"campeonato!AQ9","v":0},{"$f":"campeonato!B26","v":0},{"$f":"campeonato!A26","v":18},{"$f":"campeonato!AR9","v":0},{"$f":"SUM(C8:L8)","v":54}]
[{"$f":"lista_alunos!H19","v":"J"},10,{"$f":"campeonato!AO10","v":0},{"$f":"campeonato!B18","v":"J"},{"$f":"campeonato!A18","v":10},{"$f":"campeonato!AP10","v":0},{"$f":"campeonato!B18","v":"J"},{"$f":"campeonato!A18","v":10},{"$f":"campeonato!AQ10","v":0},{"$f":"campeonato!B18","v":"J"},{"$f":"campeonato!A18","v":10},{"$f":"campeonato!AR10","v":0},30]
[{"$f":"lista_alunos!H24","v":"P"},15,{"$f":"campeonato!AO11","v":0},{"$f":"campeonato!B23","v":"P"},{"$f":"campeonato!A23","v":15},{"$f":"campeonato!AP11","v":0},{"$f":"campeonato!B23","v":"P"},{"$f":"campeonato!A23","v":15},{"$f":"campeonato!AQ11","v":0},{"$f":"campeonato!B23","v":"P"},{"$f":"campeonato!A23","v":15},{"$f":"campeonato!AR11","v":0},45]
[{"$f":"lista_alunos!H23","v":"O"},14,{"$f":"campeonato!AO12","v":0},{"$f":"campeonato!B22","v":"O"},{"$f":"campeonato!A22","v":14},{"$f":"campeonato!AP12","v":0},{"$f":"campeonato!B22","v":"O"},{"$f":"campeonato!A22","v":14},{"$f":"campeonato!AQ12","v":0},{"$f":"campeonato!B22","v":"O"},{"$f":"campeonato!A22","v":14},{"$f":"campeonato!AR12","v":0},42]
[{"$f":"lista_alunos!H22","v":"N"},13,{"$f":"campeonato!AO13","v":0},{"$f":"campeonato!B21","v":"N"},{"$f":"campeonato!A21","v":13},{"$f":"campeonato!AP13","v":0},{"$f":"campeonato!B21","v":"N"},{"$f":"campeonato!A21","v":13},{"$f":"campeonato!AQ13","v":0},{"$f":"campeonato!B21","v":"N"},{"$f":"campeonato!A21","v":13},{"$f":"campeonato!AR13","v":0},39]
[{"$f":"lista_alunos!H21","v":"M"},12,{"$f":"campeonato!AO14","v":0},{"$f":"campeonato!B20","v":"M"},{"$f":"campeonato!A20","v":12},{"$f":"campeonato!AP14","v":0},{"$f":"campeonato!B20","v":"M"},{"$f":"campeonato!A20","v":12},{"$f":"campeonato!AQ14","v":0},{"$f":"campeonato!B20","v":"M"},{"$f":"campeonato!A20","v":12},{"$f":"campeonato!AR14","v":0},36]
[{"$f":"lista_alunos!H20","v":"L"},11,{"$f":"campeonato!AO15","v":0},{"$f":"campeonato!B19","v":"L"},{"$f":"campeonato!A19","v":11},{"$f":"campeonato!AP15","v":0},{"$f":"campeonato!B19","v":"L"},{"$f":"campeonato!A19","v":11},{"$f":"campeonato!AQ15","v":0},{"$f":"campeonato!B19","v":"L"},{"$f":"campeonato!A19","v":11},{"$f":"campeonato!AR15","v":0},33]
[{"$f":"lista_alunos!H25","v":0},16,{"$f":"campeonato!AO16","v":0},{"$f":"campeonato!B24","v":0},{"$f":"campeonato!A24","v":16},{"$f":"campeonato!AP16","v":0},{"$f":"campeonato!B24","v":0},{"$f":"campeonato!A24","v":16},{"$f":"campeonato!AQ16","v":0},{"$f":"campeonato!B24","v":0},{"$f":"campeonato!A24","v":16},{"$f":"campeonato!AR16","v":0},48]
[{"$f":"lista_alunos!H17","v":"H"},8,{"$f":"campeonato!AO17","v":0},{"$f":"campeonato!B16","v":"H"},{"$f":"campeonato!A16","v":8},{"$f":"campeonato!AP17","v":0},{"$f":"campeonato!B16","v":"H"},{"$f":"campeonato!A16","v":8},{"$f":"campeonato!AQ17","v":0},{"$f":"campeonato!B16","v":"H"},{"$f":"campeonato!A16","v":8},{"$f":"campeonato!AR17","v":0},24]
[{"$f":"lista_alunos!H15","v":"F"},6,{"$f":"campeonato!AO18","v":0},{"$f":"campeonato!B14","v":"F"},{"$f":"campeonato!A14","v":6},{"$f":"campeonato!AP18","v":0},{"$f":"campeonato!B14","v":"F"},{"$f":"campeonato!A14","v":6},{"$f":"campeonato!AQ18","v":0},{"$f":"campeonato!B14","v":"F"},{"$f":"campeonato!A14","v":6},{"$f":"campeonato!AR18","v":0},18]
[{"$f":"lista_alunos!H18","v":"I"},9,{"$f":"campeonato!AO19","v":0},{"$f":"campeonato!B17","v":"I"},{"$f":"campeonato!A17","v":9},{"$f":"campeonato!AP19","v":0},{"$f":"campeonato!B17","v":"I"},{"$f":"campeonato!A17","v":9},{"$f":"campeonato!AQ19","v":0},{"$f":"campeonato!B17","v":"I"},{"$f":"campeonato!A17","v":9},{"$f":"campeonato!AR19","v":0},27]
[{"$f":"lista_alunos!H35","v":0},26,{"$f":"campeonato!AO20","v":0},{"$f":"campeonato!B34","v":0},{"$f":"campeonato!A34","v":26},{"$f":"campeonato!AP20","v":0},{"$f":"campeonato!B34","v":0},{"$f":"campeonato!A34","v":26},{"$f":"campeonato!AQ20","v":0},{"$f":"campeonato!B34","v":0},{"$f":"campeonato!A34","v":26},{"$f":"campeonato!AR20","v":0},78]
[{"$f":"lista_alunos!H26","v":0},17,{"$f":"campeonato!AO21","v":0},{"$f":"campeonato!B25","v":0},{"$f":"campeonato!A25","v":17},{"$f":"campeonato!AP21","v":0},{"$f":"campeonato!B25","v":0},{"$f":"campeonato!A25","v":17},{"$f":"campeonato!AQ21","v":0},{"$f":"campeonato!B25","v":0},{"$f":"campeonato!A25","v":17},{"$f":"campeonato!AR21","v":0},51]
[{"$f":"lista_alunos!H12","v":"C"},3,{"$f":"campeonato!AO22","v":0},{"$f":"campeonato!B11","v":"C"},{"$f":"campeonato!A11","v":3},{"$f":"campeonato!AP22","v":0},{"$f":"campeonato!B11","v":"C"},{"$f":"campeonato!A11","v":3},{"$f":"campeonato!AQ22","v":0},{"$f":"campeonato!B11","v":"C"},{"$f":"campeonato!A11","v":3},{"$f":"campeonato!AR22","v":0},9]
[{"$f":"lista_alunos!H10","v":"a"},1,{"$f":"campeonato!AO23","v":0},{"$f":"campeonato!B9","v":"a"},{"$f":"campeonato!A9","v":1},{"$f":"campeonato!AP23","v":0},{"$f":"campeonato!B9","v":"a"},{"$f":"campeonato!A9","v":1},{"$f":"campeonato!AQ23","v":0},{"$f":"campeonato!B9","v":"a"},{"$f":"campeonato!A9","v":1},{"$f":"campeonato!AR23","v":0},3]
[{"$f":"lista_alunos!H14","v":"E"},5,{"$f":"campeonato!AO24","v":0},{"$f":"campeonato!B13","v":"E"},{"$f":"campeonato!A13","v":5},{"$f":"campeonato!AP24","v":0},{"$f":"campeonato!B13","v":"E"},{"$f":"campeonato!A13","v":5},{"$f":"campeonato!AQ24","v":0},{"$f":"campeonato!B13","v":"E"},{"$f":"campeonato!A13","v":5},{"$f":"campeonato!AR24","v":0},15]
[{"$f":"lista_alunos!H11","v":"B"},2,{"$f":"campeonato!AO25","v":0},{"$f":"campeonato!B10","v":"B"},{"$f":"campeonato!A10","v":2},{"$f":"campeonato!AP25","v":0},{"$f":"campeonato!B10","v":"B"},{"$f":"campeonato!A10","v":2},{"$f":"campeonato!AQ25","v":0},{"$f":"campeonato!B10","v":"B"},{"$f":"campeonato!A10","v":2},{"$f":"campeonato!AR25","v":0},6]
[{"$f":"lista_alunos!H13","v":"D"},4,{"$f":"campeonato!AO26","v":0},{"$f":"campeonato!B12","v":"D"},{"$f":"campeonato!A12","v":4},{"$f":"campeonato!AP26","v":0},{"$f":"campeonato!B12","v":"D"},{"$f":"campeonato!A12","v":4},{"$f":"campeonato!AQ26","v":0},{"$f":"campeonato!B12","v":"D"},{"$f":"campeonato!A12","v":4},{"$f":"campeonato!AR26","v":0},12]
[{"$f":"lista_alunos!H16","v":"G"},7,{"$f":"campeonato!AO27","v":0},{"$f":"campeonato!B15","v":"G"},{"$f":"campeonato!A15","v":7},{"$f":"campeonato!AP27","v":0},{"$f":"campeonato!B15","v":"G"},{"$f":"campeonato!A15","v":7},{"$f":"campeonato!AQ27","v":0},{"$f":"campeonato!B15","v":"G"},{"$f":"campeonato!A15","v":7},{"$f":"campeonato!AR27","v":0},21]
[{"$f":"lista_alunos!H34","v":0},25,{"$f":"campeonato!AO28","v":0},{"$f":"campeonato!B33","v":0},{"$f":"campeonato!A33","v":25},{"$f":"campeonato!AP28","v":0},{"$f":"campeonato!B27","v":0},{"$f":"campeonato!A27","v":19},{"$f":"campeonato!AQ28","v":0},{"$f":"campeonato!B33","v":0},{"$f":"campeonato!A33","v":25},{"$f":"campeonato!AR28","v":0},69]
[{"$f":"lista_alunos!H28","v":0},19,{"$f":"campeonato!AO29","v":0},{"$f":"campeonato!B32","v":0},{"$f":"campeonato!A32","v":24},{"$f":"campeonato!AP29","v":0},{"$f":"campeonato!B28","v":0},{"$f":"campeonato!A28","v":20},{"$f":"campeonato!AQ29","v":0},{"$f":"campeonato!B32","v":0},{"$f":"campeonato!A32","v":24},{"$f":"campeonato!AR29","v":0},68]
[{"$f":"lista_alunos!H29","v":0},20,{"$f":"campeonato!AO30","v":0},{"$f":"campeonato!B31","v":0},{"$f":"campeonato!A31","v":23},{"$f":"campeonato!AP30","v":0},{"$f":"campeonato!B29","v":0},{"$f":"campeonato!A29","v":21},{"$f":"campeonato!AQ30","v":0},{"$f":"campeonato!B31","v":0},{"$f":"campeonato!A31","v":23},{"$f":"campeonato!AR30","v":0},67]
[{"$f":"lista_alunos!H30","v":0},21,{"$f":"campeonato!AO31","v":0},{"$f":"campeonato!B30","v":0},{"$f":"campeonato!A30","v":22},{"$f":"campeonato!AP31","v":0},{"$f":"campeonato!B30","v":0},{"$f":"campeonato!A30","v":22},{"$f":"campeonato!AQ31","v":0},{"$f":"campeonato!B30","v":0},{"$f":"campeonato!A30","v":22},{"$f":"campeonato!AR31","v":0},66]
[{"$f":"lista_alunos!H31","v":0},22,{"$f":"campeonato!AO32","v":0},{"$f":"campeonato!B29","v":0},{"$f":"campeonato!A29","v":21},{"$f":"campeonato!AP32","v":0},{"$f":"campeonato!B31","v":0},{"$f":"campeonato!A31","v":23},{"$f":"campeonato!AQ32","v":0},{"$f":"campeonato!B29","v":0},{"$f":"campeonato!A29","v":21},{"$f":"campeonato!AR32","v":0},65]
[{"$f":"lista_alunos!H32","v":0},23,{"$f":"campeonato!AO33","v":0},{"$f":"campeonato!B28","v":0},{"$f":"campeonato!A28","v":20},{"$f":"campeonato!AP33","v":0},{"$f":"campeonato!B32","v":0},{"$f":"campeonato!A32","v":24},{"$f":"campeonato!AQ33","v":0},{"$f":"campeonato!B28","v":0},{"$f":"campeonato!A28","v":20},{"$f":"campeonato!AR33","v":0},64]
[{"$f":"lista_alunos!H33","v":0},24,{"$f":"campeonato!AO34","v":0},{"$f":"campeonato!B27","v":0},{"$f":"campeonato!A27","v":19},{"$f":"campeonato!AP34","v":0},{"$f":"campeonato!B33","v":0},{"$f":"campeonato!A33","v":25},{"$f":"campeonato!AQ34","v":0},{"$f":"campeonato!B27","v":0},{"$f":"campeonato!A27","v":19},{"$f":"campeonato!AR34","v":0},63]
[]
[]
[]
[]
[null,"JOGO 1",null,null,null,null,null,"JOGO 2",null,null,null,null,null,"JOGO 3",null,null,null,null,"JOGO 4"]
[]
[null,null,{"$f":"LARGE(C8:C32,1)","v":0},null,null,null,null,null,{"$f":"LARGE(F8:F32,1)","v":0},null,null,null,null,null,{"$f":"LARGE(I8:I32,1)","v":0},null,null,null,null,{"$f":"LARGE(L8:L32,1)","v":0}]
[null,{"$f":"LARGE(C8:C32,2)","v":0},"1ºLugar",{"$f":"LARGE(C8:C32,3)","v":0},null,null,null,{"$f":"LARGE(F8:F32,2)","v":0},"1ºLugar",{"$f":"LARGE(F8:F32,3)","v":0},null,null,null,{"$f":"LARGE(I8:I32,2)","v":0},"1ºLugar",{"$f":"LARGE(I8:I32,3)","v":0},null,null,{"$f":"LARGE(L8:L32,2)","v":0},"1ºLugar",{"$f":"LARGE(L8:L32,3)","v":0}]
[null,"2ºLugar",null,"3ºLugar",null,{"$f":"LARGE(C8:C32,4)","v":0},null,"2ºLugar",null,"3ºLugar",null,{"$f":"LARGE(F8:F32,4)","v":0},null,"2ºLugar",null,"3ºLugar",{"$f":"LARGE(I8:I32,4)","v":0},null,"2ºLugar",null,"3ºLugar",{"$f":"LARGE(L8:L32,4)","v":0}]
[null,null,null,null,"4ºLugar",null,null,null,null,null,"4ºLugar",null,null,null,null,null,"4ºLugar",null,null,null,null,"4ºLugar"]

{"sheet":"maio","index":16,"n_rows":43,"n_cols":22,"rows_kept":43,"cut":false,"hidden":false,"merged":[[42,4,42,5],[42,10,42,11],[37,18,37,22],[1,0,3,11],[5,2,5,12],[37,1,37,6],[37,7,37,12],[37,13,37,17]]}
[]
["Jogos de maio"]
[]
[]
[]
[null,null,"maio"]
["Nome","Ordem","J33","Nome","Ordem","J34","Nome","Ordem","J35","Nome","Ordem","J36","Total"]
[{"$f":"lista_alunos!H27","v":0},18,{"$f":"campeonato!AT9","v":0},{"$f":"campeonato!B26","v":0},{"$f":"campeonato!A26","v":18},{"$f":"campeonato!AU9","v":0},{"$f":"campeonato!B26","v":0},{"$f":"campeonato!A26","v":18},{"$f":"campeonato!AV9","v":0},{"$f":"campeonato!B18","v":"J"},{"$f":"campeonato!A18","v":10},{"$f":"campeonato!AW9","v":3},{"$f":"SUM(C8:L8)","v":49}]
[{"$f":"lista_alunos!H19","v":"J"},10,{"$f":"campeonato!AT10","v":0},{"$f":"campeonato!B18","v":"J"},{"$f":"campeonato!A18","v":10},{"$f":"campeonato!AU10","v":0},{"$f":"campeonato!B18","v":"J"},{"$f":"campeonato!A18","v":10},{"$f":"campeonato!AV10","v":0},{"$f":"campeonato!B26","v":0},{"$f":"campeonato!A26","v":18},{"$f":"campeonato!AW10","v":0},38]
[{"$f":"lista_alunos!H24","v":"P"},15,{"$f":"campeonato!AT11","v":0},{"$f":"campeonato!B23","v":"P"},{"$f":"campeonato!A23","v":15},{"$f":"campeonato!AU11","v":0},{"$f":"campeonato!B23","v":"P"},{"$f":"campeonato!A23","v":15},{"$f":"campeonato!AV11","v":0},{"$f":"campeonato!B23","v":"P"},{"$f":"campeonato!A23","v":15},{"$f":"campeonato!AW11","v":0},45]
[{"$f":"lista_alunos!H23","v":"O"},14,{"$f":"campeonato!AT12","v":0},{"$f":"campeonato!B22","v":"O"},{"$f":"campeonato!A22","v":14},{"$f":"campeonato!AU12","v":0},{"$f":"campeonato!B22","v":"O"},{"$f":"campeonato!A22","v":14},{"$f":"campeonato!AV12","v":0},{"$f":"campeonato!B22","v":"O"},{"$f":"campeonato!A22","v":14},{"$f":"campeonato!AW12","v":8},50]
[{"$f":"lista_alunos!H22","v":"N"},13,{"$f":"campeonato!AT13","v":0},{"$f":"campeonato!B21","v":"N"},{"$f":"campeonato!A21","v":13},{"$f":"campeonato!AU13","v":0},{"$f":"campeonato!B21","v":"N"},{"$f":"campeonato!A21","v":13},{"$f":"campeonato!AV13","v":0},{"$f":"campeonato!B21","v":"N"},{"$f":"campeonato!A21","v":13},{"$f":"campeonato!AW13","v":0},39]
[{"$f":"lista_alunos!H21","v":"M"},12,{"$f":"campeonato!AT14","v":0},{"$f":"campeonato!B20","v":"M"},{"$f":"campeonato!A20","v":12},{"$f":"campeonato!AU14","v":0},{"$f":"campeonato!B20","v":"M"},{"$f":"campeonato!A20","v":12},{"$f":"campeonato!AV14","v":0},{"$f":"campeonato!B20","v":"M"},{"$f":"campeonato!A20","v":12},{"$f":"campeonato!AW14","v":0},36]
[{"$f":"lista_alunos!H20","v":"L"},11,{"$f":"campeonato!AT15","v":0},{"$f":"campeonato!B19","v":"L"},{"$f":"campeonato!A19","v":11},{"$f":"campeonato!AU15","v":0},{"$f":"campeonato!B19","v":"L"},{"$f":"campeonato!A19","v":11},{"$f":"campeonato!AV15","v":0},{"$f":"campeonato!B19","v":"L"},{"$f":"campeonato!A19","v":11},{"$f":"campeonato!AW15","v":0},33]
[{"$f":"lista_alunos!H25","v":0},16,{"$f":"campeonato!AT16","v":0},{"$f":"campeonato!B24","v":0},{"$f":"campeonato!A24","v":16},{"$f":"campeonato!AU16","v":0},{"$f":"campeonato!B24","v":0},{"$f":"campeonato!A24","v":16},{"$f":"campeonato!AV16","v":0},{"$f":"campeonato!B24","v":0},{"$f":"campeonato!A24","v":16},{"$f":"campeonato!AW16","v":0},48]
[{"$f":"lista_alunos!H17","v":"H"},8,{"$f":"campeonato!AT17","v":0},{"$f":"campeonato!B16","v":"H"},{"$f":"campeonato!A16","v":8},{"$f":"campeonato!AU17","v":0},{"$f":"campeonato!B16","v":"H"},{"$f":"campeonato!A16","v":8},{"$f":"campeonato!AV17","v":0},{"$f":"campeonato!B16","v":"H"},{"$f":"campeonato!A16","v":8},{"$f":"campeonato!AW17","v":0},24]
[{"$f":"lista_alunos!H15","v":"F"},6,{"$f":"campeonato!AT18","v":0},{"$f":"campeonato!B14","v":"F"},{"$f":"campeonato!A14","v":6},{"$f":"campeonato!AU18","v":0},{"$f":"campeonato!B14","v":"F"},{"$f":"campeonato!A14","v":6},{"$f":"campeonato!AV18","v":0},{"$f":"campeonato!B14","v":"F"},{"$f":"campeonato!A14","v":6},{"$f":"campeonato!AW18","v":0},18]
[{"$f":"lista_alunos!H18","v":"I"},9,{"$f":"campeonato!AT19","v":0},{"$f":"campeonato!B17","v":"I"},{"$f":"campeonato!A17","v":9},{"$f":"campeonato!AU19","v":0},{"$f":"campeonato!B17","v":"I"},{"$f":"campeonato!A17","v":9},{"$f":"campeonato!AV19","v":0},{"$f":"campeonato!B17","v":"I"},{"$f":"campeonato!A17","v":9},{"$f":"campeonato!AW19","v":0},27]
[{"$f":"lista_alunos!H35","v":0},26,{"$f":"campeonato!AT20","v":0},{"$f":"campeonato!B34","v":0},{"$f":"campeonato!A34","v":26},{"$f":"campeonato!AU20","v":0},{"$f":"campeonato!B34","v":0},{"$f":"campeonato!A34","v":26},{"$f":"campeonato!AV20","v":0},{"$f":"campeonato!B34","v":0},{"$f":"campeonato!A34","v":26},{"$f":"campeonato!AW20","v":0},78]
[{"$f":"lista_alunos!H26","v":0},17,{"$f":"campeonato!AT21","v":0},{"$f":"campeonato!B25","v":0},{"$f":"campeonato!A25","v":17},{"$f":"campeonato!AU21","v":0},{"$f":"campeonato!B25","v":0},{"$f":"campeonato!A25","v":17},{"$f":"campeonato!AV21","v":0},{"$f":"campeonato!B25","v":0},{"$f":"campeonato!A25","v":17},{"$f":"campeonato!AW21","v":0},51]
[{"$f":"lista_alunos!H12","v":"C"},3,{"$f":"campeonato!AT22","v":0},{"$f":"campeonato!B11","v":"C"},{"$f":"campeonato!A11","v":3},{"$f":"campeonato!AU22","v":0},{"$f":"campeonato!B11","v":"C"},{"$f":"campeonato!A11","v":3},{"$f":"campeonato!AV22","v":0},{"$f":"campeonato!B11","v":"C"},{"$f":"campeonato!A11","v":3},{"$f":"campeonato!AW22","v":0},9]
[{"$f":"lista_alunos!H10","v":"a"},1,{"$f":"campeonato!AT23","v":0},{"$f":"campeonato!B9","v":"a"},{"$f":"campeonato!A9","v":1},{"$f":"campeonato!AU23","v":0},{"$f":"campeonato!B9","v":"a"},{"$f":"campeonato!A9","v":1},{"$f":"campeonato!AV23","v":0},{"$f":"campeonato!B9","v":"a"},{"$f":"campeonato!A9","v":1},{"$f":"campeonato!AW23","v":0},3]
[{"$f":"lista_alunos!H14","v":"E"},5,{"$f":"campeonato!AT24","v":0},{"$f":"campeonato!B13","v":"E"},{"$f":"campeonato!A13","v":5},{"$f":"campeonato!AU24","v":0},{"$f":"campeonato!B13","v":"E"},{"$f":"campeonato!A13","v":5},{"$f":"campeonato!AV24","v":0},{"$f":"campeonato!B13","v":"E"},{"$f":"campeonato!A13","v":5},{"$f":"campeonato!AW24","v":0},15]
[{"$f":"lista_alunos!H11","v":"B"},2,{"$f":"campeonato!AT25","v":0},{"$f":"campeonato!B10","v":"B"},{"$f":"campeonato!A10","v":2},{"$f":"campeonato!AU25","v":0},{"$f":"campeonato!B10","v":"B"},{"$f":"campeonato!A10","v":2},{"$f":"campeonato!AV25","v":0},{"$f":"campeonato!B10","v":"B"},{"$f":"campeonato!A10","v":2},{"$f":"campeonato!AW25","v":0},6]
[{"$f":"lista_alunos!H13","v":"D"},4,{"$f":"campeonato!AT26","v":0},{"$f":"campeonato!B12","v":"D"},{"$f":"campeonato!A12","v":4},{"$f":"campeonato!AU26","v":0},{"$f":"campeonato!B12","v":"D"},{"$f":"campeonato!A12","v":4},{"$f":"campeonato!AV26","v":0},{"$f":"campeonato!B12","v":"D"},{"$f":"campeonato!A12","v":4},{"$f":"campeonato!AW26","v":0},12]
[{"$f":"lista_alunos!H16","v":"G"},7,{"$f":"campeonato!AT27","v":0},{"$f":"campeonato!B15","v":"G"},{"$f":"campeonato!A15","v":7},{"$f":"campeonato!AU27","v":0},{"$f":"campeonato!B15","v":"G"},{"$f":"campeonato!A15","v":7},{"$f":"campeonato!AV27","v":0},{"$f":"campeonato!B15","v":"G"},{"$f":"campeonato!A15","v":7},{"$f":"campeonato!AW27","v":0},21]
[{"$f":"lista_alunos!H34","v":0},25,{"$f":"campeonato!AT28","v":0},{"$f":"campeonato!B33","v":0},{"$f":"campeonato!A33","v":25},{"$f":"campeonato!AU28","v":0},{"$f":"campeonato!B27","v":0},{"$f":"campeonato!A27","v":19},{"$f":"campeonato!AV28","v":0},{"$f":"campeonato!B33","v":0},{"$f":"campeonato!A33","v":25},{"$f":"campeonato!AW28","v":0},69]
[{"$f":"lista_alunos!H28","v":0},19,{"$f":"campeonato!AT29","v":0},{"$f":"campeonato!B32","v":0},{"$f":"campeonato!A32","v":24},{"$f":"campeonato!AU29","v":0},{"$f":"campeonato!B28","v":0},{"$f":"campeonato!A28","v":20},{"$f":"campeonato!AV29","v":0},{"$f":"campeonato!B32","v":0},{"$f":"campeonato!A32","v":24},{"$f":"campeonato!AW29","v":0},68]
[{"$f":"lista_alunos!H29","v":0},20,{"$f":"campeonato!AT30","v":0},{"$f":"campeonato!B31","v":0},{"$f":"campeonato!A31","v":23},{"$f":"campeonato!AU30","v":0},{"$f":"campeonato!B29","v":0},{"$f":"campeonato!A29","v":21},{"$f":"campeonato!AV30","v":0},{"$f":"campeonato!B31","v":0},{"$f":"campeonato!A31","v":23},{"$f":"campeonato!AW30","v":0},67]
[{"$f":"lista_alunos!H30","v":0},21,{"$f":"campeonato!AT31","v":0},{"$f":"campeonato!B30","v":0},{"$f":"campeonato!A30","v":22},{"$f":"campeonato!AU31","v":0},{"$f":"campeonato!B30","v":0},{"$f":"campeonato!A30","v":22},{"$f":"campeonato!AV31","v":0},{"$f":"campeonato!B30","v":0},{"$f":"campeonato!A30","v":22},{"$f":"campeonato!AW31","v":0},66]
[{"$f":"lista_alunos!H31","v":0},22,{"$f":"campeonato!AT32","v":0},{"$f":"campeonato!B29","v":0},{"$f":"campeonato!A29","v":21},{"$f":"campeonato!AU32","v":0},{"$f":"campeonato!B31","v":0},{"$f":"campeonato!A31","v":23},{"$f":"campeonato!AV32","v":0},{"$f":"campeonato!B29","v":0},{"$f":"campeonato!A29","v":21},{"$f":"campeonato!AW32","v":0},65]
[{"$f":"lista_alunos!H32","v":0},23,{"$f":"campeonato!AT33","v":0},{"$f":"campeonato!B28","v":0},{"$f":"campeonato!A28","v":20},{"$f":"campeonato!AU33","v":0},{"$f":"campeonato!B32","v":0},{"$f":"campeonato!A32","v":24},{"$f":"campeonato!AV33","v":0},{"$f":"campeonato!B28","v":0},{"$f":"campeonato!A28","v":20},{"$f":"campeonato!AW33","v":0},64]
[{"$f":"lista_alunos!H33","v":0},24,{"$f":"campeonato!AT34","v":0},{"$f":"campeonato!B27","v":0},{"$f":"campeonato!A27","v":19},{"$f":"campeonato!AU34","v":0},{"$f":"campeonato!B33","v":0},{"$f":"campeonato!A33","v":25},{"$f":"campeonato!AV34","v":0},{"$f":"campeonato!B27","v":0},{"$f":"campeonato!A27","v":19},{"$f":"campeonato!AW34","v":0},63]
[]
[]
[]
[]
[null,"JOGO 1",null,null,null,null,null,"JOGO 2",null,null,null,null,null,"JOGO 3",null,null,null,null,"JOGO 4"]
[]
[null,null,{"$f":"LARGE(C8:C32,1)","v":0},null,null,null,null,null,{"$f":"LARGE(F8:F32,1)","v":0},null,null,null,null,null,{"$f":"LARGE(I8:I32,1)","v":0},null,null,null,null,{"$f":"LARGE(L8:L32,1)","v":8}]
[null,{"$f":"LARGE(C8:C32,2)","v":0},"1ºLugar",{"$f":"LARGE(C8:C32,3)","v":0},null,null,null,{"$f":"LARGE(F8:F32,2)","v":0},"1ºLugar",{"$f":"LARGE(F8:F32,3)","v":0},null,null,null,{"$f":"LARGE(I8:I32,2)","v":0},"1ºLugar",{"$f":"LARGE(I8:I32,3)","v":0},null,null,{"$f":"LARGE(L8:L32,2)","v":3},"1ºLugar",{"$f":"LARGE(L8:L32,3)","v":0}]
[null,"2ºLugar",null,"3ºLugar",null,{"$f":"LARGE(C8:C32,4)","v":0},null,"2ºLugar",null,"3ºLugar",null,{"$f":"LARGE(F8:F32,4)","v":0},null,"2ºLugar",null,"3ºLugar",{"$f":"LARGE(I8:I32,4)","v":0},null,"2ºLugar",null,"3ºLugar",{"$f":"LARGE(L8:L32,4)","v":0}]
[null,null,null,null,"4ºLugar",null,null,null,null,null,"4ºLugar",null,null,null,null,null,"4ºLugar",null,null,null,null,"4ºLugar"]

{"sheet":"junho","index":17,"n_rows":43,"n_cols":22,"rows_kept":43,"cut":false,"hidden":false,"merged":[[42,4,42,5],[42,10,42,11],[37,18,37,22],[1,0,3,11],[5,2,5,12],[37,1,37,6],[37,7,37,12],[37,13,37,17]]}
[]
["Jogos de junho"]
[]
[]
[]
[null,null,"junho"]
["Nome","Ordem","J37","Nome","Ordem","J38","Nome","Ordem","J39","Nome","Ordem","J40","Total"]
[{"$f":"lista_alunos!H35","v":0},26,{"$f":"campeonato!AY9","v":0},{"$f":"campeonato!B19","v":"L"},{"$f":"campeonato!A19","v":11},{"$f":"campeonato!AZ9","v":1},{"$f":"campeonato!B26","v":0},{"$f":"campeonato!A26","v":18},{"$f":"campeonato!BA9","v":4},{"$f":"campeonato!B26","v":0},{"$f":"campeonato!A26","v":18},{"$f":"campeonato!BB9","v":0},{"$f":"SUM(C8:L8)","v":52}]
[{"$f":"lista_alunos!H34","v":0},25,{"$f":"campeonato!AY10","v":0},{"$f":"campeonato!B26","v":0},{"$f":"campeonato!A26","v":18},{"$f":"campeonato!AZ10","v":0},{"$f":"campeonato!B18","v":"J"},{"$f":"campeonato!A18","v":10},{"$f":"campeonato!BA10","v":0},{"$f":"campeonato!B18","v":"J"},{"$f":"campeonato!A18","v":10},{"$f":"campeonato!BB10","v":0},38]
[{"$f":"lista_alunos!H33","v":0},24,{"$f":"campeonato!AY11","v":0},{"$f":"campeonato!B18","v":"J"},{"$f":"campeonato!A18","v":10},{"$f":"campeonato!AZ11","v":0},{"$f":"campeonato!B23","v":"P"},{"$f":"campeonato!A23","v":15},{"$f":"campeonato!BA11","v":0},{"$f":"campeonato!B23","v":"P"},{"$f":"campeonato!A23","v":15},{"$f":"campeonato!BB11","v":0},40]
[{"$f":"lista_alunos!H32","v":0},23,{"$f":"campeonato!AY12","v":0},{"$f":"campeonato!B23","v":"P"},{"$f":"campeonato!A23","v":15},{"$f":"campeonato!AZ12","v":0},{"$f":"campeonato!B22","v":"O"},{"$f":"campeonato!A22","v":14},{"$f":"campeonato!BA12","v":0},{"$f":"campeonato!B22","v":"O"},{"$f":"campeonato!A22","v":14},{"$f":"campeonato!BB12","v":0},43]
[{"$f":"lista_alunos!H31","v":0},22,{"$f":"campeonato!AY13","v":0},{"$f":"campeonato!B22","v":"O"},{"$f":"campeonato!A22","v":14},{"$f":"campeonato!AZ13","v":0},{"$f":"campeonato!B21","v":"N"},{"$f":"campeonato!A21","v":13},{"$f":"campeonato!BA13","v":0},{"$f":"campeonato!B21","v":"N"},{"$f":"campeonato!A21","v":13},{"$f":"campeonato!BB13","v":0},40]
[{"$f":"lista_alunos!H30","v":0},21,{"$f":"campeonato!AY14","v":0},{"$f":"campeonato!B21","v":"N"},{"$f":"campeonato!A21","v":13},{"$f":"campeonato!AZ14","v":0},{"$f":"campeonato!B20","v":"M"},{"$f":"campeonato!A20","v":12},{"$f":"campeonato!BA14","v":0},{"$f":"campeonato!B20","v":"M"},{"$f":"campeonato!A20","v":12},{"$f":"campeonato!BB14","v":0},37]
[{"$f":"lista_alunos!H29","v":0},20,{"$f":"campeonato!AY15","v":0},{"$f":"campeonato!B20","v":"M"},{"$f":"campeonato!A20","v":12},{"$f":"campeonato!AZ15","v":16},{"$f":"campeonato!B19","v":"L"},{"$f":"campeonato!A19","v":11},{"$f":"campeonato!BA15","v":0},{"$f":"campeonato!B19","v":"L"},{"$f":"campeonato!A19","v":11},{"$f":"campeonato!BB15","v":0},50]
[{"$f":"lista_alunos!H28","v":0},19,{"$f":"campeonato!AY16","v":0},{"$f":"campeonato!B24","v":0},{"$f":"campeonato!A24","v":16},{"$f":"campeonato!AZ16","v":0},{"$f":"campeonato!B24","v":0},{"$f":"campeonato!A24","v":16},{"$f":"campeonato!BA16","v":0},{"$f":"campeonato!B24","v":0},{"$f":"campeonato!A24","v":16},{"$f":"campeonato!BB16","v":0},48]
[{"$f":"lista_alunos!H27","v":0},18,{"$f":"campeonato!AY17","v":0},{"$f":"campeonato!B16","v":"H"},{"$f":"campeonato!A16","v":8},{"$f":"campeonato!AZ17","v":0},{"$f":"campeonato!B16","v":"H"},{"$f":"campeonato!A16","v":8},{"$f":"campeonato!BA17","v":0},{"$f":"campeonato!B16","v":"H"},{"$f":"campeonato!A16","v":8},{"$f":"campeonato!BB17","v":0},24]
[{"$f":"lista_alunos!H26","v":0},17,{"$f":"campeonato!AY18","v":0},{"$f":"campeonato!B14","v":"F"},{"$f":"campeonato!A14","v":6},{"$f":"campeonato!AZ18","v":0},{"$f":"campeonato!B14","v":"F"},{"$f":"campeonato!A14","v":6},{"$f":"campeonato!BA18","v":0},{"$f":"campeonato!B14","v":"F"},{"$f":"campeonato!A14","v":6},{"$f":"campeonato!BB18","v":0},18]
[{"$f":"lista_alunos!H25","v":0},16,{"$f":"campeonato!AY19","v":0},{"$f":"campeonato!B17","v":"I"},{"$f":"campeonato!A17","v":9},{"$f":"campeonato!AZ19","v":0},{"$f":"campeonato!B17","v":"I"},{"$f":"campeonato!A17","v":9},{"$f":"campeonato!BA19","v":0},{"$f":"campeonato!B17","v":"I"},{"$f":"campeonato!A17","v":9},{"$f":"campeonato!BB19","v":0},27]
[{"$f":"lista_alunos!H24","v":"P"},15,{"$f":"campeonato!AY20","v":0},{"$f":"campeonato!B34","v":0},{"$f":"campeonato!A34","v":26},{"$f":"campeonato!AZ20","v":0},{"$f":"campeonato!B34","v":0},{"$f":"campeonato!A34","v":26},{"$f":"campeonato!BA20","v":0},{"$f":"campeonato!B34","v":0},{"$f":"campeonato!A34","v":26},{"$f":"campeonato!BB20","v":0},78]
[{"$f":"lista_alunos!H23","v":"O"},14,{"$f":"campeonato!AY21","v":0},{"$f":"campeonato!B25","v":0},{"$f":"campeonato!A25","v":17},{"$f":"campeonato!AZ21","v":0},{"$f":"campeonato!B25","v":0},{"$f":"campeonato!A25","v":17},{"$f":"campeonato!BA21","v":0},{"$f":"campeonato!B25","v":0},{"$f":"campeonato!A25","v":17},{"$f":"campeonato!BB21","v":0},51]
[{"$f":"lista_alunos!H22","v":"N"},13,{"$f":"campeonato!AY22","v":0},{"$f":"campeonato!B11","v":"C"},{"$f":"campeonato!A11","v":3},{"$f":"campeonato!AZ22","v":0},{"$f":"campeonato!B11","v":"C"},{"$f":"campeonato!A11","v":3},{"$f":"campeonato!BA22","v":0},{"$f":"campeonato!B11","v":"C"},{"$f":"campeonato!A11","v":3},{"$f":"campeonato!BB22","v":0},9]
[{"$f":"lista_alunos!H21","v":"M"},12,{"$f":"campeonato!AY23","v":0},{"$f":"campeonato!B9","v":"a"},{"$f":"campeonato!A9","v":1},{"$f":"campeonato!AZ23","v":0},{"$f":"campeonato!B9","v":"a"},{"$f":"campeonato!A9","v":1},{"$f":"campeonato!BA23","v":0},{"$f":"campeonato!B9","v":"a"},{"$f":"campeonato!A9","v":1},{"$f":"campeonato!BB23","v":0},3]
[{"$f":"lista_alunos!H20","v":"L"},11,{"$f":"campeonato!AY24","v":0},{"$f":"campeonato!B13","v":"E"},{"$f":"campeonato!A13","v":5},{"$f":"campeonato!AZ24","v":0},{"$f":"campeonato!B13","v":"E"},{"$f":"campeonato!A13","v":5},{"$f":"campeonato!BA24","v":0},{"$f":"campeonato!B13","v":"E"},{"$f":"campeonato!A13","v":5},{"$f":"campeonato!BB24","v":0},15]
[{"$f":"lista_alunos!H19","v":"J"},10,{"$f":"campeonato!AY25","v":0},{"$f":"campeonato!B10","v":"B"},{"$f":"campeonato!A10","v":2},{"$f":"campeonato!AZ25","v":0},{"$f":"campeonato!B10","v":"B"},{"$f":"campeonato!A10","v":2},{"$f":"campeonato!BA25","v":0},{"$f":"campeonato!B10","v":"B"},{"$f":"campeonato!A10","v":2},{"$f":"campeonato!BB25","v":0},6]
[{"$f":"lista_alunos!H18","v":"I"},9,{"$f":"campeonato!AY26","v":0},{"$f":"campeonato!B12","v":"D"},{"$f":"campeonato!A12","v":4},{"$f":"campeonato!AZ26","v":0},{"$f":"campeonato!B12","v":"D"},{"$f":"campeonato!A12","v":4},{"$f":"campeonato!BA26","v":0},{"$f":"campeonato!B12","v":"D"},{"$f":"campeonato!A12","v":4},{"$f":"campeonato!BB26","v":0},12]
[{"$f":"lista_alunos!H17","v":"H"},8,{"$f":"campeonato!AY27","v":0},{"$f":"campeonato!B15","v":"G"},{"$f":"campeonato!A15","v":7},{"$f":"campeonato!AZ27","v":0},{"$f":"campeonato!B15","v":"G"},{"$f":"campeonato!A15","v":7},{"$f":"campeonato!BA27","v":0},{"$f":"campeonato!B15","v":"G"},{"$f":"campeonato!A15","v":7},{"$f":"campeonato!BB27","v":0},21]
[{"$f":"lista_alunos!H16","v":"G"},7,{"$f":"campeonato!AY28","v":0},{"$f":"campeonato!B33","v":0},{"$f":"campeonato!A33","v":25},{"$f":"campeonato!AZ28","v":0},{"$f":"campeonato!B27","v":0},{"$f":"campeonato!A27","v":19},{"$f":"campeonato!BA28","v":0},{"$f":"campeonato!B33","v":0},{"$f":"campeonato!A33","v":25},{"$f":"campeonato!BB28","v":0},69]
[{"$f":"lista_alunos!H15","v":"F"},6,{"$f":"campeonato!AY29","v":0},{"$f":"campeonato!B32","v":0},{"$f":"campeonato!A32","v":24},{"$f":"campeonato!AZ29","v":0},{"$f":"campeonato!B28","v":0},{"$f":"campeonato!A28","v":20},{"$f":"campeonato!BA29","v":0},{"$f":"campeonato!B32","v":0},{"$f":"campeonato!A32","v":24},{"$f":"campeonato!BB29","v":0},68]
[{"$f":"lista_alunos!H14","v":"E"},5,{"$f":"campeonato!AY30","v":0},{"$f":"campeonato!B31","v":0},{"$f":"campeonato!A31","v":23},{"$f":"campeonato!AZ30","v":0},{"$f":"campeonato!B29","v":0},{"$f":"campeonato!A29","v":21},{"$f":"campeonato!BA30","v":0},{"$f":"campeonato!B31","v":0},{"$f":"campeonato!A31","v":23},{"$f":"campeonato!BB30","v":0},67]
[{"$f":"lista_alunos!H13","v":"D"},4,{"$f":"campeonato!AY31","v":0},{"$f":"campeonato!B30","v":0},{"$f":"campeonato!A30","v":22},{"$f":"campeonato!AZ31","v":0},{"$f":"campeonato!B30","v":0},{"$f":"campeonato!A30","v":22},{"$f":"campeonato!BA31","v":0},{"$f":"campeonato!B30","v":0},{"$f":"campeonato!A30","v":22},{"$f":"campeonato!BB31","v":0},66]
[{"$f":"lista_alunos!H12","v":"C"},3,{"$f":"campeonato!AY32","v":0},{"$f":"campeonato!B29","v":0},{"$f":"campeonato!A29","v":21},{"$f":"campeonato!AZ32","v":0},{"$f":"campeonato!B31","v":0},{"$f":"campeonato!A31","v":23},{"$f":"campeonato!BA32","v":0},{"$f":"campeonato!B29","v":0},{"$f":"campeonato!A29","v":21},{"$f":"campeonato!BB32","v":0},65]
[{"$f":"lista_alunos!H11","v":"B"},2,{"$f":"campeonato!AY33","v":0},{"$f":"campeonato!B28","v":0},{"$f":"campeonato!A28","v":20},{"$f":"campeonato!AZ33","v":0},{"$f":"campeonato!B32","v":0},{"$f":"campeonato!A32","v":24},{"$f":"campeonato!BA33","v":0},{"$f":"campeonato!B28","v":0},{"$f":"campeonato!A28","v":20},{"$f":"campeonato!BB33","v":0},64]
[{"$f":"lista_alunos!H10","v":"a"},1,{"$f":"campeonato!AY34","v":0},{"$f":"campeonato!B27","v":0},{"$f":"campeonato!A27","v":19},{"$f":"campeonato!AZ34","v":0},{"$f":"campeonato!B33","v":0},{"$f":"campeonato!A33","v":25},{"$f":"campeonato!BA34","v":0},{"$f":"campeonato!B27","v":0},{"$f":"campeonato!A27","v":19},{"$f":"campeonato!BB34","v":0},63]
[]
[]
[]
[]
[null,"JOGO 1",null,null,null,null,null,"JOGO 2",null,null,null,null,null,"JOGO 3",null,null,null,null,"JOGO 4"]
[]
[null,null,{"$f":"LARGE(C8:C32,1)","v":0},null,null,null,null,null,{"$f":"LARGE(F8:F32,1)","v":16},null,null,null,null,null,{"$f":"LARGE(I8:I32,1)","v":4},null,null,null,null,{"$f":"LARGE(L8:L32,1)","v":0}]
[null,{"$f":"LARGE(C8:C32,2)","v":0},"1ºLugar",{"$f":"LARGE(C8:C32,3)","v":0},null,null,null,{"$f":"LARGE(F8:F32,2)","v":1},"1ºLugar",{"$f":"LARGE(F8:F32,3)","v":0},null,null,null,{"$f":"LARGE(I8:I32,2)","v":0},"1ºLugar",{"$f":"LARGE(I8:I32,3)","v":0},null,null,{"$f":"LARGE(L8:L32,2)","v":0},"1ºLugar",{"$f":"LARGE(L8:L32,3)","v":0}]
[null,"2ºLugar",null,"3ºLugar",null,{"$f":"LARGE(C8:C32,4)","v":0},null,"2ºLugar",null,"3ºLugar",null,{"$f":"LARGE(F8:F32,4)","v":0},null,"2ºLugar",null,"3ºLugar",{"$f":"LARGE(I8:I32,4)","v":0},null,"2ºLugar",null,"3ºLugar",{"$f":"LARGE(L8:L32,4)","v":0}]
[null,null,null,null,"4ºLugar",null,null,null,null,null,"4ºLugar",null,null,null,null,null,"4ºLugar",null,null,null,null,"4ºLugar"]

{"sheet":"CLASSIF-PERÍODOS","index":18,"n_rows":85,"n_cols":11,"rows_kept":85,"cut":false,"hidden":false,"merged":[[84,10,85,12],[71,10,72,12],[77,4,78,8],[79,4,79,6],[80,1,80,3],[80,4,81,6],[81,1,83,3],[81,7,81,9],[82,7,83,9],[83,10,83,12],[57,10,58,12],[50,4,51,8],[56,10,56,12],[64,4,65,8],[66,4,66,6],[67,1,67,3],[67,4,68,6],[68,1,70,3],[68,7,68,9],[69,7,70,9],[70,10,70,12],[53,4,54,6],[55,7,56,9],[10,10,10,12],[11,10,11,12],[12,10,12,12],[54,1,56,3],[52,4,52,6],[53,1,53,3],[54,7,54,9],[33,1,33,3],[34,1,34,3],[10,4,10,6],[11,4,11,6],[12,4,12,6],[13,4,13,6],[14,4,14,6],[25,1,25,3],[26,1,26,3],[27,1,27,3],[28,1,28,3],[29,1,29,3],[30,1,30,3],[19,1,19,3],[23,1,23,3],[24,1,24,3],[13,1,13,3],[14,1,14,3],[15,1,15,3],[16,1,16,3],[17,1,17,3],[10,1,10,3],[11,1,11,3],[12,1,12,3],[33,4,33,6],[34,4,34,6],[29,4,29,6],[30,4,30,6],[31,4,31,6],[32,4,32,6],[10,7,10,9],[11,7,11,9],[12,7,12,9],[13,7,13,9],[14,7,14,9],[15,7,15,9],[16,7,16,9],[27,4,27,6],[28,4,28,6],[21,4,21,6],[22,4,22,6],[23,4,23,6],[24,4,24,6],[25,4,25,6],[26,4,26,6],[15,4,15,6],[16,4,16,6],[17,4,17,6],[1,1,3,12],[5,1,6,12],[9,1,9,3],[25,10,25,12],[26,10,26,12],[27,10,27,12],[28,10,28,12],[29,10,29,12],[30,10,30,12],[19,10,19,12],[20,10,20,12],[21,10,21,12],[22,10,22,12],[23,10,23,12],[24,10,24,12],[13,10,13,12],[14,10,14,12],[15,10,15,12],[16,10,16,12],[17,10,17,12],[18,10,18,12],[29,7,29,9],[30,7,30,9],[23,7,23,9],[9,4,9,6],[9,7,9,9],[9,10,9,12],[7,1,8,3],[7,4,8,6],[7,7,8,9],[7,10,8,12],[31,10,31,12],[32,10,32,12],[17,7,17,9],[18,7,18,9],[19,7,19,9],[20,7,20,9],[21,7,21,9],[22,7,22,9],[18,4,18,6],[19,4,19,6],[20,4,20,6],[31,1,31,3],[32,1,32,3],[18,1,18,3],[20,1,20,3],[21,1,21,3],[22,1,22,3],[33,10,33,12],[34,10,34,12],[31,7,31,9],[32,7,32,9],[33,7,33,9],[34,7,34,9],[24,7,24,9],[25,7,25,9],[26,7,26,9],[27,7,27,9],[28,7,28,9]]}
[]
[null,"CLASSIFICAÇÃO POR PERÍODOS ESCOLARES"]
[]
[]
[]
[null,"PERÍODOS ESCOLARES"]
[]
[null,"NOME DO ALUNO",null,null,"1º PERÍODO",null,null,"2º PERÍODO",null,null,"3ºPERÍODO"]
[]
[null,{"$f":"lista_alunos!H10","v":"a"},null,null,{"$f":"campeonato!L75","v":325},null,null,{"$f":"campeonato!O75","v":43},null,null,{"$f":"campeonato!R75","v":8}]
[null,{"$f":"lista_alunos!H11","v":"B"},null,null,{"$f":"campeonato!L76","v":133},null,null,{"$f":"campeonato!O76","v":0},null,null,{"$f":"campeonato!R76","v":0}]
[null,{"$f":"lista_alunos!H12","v":"C"},null,null,{"$f":"campeonato!L77","v":266},null,null,{"$f":"campeonato!O77","v":26},null,null,{"$f":"campeonato!R77","v":0}]
[null,{"$f":"lista_alunos!H13","v":"D"},null,null,{"$f":"campeonato!L78","v":135},null,null,{"$f":"campeonato!O78","v":0},null,null,{"$f":"campeonato!R78","v":8}]
[null,{"$f":"lista_alunos!H14","v":"E"},null,null,{"$f":"campeonato!L79","v":370},null,null,{"$f":"campeonato!O79","v":7},null,null,{"$f":"campeonato!R79","v":0}]
[null,{"$f":"lista_alunos!H15","v":"F"},null,null,{"$f":"campeonato!L80","v":116},null,null,{"$f":"campeonato!O80","v":1},null,null,{"$f":"campeonato!R80","v":0}]
[null,{"$f":"lista_alunos!H16","v":"G"},null,null,{"$f":"campeonato!L81","v":105},null,null,{"$f":"campeonato!O81","v":43},null,null,{"$f":"campeonato!R81","v":16}]
[null,{"$f":"lista_alunos!H17","v":"H"},null,null,{"$f":"campeonato!L82","v":265},null,null,{"$f":"campeonato!O82","v":0},null,null,{"$f":"campeonato!R82","v":0}]
[null,{"$f":"lista_alunos!H18","v":"I"},null,null,{"$f":"campeonato!L83","v":185},null,null,{"$f":"campeonato!O83","v":0},null,null,{"$f":"campeonato!R83","v":0}]
[null,{"$f":"lista_alunos!H19","v":"J"},null,null,{"$f":"campeonato!L84","v":130},null,null,{"$f":"campeonato!O84","v":18},null,null,{"$f":"campeonato!R84","v":0}]
[null,{"$f":"lista_alunos!H20","v":"L"},null,null,{"$f":"campeonato!L85","v":24},null,null,{"$f":"campeonato!O85","v":0},null,null,{"$f":"campeonato!R85","v":0}]
[null,{"$f":"lista_alunos!H21","v":"M"},null,null,{"$f":"campeonato!L86","v":144},null,null,{"$f":"campeonato!O86","v":0},null,null,{"$f":"campeonato!R86","v":0}]
[null,{"$f":"lista_alunos!H22","v":"N"},null,null,{"$f":"campeonato!L87","v":273},null,null,{"$f":"campeonato!O87","v":21},null,null,{"$f":"campeonato!R87","v":0}]
[null,{"$f":"lista_alunos!H23","v":"O"},null,null,{"$f":"campeonato!L88","v":151},null,null,{"$f":"campeonato!O88","v":0},null,null,{"$f":"campeonato!R88","v":0}]
[null,{"$f":"lista_alunos!H24","v":"P"},null,null,{"$f":"campeonato!L89","v":303},null,null,{"$f":"campeonato!O89","v":80},null,null,{"$f":"campeonato!R89","v":0}]
[null,{"$f":"lista_alunos!H25","v":0},null,null,{"$f":"campeonato!L90","v":235},null,null,{"$f":"campeonato!O90","v":0},null,null,{"$f":"campeonato!R90","v":0}]
[null,{"$f":"lista_alunos!H26","v":0},null,null,{"$f":"campeonato!L91","v":203},null,null,{"$f":"campeonato!O91","v":0},null,null,{"$f":"campeonato!R91","v":0}]
[null,{"$f":"lista_alunos!H27","v":0},null,null,{"$f":"campeonato!L92","v":9},null,null,{"$f":"campeonato!O92","v":0},null,null,{"$f":"campeonato!R92","v":0}]
[null,{"$f":"lista_alunos!H28","v":0},null,null,{"$f":"campeonato!L93","v":9},null,null,{"$f":"campeonato!O93","v":0},null,null,{"$f":"campeonato!R93","v":0}]
[null,{"$f":"lista_alunos!H29","v":0},null,null,{"$f":"campeonato!L94","v":9},null,null,{"$f":"campeonato!O94","v":0},null,null,{"$f":"campeonato!R94","v":0}]
[null,{"$f":"lista_alunos!H30","v":0},null,null,{"$f":"campeonato!L95","v":9},null,null,{"$f":"campeonato!O95","v":0},null,null,{"$f":"campeonato!R95","v":0}]
[null,{"$f":"lista_alunos!H31","v":0},null,null,{"$f":"campeonato!L96","v":9},null,null,{"$f":"campeonato!O96","v":0},null,null,{"$f":"campeonato!R96","v":0}]
[null,{"$f":"lista_alunos!H32","v":0},null,null,{"$f":"campeonato!L97","v":9},null,null,{"$f":"campeonato!O97","v":0},null,null,{"$f":"campeonato!R97","v":0}]
[null,{"$f":"lista_alunos!H33","v":0},null,null,{"$f":"campeonato!L98","v":9},null,null,{"$f":"campeonato!O98","v":0},null,null,{"$f":"campeonato!R98","v":0}]
[null,{"$f":"lista_alunos!H34","v":0},null,null,{"$f":"campeonato!L99","v":9},null,null,{"$f":"campeonato!O99","v":0},null,null,{"$f":"campeonato!R99","v":0}]
[null,{"$f":"lista_alunos!H35","v":0},null,null,{"$f":"campeonato!L100","v":108},null,null,{"$f":"campeonato!O100","v":0},null,null,{"$f":"campeonato!R100","v":0}]
[]
[]
[]
[]
[]
[]
[]
[]
[]
[]
[]
[]
[]
[]
[]
[null,null,null,null,"1º Período"]
[]
[null,null,null,null,{"$f":"LARGE(E10:G35,1)","v":370}]
[null,{"$f":"LARGE(E10:G35,2)","v":325},null,null,"1º"]
[null,"2º",null,null,null,null,null,{"$f":"LARGE(E10:G35,3)","v":303}]
[null,null,null,null,null,null,null,"3º"]
[null,null,null,null,null,null,null,null,null,null,{"$f":"LARGE(E10:G35,4)","v":273}]
[null,null,null,null,null,null,null,null,null,null,"4º"]
[]
[]
[]
[]
[]
[]
[null,null,null,null,"2º Período"]
[]
[null,null,null,null,{"$f":"LARGE(H10:J35,1)","v":80}]
[null,{"$f":"LARGE(H10:J35,2)","v":43},null,null,"1º"]
[null,"2º",null,null,null,null,null,{"$f":"LARGE(H10:J35,3)","v":43}]
[null,null,null,null,null,null,null,"3º"]
[null,null,null,null,null,null,null,null,null,null,{"$f":"LARGE(H10:J35,4)","v":26}]
[null,null,null,null,null,null,null,null,null,null,"4º"]
[]
[]
[]
[]
[]
[null,null,null,null,"3º Período"]
[]
[null,null,null,null,{"$f":"LARGE(K10:M35,1)","v":16}]
[null,{"$f":"LARGE(K10:M35,2)","v":8},null,null,"1º"]
[null,"2º",null,null,null,null,null,{"$f":"LARGE(K10:M35,3)","v":8}]
[null,null,null,null,null,null,null,"3º"]
[null,null,null,null,null,null,null,null,null,null,{"$f":"LARGE(K10:M35,4)","v":0}]
[null,null,null,null,null,null,null,null,null,null,"4º"]